BEGIN:VCALENDAR
VERSION:2.0
PRODID:-//EZFacility.com, Inc.//EZL 2.5.5.28621
BEGIN:VEVENT
UID:15989906@ezleagues.ezfacility.com
DTSTAMP:20260424T044245Z
CREATED:20260424T044245Z
DTSTART:20241026T120000Z
DTEND:20241026T140000Z
LOCATION:Legends Ballpark Field 2
CONTACT:
SUMMARY:ASBA - Cherry Hill VS. SJ Ghost
DESCRIPTION:League Name: Halloween Havoc 10u - Fall 2024\nGame Type: Regula
 r\nGame Status: Complete\nHome Team: ASBA - Cherry Hill\nAway Team: SJ Gho
 st\nHome Score: 10\nAway Score: 13
END:VEVENT
BEGIN:VEVENT
UID:15989907@ezleagues.ezfacility.com
DTSTAMP:20260424T044245Z
CREATED:20260424T044245Z
DTSTART:20241026T140000Z
DTEND:20241026T160000Z
LOCATION:Legends Ballpark Field 2
CONTACT:
SUMMARY:Pro Skills 10U VS. ASBA - Cherry Hill
DESCRIPTION:League Name: Halloween Havoc 10u - Fall 2024\nGame Type: Regula
 r\nGame Status: Complete\nHome Team: Pro Skills 10U\nAway Team: ASBA - Che
 rry Hill\nHome Score: 8\nAway Score: 5
END:VEVENT
BEGIN:VEVENT
UID:15989912@ezleagues.ezfacility.com
DTSTAMP:20260424T044245Z
CREATED:20260424T044245Z
DTSTART:20241027T120000Z
DTEND:20241027T140000Z
LOCATION:Legends Ballpark Field 2
CONTACT:
SUMMARY:Klutch Baseball NJ VS. ASBA - Cherry Hill
DESCRIPTION:League Name: Halloween Havoc 10u - Fall 2024\nGame Type: Regula
 r\nGame Status: Complete\nHome Team: Klutch Baseball NJ\nAway Team: ASBA -
  Cherry Hill\nHome Score: 15\nAway Score: 0
END:VEVENT
END:VCALENDAR
