BEGIN:VCALENDAR
VERSION:2.0
PRODID:-//EZFacility.com, Inc.//EZL 2.5.5.28621
BEGIN:VEVENT
UID:15803142@ezleagues.ezfacility.com
DTSTAMP:20260424T062818Z
CREATED:20260424T062818Z
DTSTART:20240706T203000Z
DTEND:20240706T223000Z
LOCATION:Baseball Field 3
CONTACT:
SUMMARY:NY Gothams (8) VS. Rockland Pirates (5)
DESCRIPTION:League Name: Summer '24 Independence Classic - 13U, 7/5-7/7\nGa
 me Type: Regular\nGame Status: Complete\nHome Team: NY Gothams (8)\nAway T
 eam: Rockland Pirates (5)\nHome Score: 0\nAway Score: 13
END:VEVENT
BEGIN:VEVENT
UID:15803143@ezleagues.ezfacility.com
DTSTAMP:20260424T062818Z
CREATED:20260424T062818Z
DTSTART:20240706T223000Z
DTEND:20240707T003000Z
LOCATION:Baseball Field 3
CONTACT:
SUMMARY:NY Gothams (8) VS. Boilermakers - Navy (2)
DESCRIPTION:League Name: Summer '24 Independence Classic - 13U, 7/5-7/7\nGa
 me Type: Regular\nGame Status: Complete\nHome Team: NY Gothams (8)\nAway T
 eam: Boilermakers - Navy (2)\nHome Score: 3\nAway Score: 6
END:VEVENT
BEGIN:VEVENT
UID:15803094@ezleagues.ezfacility.com
DTSTAMP:20260424T062818Z
CREATED:20260424T062818Z
DTSTART:20240707T120000Z
DTEND:20240707T140000Z
LOCATION:Baseball Field 3
CONTACT:
SUMMARY:NY Gothams (8) VS. FS Prime (9)
DESCRIPTION:League Name: Summer '24 Independence Classic - 13U, 7/5-7/7\nGa
 me Type: Regular\nGame Status: Complete\nHome Team: NY Gothams (8)\nAway T
 eam: FS Prime (9)\nHome Score: 6\nAway Score: 10
END:VEVENT
END:VCALENDAR
