BEGIN:VCALENDAR
VERSION:2.0
PRODID:-//EZFacility.com, Inc.//EZL 2.5.5.28621
BEGIN:VEVENT
UID:15803148@ezleagues.ezfacility.com
DTSTAMP:20260426T033639Z
CREATED:20260426T033639Z
DTSTART:20240706T140000Z
DTEND:20240706T160000Z
LOCATION:Baseball Field 1 
CONTACT:
SUMMARY:Thoroughbred Baseball Academy - White (8) VS. KMS Baseball (3)
DESCRIPTION:League Name: Summer '24 Independence Classic - 14U, 7/5-7/7\nGa
 me Type: Regular\nGame Status: Complete\nHome Team: Thoroughbred Baseball 
 Academy - White (8)\nAway Team: KMS Baseball (3)\nHome Score: 0\nAway Scor
 e: 8
END:VEVENT
BEGIN:VEVENT
UID:15803150@ezleagues.ezfacility.com
DTSTAMP:20260426T033639Z
CREATED:20260426T033639Z
DTSTART:20240706T181500Z
DTEND:20240706T201500Z
LOCATION:Baseball Field 1 
CONTACT:
SUMMARY:KMS Baseball (3) VS. Viking Baseball Club (7)
DESCRIPTION:League Name: Summer '24 Independence Classic - 14U, 7/5-7/7\nGa
 me Type: Regular\nGame Status: Complete\nHome Team: KMS Baseball (3)\nAway
  Team: Viking Baseball Club (7)\nHome Score: 5\nAway Score: 4
END:VEVENT
BEGIN:VEVENT
UID:15803106@ezleagues.ezfacility.com
DTSTAMP:20260426T033639Z
CREATED:20260426T033639Z
DTSTART:20240707T181500Z
DTEND:20240707T201500Z
LOCATION:Baseball Field 1 
CONTACT:
SUMMARY:Complete Game of PA (2) VS. KMS Baseball (3)
DESCRIPTION:League Name: Summer '24 Independence Classic - 14U, 7/5-7/7\nGa
 me Type: Regular\nGame Status: Complete\nHome Team: Complete Game of PA (2
 )\nAway Team: KMS Baseball (3)\nHome Score: 1\nAway Score: 11
END:VEVENT
BEGIN:VEVENT
UID:15803108@ezleagues.ezfacility.com
DTSTAMP:20260426T033639Z
CREATED:20260426T033639Z
DTSTART:20240707T223000Z
DTEND:20240708T003000Z
LOCATION:Baseball Field 1 
CONTACT:
SUMMARY:PA Shockers 14U Blue (1) VS. KMS Baseball (3)
DESCRIPTION:League Name: Summer '24 Independence Classic - 14U, 7/5-7/7\nGa
 me Type: Regular\nGame Status: Complete\nHome Team: PA Shockers 14U Blue (
 1)\nAway Team: KMS Baseball (3)\nHome Score: 6\nAway Score: 18
END:VEVENT
END:VCALENDAR
