BEGIN:VCALENDAR
VERSION:2.0
PRODID:-//EZFacility.com, Inc.//EZL 2.5.5.28621
BEGIN:VEVENT
UID:15803348@ezleagues.ezfacility.com
DTSTAMP:20260426T033804Z
CREATED:20260426T033804Z
DTSTART:20240712T035000Z
DTEND:20240712T045000Z
LOCATION:RCF East - Barcelona
CONTACT:
SUMMARY:Ball Kids VS. Puffins FC
DESCRIPTION:League Name: RCF East AL Summer Series 24'- Coed D3 (Th/F)\nGam
 e Type: Regular\nGame Status: Complete\nHome Team: Ball Kids\nAway Team: P
 uffins FC\nHome Score: 5\nAway Score: 6
END:VEVENT
BEGIN:VEVENT
UID:15803364@ezleagues.ezfacility.com
DTSTAMP:20260426T033804Z
CREATED:20260426T033804Z
DTSTART:20240719T041000Z
DTEND:20240719T051000Z
LOCATION:RCF East - Portland
CONTACT:
SUMMARY:Ball Kids VS. Tinders
DESCRIPTION:League Name: RCF East AL Summer Series 24'- Coed D3 (Th/F)\nGam
 e Type: Regular\nGame Status: Complete\nHome Team: Ball Kids\nAway Team: T
 inders\nHome Score: 5\nAway Score: 7
END:VEVENT
BEGIN:VEVENT
UID:15803380@ezleagues.ezfacility.com
DTSTAMP:20260426T033804Z
CREATED:20260426T033804Z
DTSTART:20240726T033000Z
DTEND:20240726T043000Z
LOCATION:RCF East - Rio
CONTACT:
SUMMARY:Ball Kids VS. We'll Always Have Untitled
DESCRIPTION:League Name: RCF East AL Summer Series 24'- Coed D3 (Th/F)\nGam
 e Type: Regular\nGame Status: Complete\nHome Team: Ball Kids\nAway Team: W
 e'll Always Have Untitled\nHome Score: 1\nAway Score: 1
END:VEVENT
BEGIN:VEVENT
UID:15803396@ezleagues.ezfacility.com
DTSTAMP:20260426T033804Z
CREATED:20260426T033804Z
DTSTART:20240802T021000Z
DTEND:20240802T031000Z
LOCATION:RCF East - Portland
CONTACT:
SUMMARY:Quarterlife Crisis VS. Ball Kids
DESCRIPTION:League Name: RCF East AL Summer Series 24'- Coed D3 (Th/F)\nGam
 e Type: Regular\nGame Status: Complete\nHome Team: Quarterlife Crisis\nAwa
 y Team: Ball Kids\nHome Score: 8\nAway Score: 6
END:VEVENT
BEGIN:VEVENT
UID:15803412@ezleagues.ezfacility.com
DTSTAMP:20260426T033804Z
CREATED:20260426T033804Z
DTSTART:20240809T031000Z
DTEND:20240809T041000Z
LOCATION:RCF East - Portland
CONTACT:
SUMMARY:Hazelnut Kickers  VS. Ball Kids
DESCRIPTION:League Name: RCF East AL Summer Series 24'- Coed D3 (Th/F)\nGam
 e Type: Regular\nGame Status: Complete\nHome Team: Hazelnut Kickers \nAway
  Team: Ball Kids\nHome Score: 3\nAway Score: 9
END:VEVENT
BEGIN:VEVENT
UID:15803428@ezleagues.ezfacility.com
DTSTAMP:20260426T033804Z
CREATED:20260426T033804Z
DTSTART:20240816T035000Z
DTEND:20240816T045000Z
LOCATION:RCF East - Barcelona
CONTACT:
SUMMARY:Puffins FC VS. Ball Kids
DESCRIPTION:League Name: RCF East AL Summer Series 24'- Coed D3 (Th/F)\nGam
 e Type: Regular\nGame Status: Complete\nHome Team: Puffins FC\nAway Team: 
 Ball Kids\nHome Score: 4\nAway Score: 2
END:VEVENT
BEGIN:VEVENT
UID:15805797@ezleagues.ezfacility.com
DTSTAMP:20260426T033804Z
CREATED:20260426T033804Z
DTSTART:20240823T043000Z
DTEND:20240823T053000Z
LOCATION:RCF East - Rio
CONTACT:
SUMMARY:Tinders VS. Ball Kids
DESCRIPTION:League Name: RCF East AL Summer Series 24'- Coed D3 (Th/F)\nGam
 e Type: Regular\nGame Status: Complete\nHome Team: Tinders\nAway Team: Bal
 l Kids\nHome Score: 4\nAway Score: 5
END:VEVENT
END:VCALENDAR
