BEGIN:VCALENDAR
VERSION:2.0
PRODID:-//EZFacility.com, Inc.//EZL 2.5.5.28621
BEGIN:VEVENT
UID:15803453@ezleagues.ezfacility.com
DTSTAMP:20260424T203713Z
CREATED:20260424T203713Z
DTSTART:20240718T053000Z
DTEND:20240718T063000Z
LOCATION:RCF East - Rio
CONTACT:
SUMMARY:Bad News Beers VS. Puzzles
DESCRIPTION:League Name: RCF East AL Summer Series 24'- Coed D5 Silver (W/F
 )\nGame Type: Regular\nGame Status: Complete\nHome Team: Bad News Beers\nA
 way Team: Puzzles\nHome Score: 8\nAway Score: 8
END:VEVENT
BEGIN:VEVENT
UID:15803461@ezleagues.ezfacility.com
DTSTAMP:20260424T203713Z
CREATED:20260424T203713Z
DTSTART:20240725T035000Z
DTEND:20240725T045000Z
LOCATION:RCF East - Barcelona
CONTACT:
SUMMARY:Puzzles VS. Voodoo Unleashed\, Summer Redux (limited edition)
DESCRIPTION:League Name: RCF East AL Summer Series 24'- Coed D5 Silver (W/F
 )\nGame Type: Regular\nGame Status: Complete\nHome Team: Puzzles\nAway Tea
 m: Voodoo Unleashed, Summer Redux (limited edition)\nHome Score: 1\nAway S
 core: 8
END:VEVENT
BEGIN:VEVENT
UID:15803469@ezleagues.ezfacility.com
DTSTAMP:20260424T203713Z
CREATED:20260424T203713Z
DTSTART:20240801T025000Z
DTEND:20240801T035000Z
LOCATION:RCF East - Barcelona
CONTACT:
SUMMARY:Puzzles VS. Magic Space Palace
DESCRIPTION:League Name: RCF East AL Summer Series 24'- Coed D5 Silver (W/F
 )\nGame Type: Regular\nGame Status: Complete\nHome Team: Puzzles\nAway Tea
 m: Magic Space Palace\nHome Score: 4\nAway Score: 4
END:VEVENT
BEGIN:VEVENT
UID:15803476@ezleagues.ezfacility.com
DTSTAMP:20260424T203713Z
CREATED:20260424T203713Z
DTSTART:20240808T013000Z
DTEND:20240808T023000Z
LOCATION:RCF East - Rio
CONTACT:
SUMMARY:Puzzles VS. Lifelong Learners 
DESCRIPTION:League Name: RCF East AL Summer Series 24'- Coed D5 Silver (W/F
 )\nGame Type: Regular\nGame Status: Complete\nHome Team: Puzzles\nAway Tea
 m: Lifelong Learners \nHome Score: 4\nAway Score: 3
END:VEVENT
BEGIN:VEVENT
UID:15803483@ezleagues.ezfacility.com
DTSTAMP:20260424T203713Z
CREATED:20260424T203713Z
DTSTART:20240815T051000Z
DTEND:20240815T061000Z
LOCATION:RCF East - Portland
CONTACT:
SUMMARY:Thundercats United VS. Puzzles
DESCRIPTION:League Name: RCF East AL Summer Series 24'- Coed D5 Silver (W/F
 )\nGame Type: Regular\nGame Status: Complete\nHome Team: Thundercats Unite
 d\nAway Team: Puzzles\nHome Score: 4\nAway Score: 4
END:VEVENT
BEGIN:VEVENT
UID:15803480@ezleagues.ezfacility.com
DTSTAMP:20260424T203713Z
CREATED:20260424T203713Z
DTSTART:20240817T015000Z
DTEND:20240817T025000Z
LOCATION:RCF East - Barcelona
CONTACT:
SUMMARY:Raining Champs VS. Puzzles
DESCRIPTION:League Name: RCF East AL Summer Series 24'- Coed D5 Silver (W/F
 )\nGame Type: Regular\nGame Status: Complete\nHome Team: Raining Champs\nA
 way Team: Puzzles\nHome Score: 9\nAway Score: 3
END:VEVENT
BEGIN:VEVENT
UID:15809367@ezleagues.ezfacility.com
DTSTAMP:20260424T203713Z
CREATED:20260424T203713Z
DTSTART:20240822T015000Z
DTEND:20240822T025000Z
LOCATION:RCF East - Barcelona
CONTACT:
SUMMARY:Raining Champs VS. Puzzles
DESCRIPTION:League Name: RCF East AL Summer Series 24'- Coed D5 Silver (W/F
 )\nGame Type: Regular\nGame Status: Complete\nHome Team: Raining Champs\nA
 way Team: Puzzles\nHome Score: 5\nAway Score: 7
END:VEVENT
END:VCALENDAR
