BEGIN:VCALENDAR
VERSION:2.0
PRODID:-//EZFacility.com, Inc.//EZL 2.5.5.28621
BEGIN:VEVENT
UID:15804035@ezleagues.ezfacility.com
DTSTAMP:20260424T044128Z
CREATED:20260424T044128Z
DTSTART:20240711T043000Z
DTEND:20240711T053000Z
LOCATION:RCF East - Rio
CONTACT:
SUMMARY:KFC VS. Rutabaga Supreme
DESCRIPTION:League Name: RCF East AL Summer Series 24'- Coed D5 Bronze (W/F
 )\nGame Type: Regular\nGame Status: Complete\nHome Team: KFC\nAway Team: R
 utabaga Supreme\nHome Score: 5\nAway Score: 3
END:VEVENT
BEGIN:VEVENT
UID:15804045@ezleagues.ezfacility.com
DTSTAMP:20260424T044128Z
CREATED:20260424T044128Z
DTSTART:20240718T035000Z
DTEND:20240718T045000Z
LOCATION:RCF East - Barcelona
CONTACT:
SUMMARY:Rutabaga Supreme VS. Vision Zero Goals
DESCRIPTION:League Name: RCF East AL Summer Series 24'- Coed D5 Bronze (W/F
 )\nGame Type: Regular\nGame Status: Complete\nHome Team: Rutabaga Supreme\
 nAway Team: Vision Zero Goals\nHome Score: 4\nAway Score: 5
END:VEVENT
BEGIN:VEVENT
UID:15804055@ezleagues.ezfacility.com
DTSTAMP:20260424T044128Z
CREATED:20260424T044128Z
DTSTART:20240725T021000Z
DTEND:20240725T031000Z
LOCATION:RCF East - Portland
CONTACT:
SUMMARY:Rutabaga Supreme VS. Party Fowl
DESCRIPTION:League Name: RCF East AL Summer Series 24'- Coed D5 Bronze (W/F
 )\nGame Type: Regular\nGame Status: Complete\nHome Team: Rutabaga Supreme\
 nAway Team: Party Fowl\nHome Score: 2\nAway Score: 4
END:VEVENT
BEGIN:VEVENT
UID:15804064@ezleagues.ezfacility.com
DTSTAMP:20260424T044128Z
CREATED:20260424T044128Z
DTSTART:20240801T035000Z
DTEND:20240801T045000Z
LOCATION:RCF East - Barcelona
CONTACT:
SUMMARY:Turbo Turtles VS. Rutabaga Supreme
DESCRIPTION:League Name: RCF East AL Summer Series 24'- Coed D5 Bronze (W/F
 )\nGame Type: Regular\nGame Status: Complete\nHome Team: Turbo Turtles\nAw
 ay Team: Rutabaga Supreme\nHome Score: 3\nAway Score: 4
END:VEVENT
BEGIN:VEVENT
UID:15804072@ezleagues.ezfacility.com
DTSTAMP:20260424T044128Z
CREATED:20260424T044128Z
DTSTART:20240808T021000Z
DTEND:20240808T031000Z
LOCATION:RCF East - Portland
CONTACT:
SUMMARY:Those Guys VS. Rutabaga Supreme
DESCRIPTION:League Name: RCF East AL Summer Series 24'- Coed D5 Bronze (W/F
 )\nGame Type: Regular\nGame Status: Complete\nHome Team: Those Guys\nAway 
 Team: Rutabaga Supreme\nHome Score: 2\nAway Score: 3
END:VEVENT
BEGIN:VEVENT
UID:15804080@ezleagues.ezfacility.com
DTSTAMP:20260424T044128Z
CREATED:20260424T044128Z
DTSTART:20240815T025000Z
DTEND:20240815T035000Z
LOCATION:RCF East - Barcelona
CONTACT:
SUMMARY:Rutabaga Supreme VS. KFC
DESCRIPTION:League Name: RCF East AL Summer Series 24'- Coed D5 Bronze (W/F
 )\nGame Type: Regular\nGame Status: Complete\nHome Team: Rutabaga Supreme\
 nAway Team: KFC\nHome Score: 4\nAway Score: 4
END:VEVENT
BEGIN:VEVENT
UID:15805820@ezleagues.ezfacility.com
DTSTAMP:20260424T044128Z
CREATED:20260424T044128Z
DTSTART:20240822T013000Z
DTEND:20240822T023000Z
LOCATION:RCF East - Rio
CONTACT:
SUMMARY:Vision Zero Goals VS. Rutabaga Supreme
DESCRIPTION:League Name: RCF East AL Summer Series 24'- Coed D5 Bronze (W/F
 )\nGame Type: Regular\nGame Status: Complete\nHome Team: Vision Zero Goals
 \nAway Team: Rutabaga Supreme\nHome Score: 2\nAway Score: 5
END:VEVENT
END:VCALENDAR
