BEGIN:VCALENDAR
VERSION:2.0
PRODID:-//EZFacility.com, Inc.//EZL 2.5.5.28621
BEGIN:VEVENT
UID:16414965@ezleagues.ezfacility.com
DTSTAMP:20260422T101255Z
CREATED:20260422T101255Z
DTSTART:20250510T000000Z
DTEND:20250510T010000Z
LOCATION:Field 1
CONTACT:
SUMMARY:Team 1 VS. Team 5
DESCRIPTION:League Name: TEST\nGame Type: Regular\nGame Status: Pending\nHo
 me Team: Team 1\nAway Team: Team 5\n
END:VEVENT
BEGIN:VEVENT
UID:16414972@ezleagues.ezfacility.com
DTSTAMP:20260422T101255Z
CREATED:20260422T101255Z
DTSTART:20250517T010000Z
DTEND:20250517T020000Z
LOCATION:Field 1
CONTACT:
SUMMARY:Team 4 VS. Team 5
DESCRIPTION:League Name: TEST\nGame Type: Regular\nGame Status: Pending\nHo
 me Team: Team 4\nAway Team: Team 5\n
END:VEVENT
BEGIN:VEVENT
UID:16414978@ezleagues.ezfacility.com
DTSTAMP:20260422T101255Z
CREATED:20260422T101255Z
DTSTART:20250524T000000Z
DTEND:20250524T010000Z
LOCATION:Field 1
CONTACT:
SUMMARY:Team 3 VS. Team 5
DESCRIPTION:League Name: TEST\nGame Type: Regular\nGame Status: Pending\nHo
 me Team: Team 3\nAway Team: Team 5\n
END:VEVENT
BEGIN:VEVENT
UID:16414981@ezleagues.ezfacility.com
DTSTAMP:20260422T101255Z
CREATED:20260422T101255Z
DTSTART:20250531T000000Z
DTEND:20250531T010000Z
LOCATION:Field 1
CONTACT:
SUMMARY:Team 5 VS. Team 6
DESCRIPTION:League Name: TEST\nGame Type: Regular\nGame Status: Pending\nHo
 me Team: Team 5\nAway Team: Team 6\n
END:VEVENT
BEGIN:VEVENT
UID:16414963@ezleagues.ezfacility.com
DTSTAMP:20260422T101255Z
CREATED:20260422T101255Z
DTSTART:20250606T000000Z
DTEND:20250606T010000Z
LOCATION:Field 2
CONTACT:
SUMMARY:Team 5 VS. Team 2
DESCRIPTION:League Name: TEST\nGame Type: Regular\nGame Status: Pending\nHo
 me Team: Team 5\nAway Team: Team 2\n
END:VEVENT
BEGIN:VEVENT
UID:16414985@ezleagues.ezfacility.com
DTSTAMP:20260422T101255Z
CREATED:20260422T101255Z
DTSTART:20250607T000000Z
DTEND:20250607T010000Z
LOCATION:Field 1
CONTACT:
SUMMARY:Team 2 VS. Team 5
DESCRIPTION:League Name: TEST\nGame Type: Regular\nGame Status: Pending\nHo
 me Team: Team 2\nAway Team: Team 5\n
END:VEVENT
BEGIN:VEVENT
UID:16414987@ezleagues.ezfacility.com
DTSTAMP:20260422T101255Z
CREATED:20260422T101255Z
DTSTART:20250614T000000Z
DTEND:20250614T010000Z
LOCATION:Field 2
CONTACT:
SUMMARY:Team 5 VS. Team 1
DESCRIPTION:League Name: TEST\nGame Type: Regular\nGame Status: Pending\nHo
 me Team: Team 5\nAway Team: Team 1\n
END:VEVENT
BEGIN:VEVENT
UID:16414995@ezleagues.ezfacility.com
DTSTAMP:20260422T101255Z
CREATED:20260422T101255Z
DTSTART:20250621T010000Z
DTEND:20250621T020000Z
LOCATION:Field 1
CONTACT:
SUMMARY:Team 5 VS. Team 4
DESCRIPTION:League Name: TEST\nGame Type: Regular\nGame Status: Pending\nHo
 me Team: Team 5\nAway Team: Team 4\n
END:VEVENT
BEGIN:VEVENT
UID:16415003@ezleagues.ezfacility.com
DTSTAMP:20260422T101255Z
CREATED:20260422T101255Z
DTSTART:20250628T000000Z
DTEND:20250628T010000Z
LOCATION:Field 1
CONTACT:
SUMMARY:Team 5 VS. Team 3
DESCRIPTION:League Name: TEST\nGame Type: Regular\nGame Status: Pending\nHo
 me Team: Team 5\nAway Team: Team 3\n
END:VEVENT
BEGIN:VEVENT
UID:16415008@ezleagues.ezfacility.com
DTSTAMP:20260422T101255Z
CREATED:20260422T101255Z
DTSTART:20250705T000000Z
DTEND:20250705T010000Z
LOCATION:Field 2
CONTACT:
SUMMARY:Team 6 VS. Team 5
DESCRIPTION:League Name: TEST\nGame Type: Regular\nGame Status: Pending\nHo
 me Team: Team 6\nAway Team: Team 5\n
END:VEVENT
END:VCALENDAR
