BEGIN:VCALENDAR
VERSION:2.0
PRODID:-//EZFacility.com, Inc.//EZL 2.5.5.28621
BEGIN:VEVENT
UID:15809274@ezleagues.ezfacility.com
DTSTAMP:20260426T033805Z
CREATED:20260426T033805Z
DTSTART:20240709T030000Z
DTEND:20240709T040000Z
LOCATION:Field 3
CONTACT:
SUMMARY:United FC VS. The Krew
DESCRIPTION:League Name: Coed Soccer - Summer-Fall 2024\nGame Type: Regular
 \nGame Status: Complete\nHome Team: United FC\nAway Team: The Krew\nHome S
 core: 0\nAway Score: 5
END:VEVENT
BEGIN:VEVENT
UID:15809275@ezleagues.ezfacility.com
DTSTAMP:20260426T033805Z
CREATED:20260426T033805Z
DTSTART:20240716T020000Z
DTEND:20240716T030000Z
LOCATION:Field 3
CONTACT:
SUMMARY:Cuervos FC VS. United FC
DESCRIPTION:League Name: Coed Soccer - Summer-Fall 2024\nGame Type: Regular
 \nGame Status: Complete\nHome Team: Cuervos FC\nAway Team: United FC\nHome
  Score: 3\nAway Score: 3
END:VEVENT
BEGIN:VEVENT
UID:15809278@ezleagues.ezfacility.com
DTSTAMP:20260426T033805Z
CREATED:20260426T033805Z
DTSTART:20240723T030000Z
DTEND:20240723T040000Z
LOCATION:Field 3
CONTACT:
SUMMARY:Purple Rain VS. United FC
DESCRIPTION:League Name: Coed Soccer - Summer-Fall 2024\nGame Type: Regular
 \nGame Status: Complete\nHome Team: Purple Rain\nAway Team: United FC\nHom
 e Score: 2\nAway Score: 5
END:VEVENT
BEGIN:VEVENT
UID:15809280@ezleagues.ezfacility.com
DTSTAMP:20260426T033805Z
CREATED:20260426T033805Z
DTSTART:20240730T020000Z
DTEND:20240730T030000Z
LOCATION:Field 3
CONTACT:
SUMMARY:United FC VS. The Krew
DESCRIPTION:League Name: Coed Soccer - Summer-Fall 2024\nGame Type: Regular
 \nGame Status: Complete\nHome Team: United FC\nAway Team: The Krew\nHome S
 core: 4\nAway Score: 8
END:VEVENT
BEGIN:VEVENT
UID:15809281@ezleagues.ezfacility.com
DTSTAMP:20260426T033805Z
CREATED:20260426T033805Z
DTSTART:20240806T030000Z
DTEND:20240806T040000Z
LOCATION:Field 3
CONTACT:
SUMMARY:Cuervos FC VS. United FC
DESCRIPTION:League Name: Coed Soccer - Summer-Fall 2024\nGame Type: Regular
 \nGame Status: Complete\nHome Team: Cuervos FC\nAway Team: United FC\nHome
  Score: 3\nAway Score: 2
END:VEVENT
BEGIN:VEVENT
UID:15809284@ezleagues.ezfacility.com
DTSTAMP:20260426T033805Z
CREATED:20260426T033805Z
DTSTART:20240813T020000Z
DTEND:20240813T030000Z
LOCATION:Field 3
CONTACT:
SUMMARY:United FC VS. Purple Rain
DESCRIPTION:League Name: Coed Soccer - Summer-Fall 2024\nGame Type: Regular
 \nGame Status: Complete\nHome Team: United FC\nAway Team: Purple Rain\nHom
 e Score: 1\nAway Score: 0
END:VEVENT
BEGIN:VEVENT
UID:15809286@ezleagues.ezfacility.com
DTSTAMP:20260426T033805Z
CREATED:20260426T033805Z
DTSTART:20240820T030000Z
DTEND:20240820T040000Z
LOCATION:Field 3
CONTACT:
SUMMARY:The Krew VS. United FC
DESCRIPTION:League Name: Coed Soccer - Summer-Fall 2024\nGame Type: Regular
 \nGame Status: Complete\nHome Team: The Krew\nAway Team: United FC\nHome S
 core: 13\nAway Score: 3
END:VEVENT
BEGIN:VEVENT
UID:15809287@ezleagues.ezfacility.com
DTSTAMP:20260426T033805Z
CREATED:20260426T033805Z
DTSTART:20240827T020000Z
DTEND:20240827T030000Z
LOCATION:Field 3
CONTACT:
SUMMARY:United FC VS. Cuervos FC
DESCRIPTION:League Name: Coed Soccer - Summer-Fall 2024\nGame Type: Regular
 \nGame Status: Complete\nHome Team: United FC\nAway Team: Cuervos FC\nHome
  Score: 3\nAway Score: 1
END:VEVENT
BEGIN:VEVENT
UID:15809292@ezleagues.ezfacility.com
DTSTAMP:20260426T033805Z
CREATED:20260426T033805Z
DTSTART:20240910T020000Z
DTEND:20240910T030000Z
LOCATION:Field 3
CONTACT:
SUMMARY:The Krew VS. United FC
DESCRIPTION:League Name: Coed Soccer - Summer-Fall 2024\nGame Type: Regular
 \nGame Status: Complete\nHome Team: The Krew\nAway Team: United FC\nHome S
 core: 3\nAway Score: 1
END:VEVENT
BEGIN:VEVENT
UID:15809290@ezleagues.ezfacility.com
DTSTAMP:20260426T033805Z
CREATED:20260426T033805Z
DTSTART:20240917T030000Z
DTEND:20240917T040000Z
LOCATION:Field 3
CONTACT:
SUMMARY:United FC VS. Purple Rain
DESCRIPTION:League Name: Coed Soccer - Summer-Fall 2024\nGame Type: Regular
 \nGame Status: Complete\nHome Team: United FC\nAway Team: Purple Rain\nHom
 e Score: 3\nAway Score: 0
END:VEVENT
BEGIN:VEVENT
UID:15884457@ezleagues.ezfacility.com
DTSTAMP:20260426T033805Z
CREATED:20260426T033805Z
DTSTART:20240924T020000Z
DTEND:20240924T030000Z
LOCATION:Field 3
CONTACT:
SUMMARY:Cuervos FC VS. United FC
DESCRIPTION:League Name: Coed Soccer - Summer-Fall 2024\nGame Type: Postsea
 son\nGame Status: Complete\nHome Team: Cuervos FC\nAway Team: United FC\nH
 ome Score: 5\nAway Score: 4
END:VEVENT
END:VCALENDAR
