BEGIN:VCALENDAR
VERSION:2.0
PRODID:-//EZFacility.com, Inc.//EZL 2.5.5.28621
BEGIN:VEVENT
UID:15835275@ezleagues.ezfacility.com
DTSTAMP:20260421T172130Z
CREATED:20260421T172130Z
DTSTART:20240725T230000Z
DTEND:20240726T000000Z
LOCATION:Jessup Premier Field #1
CONTACT:
SUMMARY:La Bandita VS. Flamengo
DESCRIPTION:League Name: Thurs Mens Open 1st div \nGame Type: Regular\nGame
  Status: Complete\nHome Team: La Bandita\nAway Team: Flamengo\nHome Score:
  6\nAway Score: 3
END:VEVENT
BEGIN:VEVENT
UID:15835280@ezleagues.ezfacility.com
DTSTAMP:20260421T172130Z
CREATED:20260421T172130Z
DTSTART:20240802T010000Z
DTEND:20240802T020000Z
LOCATION:Jessup Premier Field #2
CONTACT:
SUMMARY:Flamengo VS. Juvenil USA
DESCRIPTION:League Name: Thurs Mens Open 1st div \nGame Type: Regular\nGame
  Status: Complete\nHome Team: Flamengo\nAway Team: Juvenil USA\nHome Score
 : 3\nAway Score: 3
END:VEVENT
BEGIN:VEVENT
UID:15835285@ezleagues.ezfacility.com
DTSTAMP:20260421T172130Z
CREATED:20260421T172130Z
DTSTART:20240809T010000Z
DTEND:20240809T020000Z
LOCATION:Jessup Premier Field #2
CONTACT:
SUMMARY:Flamengo VS. Blumpkins
DESCRIPTION:League Name: Thurs Mens Open 1st div \nGame Type: Regular\nGame
  Status: Complete\nHome Team: Flamengo\nAway Team: Blumpkins\nHome Score: 
 7\nAway Score: 1
END:VEVENT
BEGIN:VEVENT
UID:15835290@ezleagues.ezfacility.com
DTSTAMP:20260421T172130Z
CREATED:20260421T172130Z
DTSTART:20240816T010000Z
DTEND:20240816T020000Z
LOCATION:Jessup Premier Field #1
CONTACT:
SUMMARY:Flamengo VS. Heads Up
DESCRIPTION:League Name: Thurs Mens Open 1st div \nGame Type: Regular\nGame
  Status: Complete\nHome Team: Flamengo\nAway Team: Heads Up\nHome Score: 4
 \nAway Score: 1
END:VEVENT
BEGIN:VEVENT
UID:15835294@ezleagues.ezfacility.com
DTSTAMP:20260421T172130Z
CREATED:20260421T172130Z
DTSTART:20240822T230000Z
DTEND:20240823T000000Z
LOCATION:Jessup Premier Field #1
CONTACT:
SUMMARY:Lil Yo's VS. Flamengo
DESCRIPTION:League Name: Thurs Mens Open 1st div \nGame Type: Regular\nGame
  Status: Complete\nHome Team: Lil Yo's\nAway Team: Flamengo\nHome Score: 3
 \nAway Score: 1
END:VEVENT
BEGIN:VEVENT
UID:15835297@ezleagues.ezfacility.com
DTSTAMP:20260421T172130Z
CREATED:20260421T172130Z
DTSTART:20240830T020000Z
DTEND:20240830T030000Z
LOCATION:Jessup Premier Field #1
CONTACT:
SUMMARY:Phoenix VS. Flamengo
DESCRIPTION:League Name: Thurs Mens Open 1st div \nGame Type: Regular\nGame
  Status: Complete\nHome Team: Phoenix\nAway Team: Flamengo\nHome Score: 0\
 nAway Score: 1
END:VEVENT
BEGIN:VEVENT
UID:15835300@ezleagues.ezfacility.com
DTSTAMP:20260421T172130Z
CREATED:20260421T172130Z
DTSTART:20240906T020000Z
DTEND:20240906T030000Z
LOCATION:Jessup Premier Field #1
CONTACT:
SUMMARY:Real Espana VS. Flamengo
DESCRIPTION:League Name: Thurs Mens Open 1st div \nGame Type: Regular\nGame
  Status: Complete\nHome Team: Real Espana\nAway Team: Flamengo\nHome Score
 : 0\nAway Score: 3
END:VEVENT
BEGIN:VEVENT
UID:15898124@ezleagues.ezfacility.com
DTSTAMP:20260421T172130Z
CREATED:20260421T172130Z
DTSTART:20240913T010000Z
DTEND:20240913T014800Z
LOCATION:Jessup Premier Field #1
CONTACT:
SUMMARY:Lil Yo's VS. Flamengo
DESCRIPTION:League Name: Thurs Mens Open 1st div \nGame Type: Regular\nGame
  Status: Complete\nHome Team: Lil Yo's\nAway Team: Flamengo\nHome Score: 2
 \nAway Score: 3
END:VEVENT
BEGIN:VEVENT
UID:15909243@ezleagues.ezfacility.com
DTSTAMP:20260421T172130Z
CREATED:20260421T172130Z
DTSTART:20240920T010000Z
DTEND:20240920T020000Z
LOCATION:Jessup Premier Field #1
CONTACT:
SUMMARY:Juvenil USA VS. Flamengo
DESCRIPTION:League Name: Thurs Mens Open 1st div \nGame Type: Regular\nGame
  Status: Complete\nHome Team: Juvenil USA\nAway Team: Flamengo\nHome Score
 : 6\nAway Score: 3
END:VEVENT
END:VCALENDAR
