BEGIN:VCALENDAR
VERSION:2.0
PRODID:-//EZFacility.com, Inc.//EZL 2.5.5.28621
BEGIN:VEVENT
UID:15836440@ezleagues.ezfacility.com
DTSTAMP:20260425T205442Z
CREATED:20260425T205442Z
DTSTART:20240808T022000Z
DTEND:20240808T031000Z
LOCATION:Jessup Premier Field #1
CONTACT:
SUMMARY:Los Leones VS. Real Juventud
DESCRIPTION:League Name: Wed Mens Open 3rd div \nGame Type: Regular\nGame S
 tatus: Complete\nHome Team: Los Leones\nAway Team: Real Juventud\nHome Sco
 re: 0\nAway Score: 3
END:VEVENT
BEGIN:VEVENT
UID:15836452@ezleagues.ezfacility.com
DTSTAMP:20260425T205442Z
CREATED:20260425T205442Z
DTSTART:20240815T022000Z
DTEND:20240815T031000Z
LOCATION:Jessup Premier Field #2
CONTACT:
SUMMARY:Real Juventud VS. El aguila
DESCRIPTION:League Name: Wed Mens Open 3rd div \nGame Type: Regular\nGame S
 tatus: Complete\nHome Team: Real Juventud\nAway Team: El aguila\nHome Scor
 e: 2\nAway Score: 2
END:VEVENT
BEGIN:VEVENT
UID:15836464@ezleagues.ezfacility.com
DTSTAMP:20260425T205442Z
CREATED:20260425T205442Z
DTSTART:20240822T022000Z
DTEND:20240822T031000Z
LOCATION:Jessup Premier Field #2
CONTACT:
SUMMARY:Real Juventud VS. Galaxy
DESCRIPTION:League Name: Wed Mens Open 3rd div \nGame Type: Regular\nGame S
 tatus: Complete\nHome Team: Real Juventud\nAway Team: Galaxy\nHome Score: 
 4\nAway Score: 3
END:VEVENT
BEGIN:VEVENT
UID:15836476@ezleagues.ezfacility.com
DTSTAMP:20260425T205442Z
CREATED:20260425T205442Z
DTSTART:20240829T022000Z
DTEND:20240829T031000Z
LOCATION:Jessup Premier Field #1
CONTACT:
SUMMARY:Real Juventud VS. K United
DESCRIPTION:League Name: Wed Mens Open 3rd div \nGame Type: Regular\nGame S
 tatus: Complete\nHome Team: Real Juventud\nAway Team: K United\nHome Score
 : 0\nAway Score: 0
END:VEVENT
BEGIN:VEVENT
UID:15836488@ezleagues.ezfacility.com
DTSTAMP:20260425T205442Z
CREATED:20260425T205442Z
DTSTART:20240905T022000Z
DTEND:20240905T031000Z
LOCATION:Jessup Premier Field #1
CONTACT:
SUMMARY:Real Juventud VS. AC Alarz
DESCRIPTION:League Name: Wed Mens Open 3rd div \nGame Type: Regular\nGame S
 tatus: Complete\nHome Team: Real Juventud\nAway Team: AC Alarz\nHome Score
 : 3\nAway Score: 1
END:VEVENT
BEGIN:VEVENT
UID:15836500@ezleagues.ezfacility.com
DTSTAMP:20260425T205442Z
CREATED:20260425T205442Z
DTSTART:20240912T022000Z
DTEND:20240912T031000Z
LOCATION:Jessup Premier Field #1
CONTACT:
SUMMARY:Galacticos VS. Real Juventud
DESCRIPTION:League Name: Wed Mens Open 3rd div \nGame Type: Regular\nGame S
 tatus: Complete\nHome Team: Galacticos\nAway Team: Real Juventud\nHome Sco
 re: 0\nAway Score: 3
END:VEVENT
BEGIN:VEVENT
UID:15836512@ezleagues.ezfacility.com
DTSTAMP:20260425T205442Z
CREATED:20260425T205442Z
DTSTART:20240919T022000Z
DTEND:20240919T031000Z
LOCATION:Jessup Premier Field #2
CONTACT:
SUMMARY:Cabido FC VS. Real Juventud
DESCRIPTION:League Name: Wed Mens Open 3rd div \nGame Type: Regular\nGame S
 tatus: Complete\nHome Team: Cabido FC\nAway Team: Real Juventud\nHome Scor
 e: 5\nAway Score: 3
END:VEVENT
BEGIN:VEVENT
UID:15930403@ezleagues.ezfacility.com
DTSTAMP:20260425T205442Z
CREATED:20260425T205442Z
DTSTART:20240926T022000Z
DTEND:20240926T030800Z
LOCATION:Jessup Premier Field #2
CONTACT:
SUMMARY:Cabido FC VS. Real Juventud
DESCRIPTION:League Name: Wed Mens Open 3rd div \nGame Type: Regular\nGame S
 tatus: Complete\nHome Team: Cabido FC\nAway Team: Real Juventud\nHome Scor
 e: 6\nAway Score: 3
END:VEVENT
BEGIN:VEVENT
UID:15942423@ezleagues.ezfacility.com
DTSTAMP:20260425T205442Z
CREATED:20260425T205442Z
DTSTART:20241003T020000Z
DTEND:20241003T024800Z
LOCATION:Jessup Premier Field #2
CONTACT:
SUMMARY:K United VS. Real Juventud
DESCRIPTION:League Name: Wed Mens Open 3rd div \nGame Type: Regular\nGame S
 tatus: Complete\nHome Team: K United\nAway Team: Real Juventud\nHome Score
 : 0\nAway Score: 3
END:VEVENT
END:VCALENDAR
