BEGIN:VCALENDAR
VERSION:2.0
PRODID:-//EZFacility.com, Inc.//EZL 2.5.5.28621
BEGIN:VEVENT
UID:15836443@ezleagues.ezfacility.com
DTSTAMP:20260426T034042Z
CREATED:20260426T034042Z
DTSTART:20240808T013000Z
DTEND:20240808T022000Z
LOCATION:Jessup Premier Field #2
CONTACT:
SUMMARY:Cabido FC VS. Galaxy
DESCRIPTION:League Name: Wed Mens Open 3rd div \nGame Type: Regular\nGame S
 tatus: Complete\nHome Team: Cabido FC\nAway Team: Galaxy\nHome Score: 3\nA
 way Score: 9
END:VEVENT
BEGIN:VEVENT
UID:15836454@ezleagues.ezfacility.com
DTSTAMP:20260426T034042Z
CREATED:20260426T034042Z
DTSTART:20240814T230000Z
DTEND:20240814T235000Z
LOCATION:Jessup Premier Field #2
CONTACT:
SUMMARY:Los Leones VS. Galaxy
DESCRIPTION:League Name: Wed Mens Open 3rd div \nGame Type: Regular\nGame S
 tatus: Complete\nHome Team: Los Leones\nAway Team: Galaxy\nHome Score: 0\n
 Away Score: 3
END:VEVENT
BEGIN:VEVENT
UID:15836464@ezleagues.ezfacility.com
DTSTAMP:20260426T034042Z
CREATED:20260426T034042Z
DTSTART:20240822T022000Z
DTEND:20240822T031000Z
LOCATION:Jessup Premier Field #2
CONTACT:
SUMMARY:Real Juventud VS. Galaxy
DESCRIPTION:League Name: Wed Mens Open 3rd div \nGame Type: Regular\nGame S
 tatus: Complete\nHome Team: Real Juventud\nAway Team: Galaxy\nHome Score: 
 4\nAway Score: 3
END:VEVENT
BEGIN:VEVENT
UID:15836477@ezleagues.ezfacility.com
DTSTAMP:20260426T034042Z
CREATED:20260426T034042Z
DTSTART:20240828T230000Z
DTEND:20240828T235000Z
LOCATION:Jessup Premier Field #2
CONTACT:
SUMMARY:Galaxy VS. El aguila
DESCRIPTION:League Name: Wed Mens Open 3rd div \nGame Type: Regular\nGame S
 tatus: Complete\nHome Team: Galaxy\nAway Team: El aguila\nHome Score: 2\nA
 way Score: 2
END:VEVENT
BEGIN:VEVENT
UID:15836490@ezleagues.ezfacility.com
DTSTAMP:20260426T034042Z
CREATED:20260426T034042Z
DTSTART:20240904T235000Z
DTEND:20240905T004000Z
LOCATION:Jessup Premier Field #2
CONTACT:
SUMMARY:Galaxy VS. K United
DESCRIPTION:League Name: Wed Mens Open 3rd div \nGame Type: Regular\nGame S
 tatus: Complete\nHome Team: Galaxy\nAway Team: K United\nHome Score: 3\nAw
 ay Score: 1
END:VEVENT
BEGIN:VEVENT
UID:15836503@ezleagues.ezfacility.com
DTSTAMP:20260426T034042Z
CREATED:20260426T034042Z
DTSTART:20240912T013000Z
DTEND:20240912T022000Z
LOCATION:Jessup Premier Field #2
CONTACT:
SUMMARY:Galaxy VS. AC Alarz
DESCRIPTION:League Name: Wed Mens Open 3rd div \nGame Type: Regular\nGame S
 tatus: Complete\nHome Team: Galaxy\nAway Team: AC Alarz\nHome Score: 5\nAw
 ay Score: 4
END:VEVENT
BEGIN:VEVENT
UID:15836515@ezleagues.ezfacility.com
DTSTAMP:20260426T034042Z
CREATED:20260426T034042Z
DTSTART:20240919T013000Z
DTEND:20240919T022000Z
LOCATION:Jessup Premier Field #2
CONTACT:
SUMMARY:Galaxy VS. Galacticos
DESCRIPTION:League Name: Wed Mens Open 3rd div \nGame Type: Regular\nGame S
 tatus: Complete\nHome Team: Galaxy\nAway Team: Galacticos\nHome Score: 9\n
 Away Score: 2
END:VEVENT
BEGIN:VEVENT
UID:15930402@ezleagues.ezfacility.com
DTSTAMP:20260426T034042Z
CREATED:20260426T034042Z
DTSTART:20240926T004000Z
DTEND:20240926T012800Z
LOCATION:Jessup Premier Field #2
CONTACT:
SUMMARY:Galaxy VS. K United
DESCRIPTION:League Name: Wed Mens Open 3rd div \nGame Type: Regular\nGame S
 tatus: Complete\nHome Team: Galaxy\nAway Team: K United\nHome Score: 1\nAw
 ay Score: 0
END:VEVENT
BEGIN:VEVENT
UID:15942422@ezleagues.ezfacility.com
DTSTAMP:20260426T034042Z
CREATED:20260426T034042Z
DTSTART:20241003T010000Z
DTEND:20241003T014800Z
LOCATION:Jessup Premier Field #1
CONTACT:
SUMMARY:Galaxy VS. Cabido FC
DESCRIPTION:League Name: Wed Mens Open 3rd div \nGame Type: Regular\nGame S
 tatus: Complete\nHome Team: Galaxy\nAway Team: Cabido FC\nHome Score: 2\nA
 way Score: 4
END:VEVENT
END:VCALENDAR
