BEGIN:VCALENDAR
VERSION:2.0
PRODID:-//EZFacility.com, Inc.//EZL 2.5.5.28621
BEGIN:VEVENT
UID:15841129@ezleagues.ezfacility.com
DTSTAMP:20260424T044328Z
CREATED:20260424T044328Z
DTSTART:20240903T000000Z
DTEND:20240903T010000Z
LOCATION:Court 1
CONTACT:
SUMMARY:Team 04 VS. Team 07
DESCRIPTION:League Name: Fall League \nGame Type: Regular\nGame Status: Pen
 ding\nHome Team: Team 04\nAway Team: Team 07\n
END:VEVENT
BEGIN:VEVENT
UID:15841145@ezleagues.ezfacility.com
DTSTAMP:20260424T044328Z
CREATED:20260424T044328Z
DTSTART:20240909T230000Z
DTEND:20240910T000000Z
LOCATION:Field 1
CONTACT:
SUMMARY:Team 04 VS. Team 11
DESCRIPTION:League Name: Fall League \nGame Type: Regular\nGame Status: Pen
 ding\nHome Team: Team 04\nAway Team: Team 11\n
END:VEVENT
BEGIN:VEVENT
UID:15841161@ezleagues.ezfacility.com
DTSTAMP:20260424T044328Z
CREATED:20260424T044328Z
DTSTART:20240917T220000Z
DTEND:20240917T230000Z
LOCATION:Field 1
CONTACT:
SUMMARY:Team 04 VS. Team 15
DESCRIPTION:League Name: Fall League \nGame Type: Regular\nGame Status: Pen
 ding\nHome Team: Team 04\nAway Team: Team 15\n
END:VEVENT
BEGIN:VEVENT
UID:15841177@ezleagues.ezfacility.com
DTSTAMP:20260424T044328Z
CREATED:20260424T044328Z
DTSTART:20240925T000000Z
DTEND:20240925T010000Z
LOCATION:Court 1
CONTACT:
SUMMARY:Team 04 VS. Team 19
DESCRIPTION:League Name: Fall League \nGame Type: Regular\nGame Status: Pen
 ding\nHome Team: Team 04\nAway Team: Team 19\n
END:VEVENT
BEGIN:VEVENT
UID:15841193@ezleagues.ezfacility.com
DTSTAMP:20260424T044328Z
CREATED:20260424T044328Z
DTSTART:20241001T220000Z
DTEND:20241001T230000Z
LOCATION:Court 1
CONTACT:
SUMMARY:Team 04 VS. Team 23
DESCRIPTION:League Name: Fall League \nGame Type: Regular\nGame Status: Pen
 ding\nHome Team: Team 04\nAway Team: Team 23\n
END:VEVENT
BEGIN:VEVENT
UID:15841209@ezleagues.ezfacility.com
DTSTAMP:20260424T044328Z
CREATED:20260424T044328Z
DTSTART:20241007T230000Z
DTEND:20241008T000000Z
LOCATION:Field 1
CONTACT:
SUMMARY:Team 04 VS. Team 27
DESCRIPTION:League Name: Fall League \nGame Type: Regular\nGame Status: Pen
 ding\nHome Team: Team 04\nAway Team: Team 27\n
END:VEVENT
BEGIN:VEVENT
UID:15841225@ezleagues.ezfacility.com
DTSTAMP:20260424T044328Z
CREATED:20260424T044328Z
DTSTART:20241015T010000Z
DTEND:20241015T020000Z
LOCATION:Field 1
CONTACT:
SUMMARY:Team 04 VS. Team 30
DESCRIPTION:League Name: Fall League \nGame Type: Regular\nGame Status: Pen
 ding\nHome Team: Team 04\nAway Team: Team 30\n
END:VEVENT
BEGIN:VEVENT
UID:15841241@ezleagues.ezfacility.com
DTSTAMP:20260424T044328Z
CREATED:20260424T044328Z
DTSTART:20241022T010000Z
DTEND:20241022T020000Z
LOCATION:Court 1
CONTACT:
SUMMARY:Team 04 VS. Team 26
DESCRIPTION:League Name: Fall League \nGame Type: Regular\nGame Status: Pen
 ding\nHome Team: Team 04\nAway Team: Team 26\n
END:VEVENT
BEGIN:VEVENT
UID:15841257@ezleagues.ezfacility.com
DTSTAMP:20260424T044328Z
CREATED:20260424T044328Z
DTSTART:20241028T220000Z
DTEND:20241028T230000Z
LOCATION:Court 1
CONTACT:
SUMMARY:Team 04 VS. Team 22
DESCRIPTION:League Name: Fall League \nGame Type: Regular\nGame Status: Pen
 ding\nHome Team: Team 04\nAway Team: Team 22\n
END:VEVENT
BEGIN:VEVENT
UID:15841273@ezleagues.ezfacility.com
DTSTAMP:20260424T044328Z
CREATED:20260424T044328Z
DTSTART:20241105T010000Z
DTEND:20241105T020000Z
LOCATION:Court 1
CONTACT:
SUMMARY:Team 04 VS. Team 18
DESCRIPTION:League Name: Fall League \nGame Type: Regular\nGame Status: Pen
 ding\nHome Team: Team 04\nAway Team: Team 18\n
END:VEVENT
BEGIN:VEVENT
UID:15841289@ezleagues.ezfacility.com
DTSTAMP:20260424T044328Z
CREATED:20260424T044328Z
DTSTART:20241111T230000Z
DTEND:20241112T000000Z
LOCATION:Field 1
CONTACT:
SUMMARY:Team 04 VS. Team 14
DESCRIPTION:League Name: Fall League \nGame Type: Regular\nGame Status: Pen
 ding\nHome Team: Team 04\nAway Team: Team 14\n
END:VEVENT
BEGIN:VEVENT
UID:15841305@ezleagues.ezfacility.com
DTSTAMP:20260424T044328Z
CREATED:20260424T044328Z
DTSTART:20241119T000000Z
DTEND:20241119T010000Z
LOCATION:Field 1
CONTACT:
SUMMARY:Team 04 VS. Team 10
DESCRIPTION:League Name: Fall League \nGame Type: Regular\nGame Status: Pen
 ding\nHome Team: Team 04\nAway Team: Team 10\n
END:VEVENT
BEGIN:VEVENT
UID:15841321@ezleagues.ezfacility.com
DTSTAMP:20260424T044328Z
CREATED:20260424T044328Z
DTSTART:20241126T000000Z
DTEND:20241126T010000Z
LOCATION:Court 1
CONTACT:
SUMMARY:Team 04 VS. Team 06
DESCRIPTION:League Name: Fall League \nGame Type: Regular\nGame Status: Pen
 ding\nHome Team: Team 04\nAway Team: Team 06\n
END:VEVENT
BEGIN:VEVENT
UID:15841336@ezleagues.ezfacility.com
DTSTAMP:20260424T044328Z
CREATED:20260424T044328Z
DTSTART:20241202T230000Z
DTEND:20241203T000000Z
LOCATION:Court 1
CONTACT:
SUMMARY:Team 02 VS. Team 04
DESCRIPTION:League Name: Fall League \nGame Type: Regular\nGame Status: Pen
 ding\nHome Team: Team 02\nAway Team: Team 04\n
END:VEVENT
BEGIN:VEVENT
UID:15841350@ezleagues.ezfacility.com
DTSTAMP:20260424T044328Z
CREATED:20260424T044328Z
DTSTART:20241210T000000Z
DTEND:20241210T010000Z
LOCATION:Court 1
CONTACT:
SUMMARY:Team 05 VS. Team 04
DESCRIPTION:League Name: Fall League \nGame Type: Regular\nGame Status: Pen
 ding\nHome Team: Team 05\nAway Team: Team 04\n
END:VEVENT
BEGIN:VEVENT
UID:15841364@ezleagues.ezfacility.com
DTSTAMP:20260424T044328Z
CREATED:20260424T044328Z
DTSTART:20241216T230000Z
DTEND:20241217T000000Z
LOCATION:Field 1
CONTACT:
SUMMARY:Team 09 VS. Team 04
DESCRIPTION:League Name: Fall League \nGame Type: Regular\nGame Status: Pen
 ding\nHome Team: Team 09\nAway Team: Team 04\n
END:VEVENT
BEGIN:VEVENT
UID:15841378@ezleagues.ezfacility.com
DTSTAMP:20260424T044328Z
CREATED:20260424T044328Z
DTSTART:20241223T230000Z
DTEND:20241224T000000Z
LOCATION:Field 1
CONTACT:
SUMMARY:Team 13 VS. Team 04
DESCRIPTION:League Name: Fall League \nGame Type: Regular\nGame Status: Pen
 ding\nHome Team: Team 13\nAway Team: Team 04\n
END:VEVENT
BEGIN:VEVENT
UID:15841392@ezleagues.ezfacility.com
DTSTAMP:20260424T044328Z
CREATED:20260424T044328Z
DTSTART:20241231T000000Z
DTEND:20241231T010000Z
LOCATION:Field 1
CONTACT:
SUMMARY:Team 17 VS. Team 04
DESCRIPTION:League Name: Fall League \nGame Type: Regular\nGame Status: Pen
 ding\nHome Team: Team 17\nAway Team: Team 04\n
END:VEVENT
BEGIN:VEVENT
UID:15841406@ezleagues.ezfacility.com
DTSTAMP:20260424T044328Z
CREATED:20260424T044328Z
DTSTART:20250107T020000Z
DTEND:20250107T030000Z
LOCATION:Court 1
CONTACT:
SUMMARY:Team 21 VS. Team 04
DESCRIPTION:League Name: Fall League \nGame Type: Regular\nGame Status: Pen
 ding\nHome Team: Team 21\nAway Team: Team 04\n
END:VEVENT
BEGIN:VEVENT
UID:15841420@ezleagues.ezfacility.com
DTSTAMP:20260424T044328Z
CREATED:20260424T044328Z
DTSTART:20250114T030000Z
DTEND:20250114T040000Z
LOCATION:Court 1
CONTACT:
SUMMARY:Team 25 VS. Team 04
DESCRIPTION:League Name: Fall League \nGame Type: Regular\nGame Status: Pen
 ding\nHome Team: Team 25\nAway Team: Team 04\n
END:VEVENT
BEGIN:VEVENT
UID:15841434@ezleagues.ezfacility.com
DTSTAMP:20260424T044328Z
CREATED:20260424T044328Z
DTSTART:20250121T030000Z
DTEND:20250121T040000Z
LOCATION:Field 1
CONTACT:
SUMMARY:Team 29 VS. Team 04
DESCRIPTION:League Name: Fall League \nGame Type: Regular\nGame Status: Pen
 ding\nHome Team: Team 29\nAway Team: Team 04\n
END:VEVENT
BEGIN:VEVENT
UID:15841448@ezleagues.ezfacility.com
DTSTAMP:20260424T044328Z
CREATED:20260424T044328Z
DTSTART:20250128T030000Z
DTEND:20250128T040000Z
LOCATION:Court 1
CONTACT:
SUMMARY:Team 28 VS. Team 04
DESCRIPTION:League Name: Fall League \nGame Type: Regular\nGame Status: Pen
 ding\nHome Team: Team 28\nAway Team: Team 04\n
END:VEVENT
BEGIN:VEVENT
UID:15841462@ezleagues.ezfacility.com
DTSTAMP:20260424T044328Z
CREATED:20260424T044328Z
DTSTART:20250204T020000Z
DTEND:20250204T030000Z
LOCATION:Field 1
CONTACT:
SUMMARY:Team 24 VS. Team 04
DESCRIPTION:League Name: Fall League \nGame Type: Regular\nGame Status: Pen
 ding\nHome Team: Team 24\nAway Team: Team 04\n
END:VEVENT
BEGIN:VEVENT
UID:15841476@ezleagues.ezfacility.com
DTSTAMP:20260424T044328Z
CREATED:20260424T044328Z
DTSTART:20250212T000000Z
DTEND:20250212T010000Z
LOCATION:Court 1
CONTACT:
SUMMARY:Team 20 VS. Team 04
DESCRIPTION:League Name: Fall League \nGame Type: Regular\nGame Status: Pen
 ding\nHome Team: Team 20\nAway Team: Team 04\n
END:VEVENT
BEGIN:VEVENT
UID:15841490@ezleagues.ezfacility.com
DTSTAMP:20260424T044328Z
CREATED:20260424T044328Z
DTSTART:20250219T000000Z
DTEND:20250219T010000Z
LOCATION:Field 1
CONTACT:
SUMMARY:Team 16 VS. Team 04
DESCRIPTION:League Name: Fall League \nGame Type: Regular\nGame Status: Pen
 ding\nHome Team: Team 16\nAway Team: Team 04\n
END:VEVENT
BEGIN:VEVENT
UID:15841504@ezleagues.ezfacility.com
DTSTAMP:20260424T044328Z
CREATED:20260424T044328Z
DTSTART:20250225T230000Z
DTEND:20250226T000000Z
LOCATION:Court 1
CONTACT:
SUMMARY:Team 12 VS. Team 04
DESCRIPTION:League Name: Fall League \nGame Type: Regular\nGame Status: Pen
 ding\nHome Team: Team 12\nAway Team: Team 04\n
END:VEVENT
BEGIN:VEVENT
UID:15841518@ezleagues.ezfacility.com
DTSTAMP:20260424T044328Z
CREATED:20260424T044328Z
DTSTART:20250305T010000Z
DTEND:20250305T020000Z
LOCATION:Court 1
CONTACT:
SUMMARY:Team 08 VS. Team 04
DESCRIPTION:League Name: Fall League \nGame Type: Regular\nGame Status: Pen
 ding\nHome Team: Team 08\nAway Team: Team 04\n
END:VEVENT
BEGIN:VEVENT
UID:15841532@ezleagues.ezfacility.com
DTSTAMP:20260424T044328Z
CREATED:20260424T044328Z
DTSTART:20250312T000000Z
DTEND:20250312T010000Z
LOCATION:Court 1
CONTACT:
SUMMARY:Team 01 VS. Team 04
DESCRIPTION:League Name: Fall League \nGame Type: Regular\nGame Status: Pen
 ding\nHome Team: Team 01\nAway Team: Team 04\n
END:VEVENT
BEGIN:VEVENT
UID:15841548@ezleagues.ezfacility.com
DTSTAMP:20260424T044328Z
CREATED:20260424T044328Z
DTSTART:20250318T230000Z
DTEND:20250319T000000Z
LOCATION:Field 1
CONTACT:
SUMMARY:Team 04 VS. Team 03
DESCRIPTION:League Name: Fall League \nGame Type: Regular\nGame Status: Pen
 ding\nHome Team: Team 04\nAway Team: Team 03\n
END:VEVENT
END:VCALENDAR
