BEGIN:VCALENDAR
VERSION:2.0
PRODID:-//EZFacility.com, Inc.//EZL 2.5.5.28621
BEGIN:VEVENT
UID:15841130@ezleagues.ezfacility.com
DTSTAMP:20260420T041118Z
CREATED:20260420T041118Z
DTSTART:20240903T010000Z
DTEND:20240903T020000Z
LOCATION:Court 1
CONTACT:
SUMMARY:Team 06 VS. Team 09
DESCRIPTION:League Name: Fall League \nGame Type: Regular\nGame Status: Pen
 ding\nHome Team: Team 06\nAway Team: Team 09\n
END:VEVENT
BEGIN:VEVENT
UID:15841146@ezleagues.ezfacility.com
DTSTAMP:20260420T041118Z
CREATED:20260420T041118Z
DTSTART:20240910T230000Z
DTEND:20240911T000000Z
LOCATION:Court 1
CONTACT:
SUMMARY:Team 06 VS. Team 13
DESCRIPTION:League Name: Fall League \nGame Type: Regular\nGame Status: Pen
 ding\nHome Team: Team 06\nAway Team: Team 13\n
END:VEVENT
BEGIN:VEVENT
UID:15841162@ezleagues.ezfacility.com
DTSTAMP:20260420T041118Z
CREATED:20260420T041118Z
DTSTART:20240916T220000Z
DTEND:20240916T230000Z
LOCATION:Field 1
CONTACT:
SUMMARY:Team 06 VS. Team 17
DESCRIPTION:League Name: Fall League \nGame Type: Regular\nGame Status: Pen
 ding\nHome Team: Team 06\nAway Team: Team 17\n
END:VEVENT
BEGIN:VEVENT
UID:15841178@ezleagues.ezfacility.com
DTSTAMP:20260420T041118Z
CREATED:20260420T041118Z
DTSTART:20240924T000000Z
DTEND:20240924T010000Z
LOCATION:Field 1
CONTACT:
SUMMARY:Team 06 VS. Team 21
DESCRIPTION:League Name: Fall League \nGame Type: Regular\nGame Status: Pen
 ding\nHome Team: Team 06\nAway Team: Team 21\n
END:VEVENT
BEGIN:VEVENT
UID:15841194@ezleagues.ezfacility.com
DTSTAMP:20260420T041118Z
CREATED:20260420T041118Z
DTSTART:20241002T000000Z
DTEND:20241002T010000Z
LOCATION:Court 1
CONTACT:
SUMMARY:Team 06 VS. Team 25
DESCRIPTION:League Name: Fall League \nGame Type: Regular\nGame Status: Pen
 ding\nHome Team: Team 06\nAway Team: Team 25\n
END:VEVENT
BEGIN:VEVENT
UID:15841210@ezleagues.ezfacility.com
DTSTAMP:20260420T041118Z
CREATED:20260420T041118Z
DTSTART:20241007T220000Z
DTEND:20241007T230000Z
LOCATION:Field 1
CONTACT:
SUMMARY:Team 06 VS. Team 29
DESCRIPTION:League Name: Fall League \nGame Type: Regular\nGame Status: Pen
 ding\nHome Team: Team 06\nAway Team: Team 29\n
END:VEVENT
BEGIN:VEVENT
UID:15841226@ezleagues.ezfacility.com
DTSTAMP:20260420T041118Z
CREATED:20260420T041118Z
DTSTART:20241014T230000Z
DTEND:20241015T000000Z
LOCATION:Court 1
CONTACT:
SUMMARY:Team 06 VS. Team 28
DESCRIPTION:League Name: Fall League \nGame Type: Regular\nGame Status: Pen
 ding\nHome Team: Team 06\nAway Team: Team 28\n
END:VEVENT
BEGIN:VEVENT
UID:15841242@ezleagues.ezfacility.com
DTSTAMP:20260420T041118Z
CREATED:20260420T041118Z
DTSTART:20241021T220000Z
DTEND:20241021T230000Z
LOCATION:Court 1
CONTACT:
SUMMARY:Team 06 VS. Team 24
DESCRIPTION:League Name: Fall League \nGame Type: Regular\nGame Status: Pen
 ding\nHome Team: Team 06\nAway Team: Team 24\n
END:VEVENT
BEGIN:VEVENT
UID:15841258@ezleagues.ezfacility.com
DTSTAMP:20260420T041118Z
CREATED:20260420T041118Z
DTSTART:20241029T000000Z
DTEND:20241029T010000Z
LOCATION:Court 1
CONTACT:
SUMMARY:Team 06 VS. Team 20
DESCRIPTION:League Name: Fall League \nGame Type: Regular\nGame Status: Pen
 ding\nHome Team: Team 06\nAway Team: Team 20\n
END:VEVENT
BEGIN:VEVENT
UID:15841274@ezleagues.ezfacility.com
DTSTAMP:20260420T041118Z
CREATED:20260420T041118Z
DTSTART:20241104T230000Z
DTEND:20241105T000000Z
LOCATION:Field 1
CONTACT:
SUMMARY:Team 06 VS. Team 16
DESCRIPTION:League Name: Fall League \nGame Type: Regular\nGame Status: Pen
 ding\nHome Team: Team 06\nAway Team: Team 16\n
END:VEVENT
BEGIN:VEVENT
UID:15841290@ezleagues.ezfacility.com
DTSTAMP:20260420T041118Z
CREATED:20260420T041118Z
DTSTART:20241111T230000Z
DTEND:20241112T000000Z
LOCATION:Court 1
CONTACT:
SUMMARY:Team 06 VS. Team 12
DESCRIPTION:League Name: Fall League \nGame Type: Regular\nGame Status: Pen
 ding\nHome Team: Team 06\nAway Team: Team 12\n
END:VEVENT
BEGIN:VEVENT
UID:15841306@ezleagues.ezfacility.com
DTSTAMP:20260420T041118Z
CREATED:20260420T041118Z
DTSTART:20241118T230000Z
DTEND:20241119T000000Z
LOCATION:Court 1
CONTACT:
SUMMARY:Team 06 VS. Team 08
DESCRIPTION:League Name: Fall League \nGame Type: Regular\nGame Status: Pen
 ding\nHome Team: Team 06\nAway Team: Team 08\n
END:VEVENT
BEGIN:VEVENT
UID:15841321@ezleagues.ezfacility.com
DTSTAMP:20260420T041118Z
CREATED:20260420T041118Z
DTSTART:20241126T000000Z
DTEND:20241126T010000Z
LOCATION:Court 1
CONTACT:
SUMMARY:Team 04 VS. Team 06
DESCRIPTION:League Name: Fall League \nGame Type: Regular\nGame Status: Pen
 ding\nHome Team: Team 04\nAway Team: Team 06\n
END:VEVENT
BEGIN:VEVENT
UID:15841335@ezleagues.ezfacility.com
DTSTAMP:20260420T041118Z
CREATED:20260420T041118Z
DTSTART:20241203T000000Z
DTEND:20241203T010000Z
LOCATION:Court 1
CONTACT:
SUMMARY:Team 03 VS. Team 06
DESCRIPTION:League Name: Fall League \nGame Type: Regular\nGame Status: Pen
 ding\nHome Team: Team 03\nAway Team: Team 06\n
END:VEVENT
BEGIN:VEVENT
UID:15841349@ezleagues.ezfacility.com
DTSTAMP:20260420T041118Z
CREATED:20260420T041118Z
DTSTART:20241210T000000Z
DTEND:20241210T010000Z
LOCATION:Field 1
CONTACT:
SUMMARY:Team 07 VS. Team 06
DESCRIPTION:League Name: Fall League \nGame Type: Regular\nGame Status: Pen
 ding\nHome Team: Team 07\nAway Team: Team 06\n
END:VEVENT
BEGIN:VEVENT
UID:15841363@ezleagues.ezfacility.com
DTSTAMP:20260420T041118Z
CREATED:20260420T041118Z
DTSTART:20241217T000000Z
DTEND:20241217T010000Z
LOCATION:Field 1
CONTACT:
SUMMARY:Team 11 VS. Team 06
DESCRIPTION:League Name: Fall League \nGame Type: Regular\nGame Status: Pen
 ding\nHome Team: Team 11\nAway Team: Team 06\n
END:VEVENT
BEGIN:VEVENT
UID:15841377@ezleagues.ezfacility.com
DTSTAMP:20260420T041118Z
CREATED:20260420T041118Z
DTSTART:20241224T000000Z
DTEND:20241224T010000Z
LOCATION:Field 1
CONTACT:
SUMMARY:Team 15 VS. Team 06
DESCRIPTION:League Name: Fall League \nGame Type: Regular\nGame Status: Pen
 ding\nHome Team: Team 15\nAway Team: Team 06\n
END:VEVENT
BEGIN:VEVENT
UID:15841391@ezleagues.ezfacility.com
DTSTAMP:20260420T041118Z
CREATED:20260420T041118Z
DTSTART:20241231T010000Z
DTEND:20241231T020000Z
LOCATION:Field 1
CONTACT:
SUMMARY:Team 19 VS. Team 06
DESCRIPTION:League Name: Fall League \nGame Type: Regular\nGame Status: Pen
 ding\nHome Team: Team 19\nAway Team: Team 06\n
END:VEVENT
BEGIN:VEVENT
UID:15841405@ezleagues.ezfacility.com
DTSTAMP:20260420T041118Z
CREATED:20260420T041118Z
DTSTART:20250107T030000Z
DTEND:20250107T040000Z
LOCATION:Court 1
CONTACT:
SUMMARY:Team 23 VS. Team 06
DESCRIPTION:League Name: Fall League \nGame Type: Regular\nGame Status: Pen
 ding\nHome Team: Team 23\nAway Team: Team 06\n
END:VEVENT
BEGIN:VEVENT
UID:15841419@ezleagues.ezfacility.com
DTSTAMP:20260420T041118Z
CREATED:20260420T041118Z
DTSTART:20250114T010000Z
DTEND:20250114T020000Z
LOCATION:Field 1
CONTACT:
SUMMARY:Team 27 VS. Team 06
DESCRIPTION:League Name: Fall League \nGame Type: Regular\nGame Status: Pen
 ding\nHome Team: Team 27\nAway Team: Team 06\n
END:VEVENT
BEGIN:VEVENT
UID:15841433@ezleagues.ezfacility.com
DTSTAMP:20260420T041118Z
CREATED:20260420T041118Z
DTSTART:20250121T020000Z
DTEND:20250121T030000Z
LOCATION:Court 1
CONTACT:
SUMMARY:Team 30 VS. Team 06
DESCRIPTION:League Name: Fall League \nGame Type: Regular\nGame Status: Pen
 ding\nHome Team: Team 30\nAway Team: Team 06\n
END:VEVENT
BEGIN:VEVENT
UID:15841447@ezleagues.ezfacility.com
DTSTAMP:20260420T041118Z
CREATED:20260420T041118Z
DTSTART:20250128T030000Z
DTEND:20250128T040000Z
LOCATION:Field 1
CONTACT:
SUMMARY:Team 26 VS. Team 06
DESCRIPTION:League Name: Fall League \nGame Type: Regular\nGame Status: Pen
 ding\nHome Team: Team 26\nAway Team: Team 06\n
END:VEVENT
BEGIN:VEVENT
UID:15841461@ezleagues.ezfacility.com
DTSTAMP:20260420T041118Z
CREATED:20260420T041118Z
DTSTART:20250205T000000Z
DTEND:20250205T010000Z
LOCATION:Court 1
CONTACT:
SUMMARY:Team 22 VS. Team 06
DESCRIPTION:League Name: Fall League \nGame Type: Regular\nGame Status: Pen
 ding\nHome Team: Team 22\nAway Team: Team 06\n
END:VEVENT
BEGIN:VEVENT
UID:15841475@ezleagues.ezfacility.com
DTSTAMP:20260420T041118Z
CREATED:20260420T041118Z
DTSTART:20250211T230000Z
DTEND:20250212T000000Z
LOCATION:Court 1
CONTACT:
SUMMARY:Team 18 VS. Team 06
DESCRIPTION:League Name: Fall League \nGame Type: Regular\nGame Status: Pen
 ding\nHome Team: Team 18\nAway Team: Team 06\n
END:VEVENT
BEGIN:VEVENT
UID:15841489@ezleagues.ezfacility.com
DTSTAMP:20260420T041118Z
CREATED:20260420T041118Z
DTSTART:20250218T230000Z
DTEND:20250219T000000Z
LOCATION:Field 1
CONTACT:
SUMMARY:Team 14 VS. Team 06
DESCRIPTION:League Name: Fall League \nGame Type: Regular\nGame Status: Pen
 ding\nHome Team: Team 14\nAway Team: Team 06\n
END:VEVENT
BEGIN:VEVENT
UID:15841503@ezleagues.ezfacility.com
DTSTAMP:20260420T041118Z
CREATED:20260420T041118Z
DTSTART:20250226T010000Z
DTEND:20250226T020000Z
LOCATION:Court 1
CONTACT:
SUMMARY:Team 10 VS. Team 06
DESCRIPTION:League Name: Fall League \nGame Type: Regular\nGame Status: Pen
 ding\nHome Team: Team 10\nAway Team: Team 06\n
END:VEVENT
BEGIN:VEVENT
UID:15841517@ezleagues.ezfacility.com
DTSTAMP:20260420T041118Z
CREATED:20260420T041118Z
DTSTART:20250305T000000Z
DTEND:20250305T010000Z
LOCATION:Field 1
CONTACT:
SUMMARY:Team 01 VS. Team 06
DESCRIPTION:League Name: Fall League \nGame Type: Regular\nGame Status: Pen
 ding\nHome Team: Team 01\nAway Team: Team 06\n
END:VEVENT
BEGIN:VEVENT
UID:15841533@ezleagues.ezfacility.com
DTSTAMP:20260420T041118Z
CREATED:20260420T041118Z
DTSTART:20250311T220000Z
DTEND:20250311T230000Z
LOCATION:Field 1
CONTACT:
SUMMARY:Team 06 VS. Team 02
DESCRIPTION:League Name: Fall League \nGame Type: Regular\nGame Status: Pen
 ding\nHome Team: Team 06\nAway Team: Team 02\n
END:VEVENT
BEGIN:VEVENT
UID:15841549@ezleagues.ezfacility.com
DTSTAMP:20260420T041118Z
CREATED:20260420T041118Z
DTSTART:20250318T220000Z
DTEND:20250318T230000Z
LOCATION:Field 1
CONTACT:
SUMMARY:Team 06 VS. Team 05
DESCRIPTION:League Name: Fall League \nGame Type: Regular\nGame Status: Pen
 ding\nHome Team: Team 06\nAway Team: Team 05\n
END:VEVENT
END:VCALENDAR
