BEGIN:VCALENDAR
VERSION:2.0
PRODID:-//EZFacility.com, Inc.//EZL 2.5.5.28621
BEGIN:VEVENT
UID:15841134@ezleagues.ezfacility.com
DTSTAMP:20260426T034040Z
CREATED:20260426T034040Z
DTSTART:20240903T000000Z
DTEND:20240903T010000Z
LOCATION:Field 1
CONTACT:
SUMMARY:Team 14 VS. Team 17
DESCRIPTION:League Name: Fall League \nGame Type: Regular\nGame Status: Pen
 ding\nHome Team: Team 14\nAway Team: Team 17\n
END:VEVENT
BEGIN:VEVENT
UID:15841150@ezleagues.ezfacility.com
DTSTAMP:20260426T034040Z
CREATED:20260426T034040Z
DTSTART:20240909T230000Z
DTEND:20240910T000000Z
LOCATION:Court 1
CONTACT:
SUMMARY:Team 14 VS. Team 21
DESCRIPTION:League Name: Fall League \nGame Type: Regular\nGame Status: Pen
 ding\nHome Team: Team 14\nAway Team: Team 21\n
END:VEVENT
BEGIN:VEVENT
UID:15841166@ezleagues.ezfacility.com
DTSTAMP:20260426T034040Z
CREATED:20260426T034040Z
DTSTART:20240917T020000Z
DTEND:20240917T030000Z
LOCATION:Field 1
CONTACT:
SUMMARY:Team 14 VS. Team 25
DESCRIPTION:League Name: Fall League \nGame Type: Regular\nGame Status: Pen
 ding\nHome Team: Team 14\nAway Team: Team 25\n
END:VEVENT
BEGIN:VEVENT
UID:15841182@ezleagues.ezfacility.com
DTSTAMP:20260426T034040Z
CREATED:20260426T034040Z
DTSTART:20240924T010000Z
DTEND:20240924T020000Z
LOCATION:Court 1
CONTACT:
SUMMARY:Team 14 VS. Team 29
DESCRIPTION:League Name: Fall League \nGame Type: Regular\nGame Status: Pen
 ding\nHome Team: Team 14\nAway Team: Team 29\n
END:VEVENT
BEGIN:VEVENT
UID:15841198@ezleagues.ezfacility.com
DTSTAMP:20260426T034040Z
CREATED:20260426T034040Z
DTSTART:20240930T220000Z
DTEND:20240930T230000Z
LOCATION:Court 1
CONTACT:
SUMMARY:Team 14 VS. Team 28
DESCRIPTION:League Name: Fall League \nGame Type: Regular\nGame Status: Pen
 ding\nHome Team: Team 14\nAway Team: Team 28\n
END:VEVENT
BEGIN:VEVENT
UID:15841214@ezleagues.ezfacility.com
DTSTAMP:20260426T034040Z
CREATED:20260426T034040Z
DTSTART:20241008T230000Z
DTEND:20241009T000000Z
LOCATION:Court 1
CONTACT:
SUMMARY:Team 14 VS. Team 24
DESCRIPTION:League Name: Fall League \nGame Type: Regular\nGame Status: Pen
 ding\nHome Team: Team 14\nAway Team: Team 24\n
END:VEVENT
BEGIN:VEVENT
UID:15841230@ezleagues.ezfacility.com
DTSTAMP:20260426T034040Z
CREATED:20260426T034040Z
DTSTART:20241014T220000Z
DTEND:20241014T230000Z
LOCATION:Field 1
CONTACT:
SUMMARY:Team 14 VS. Team 20
DESCRIPTION:League Name: Fall League \nGame Type: Regular\nGame Status: Pen
 ding\nHome Team: Team 14\nAway Team: Team 20\n
END:VEVENT
BEGIN:VEVENT
UID:15841246@ezleagues.ezfacility.com
DTSTAMP:20260426T034040Z
CREATED:20260426T034040Z
DTSTART:20241021T230000Z
DTEND:20241022T000000Z
LOCATION:Field 1
CONTACT:
SUMMARY:Team 14 VS. Team 16
DESCRIPTION:League Name: Fall League \nGame Type: Regular\nGame Status: Pen
 ding\nHome Team: Team 14\nAway Team: Team 16\n
END:VEVENT
BEGIN:VEVENT
UID:15841261@ezleagues.ezfacility.com
DTSTAMP:20260426T034040Z
CREATED:20260426T034040Z
DTSTART:20241028T230000Z
DTEND:20241029T000000Z
LOCATION:Field 1
CONTACT:
SUMMARY:Team 12 VS. Team 14
DESCRIPTION:League Name: Fall League \nGame Type: Regular\nGame Status: Pen
 ding\nHome Team: Team 12\nAway Team: Team 14\n
END:VEVENT
BEGIN:VEVENT
UID:15841275@ezleagues.ezfacility.com
DTSTAMP:20260426T034040Z
CREATED:20260426T034040Z
DTSTART:20241105T020000Z
DTEND:20241105T030000Z
LOCATION:Court 1
CONTACT:
SUMMARY:Team 08 VS. Team 14
DESCRIPTION:League Name: Fall League \nGame Type: Regular\nGame Status: Pen
 ding\nHome Team: Team 08\nAway Team: Team 14\n
END:VEVENT
BEGIN:VEVENT
UID:15841289@ezleagues.ezfacility.com
DTSTAMP:20260426T034040Z
CREATED:20260426T034040Z
DTSTART:20241111T230000Z
DTEND:20241112T000000Z
LOCATION:Field 1
CONTACT:
SUMMARY:Team 04 VS. Team 14
DESCRIPTION:League Name: Fall League \nGame Type: Regular\nGame Status: Pen
 ding\nHome Team: Team 04\nAway Team: Team 14\n
END:VEVENT
BEGIN:VEVENT
UID:15841303@ezleagues.ezfacility.com
DTSTAMP:20260426T034040Z
CREATED:20260426T034040Z
DTSTART:20241119T000000Z
DTEND:20241119T010000Z
LOCATION:Court 1
CONTACT:
SUMMARY:Team 03 VS. Team 14
DESCRIPTION:League Name: Fall League \nGame Type: Regular\nGame Status: Pen
 ding\nHome Team: Team 03\nAway Team: Team 14\n
END:VEVENT
BEGIN:VEVENT
UID:15841317@ezleagues.ezfacility.com
DTSTAMP:20260426T034040Z
CREATED:20260426T034040Z
DTSTART:20241126T010000Z
DTEND:20241126T020000Z
LOCATION:Field 1
CONTACT:
SUMMARY:Team 07 VS. Team 14
DESCRIPTION:League Name: Fall League \nGame Type: Regular\nGame Status: Pen
 ding\nHome Team: Team 07\nAway Team: Team 14\n
END:VEVENT
BEGIN:VEVENT
UID:15841331@ezleagues.ezfacility.com
DTSTAMP:20260426T034040Z
CREATED:20260426T034040Z
DTSTART:20241203T020000Z
DTEND:20241203T030000Z
LOCATION:Court 1
CONTACT:
SUMMARY:Team 11 VS. Team 14
DESCRIPTION:League Name: Fall League \nGame Type: Regular\nGame Status: Pen
 ding\nHome Team: Team 11\nAway Team: Team 14\n
END:VEVENT
BEGIN:VEVENT
UID:15841345@ezleagues.ezfacility.com
DTSTAMP:20260426T034040Z
CREATED:20260426T034040Z
DTSTART:20241210T030000Z
DTEND:20241210T040000Z
LOCATION:Court 1
CONTACT:
SUMMARY:Team 15 VS. Team 14
DESCRIPTION:League Name: Fall League \nGame Type: Regular\nGame Status: Pen
 ding\nHome Team: Team 15\nAway Team: Team 14\n
END:VEVENT
BEGIN:VEVENT
UID:15841359@ezleagues.ezfacility.com
DTSTAMP:20260426T034040Z
CREATED:20260426T034040Z
DTSTART:20241217T010000Z
DTEND:20241217T020000Z
LOCATION:Field 1
CONTACT:
SUMMARY:Team 19 VS. Team 14
DESCRIPTION:League Name: Fall League \nGame Type: Regular\nGame Status: Pen
 ding\nHome Team: Team 19\nAway Team: Team 14\n
END:VEVENT
BEGIN:VEVENT
UID:15841373@ezleagues.ezfacility.com
DTSTAMP:20260426T034040Z
CREATED:20260426T034040Z
DTSTART:20241224T030000Z
DTEND:20241224T040000Z
LOCATION:Court 1
CONTACT:
SUMMARY:Team 23 VS. Team 14
DESCRIPTION:League Name: Fall League \nGame Type: Regular\nGame Status: Pen
 ding\nHome Team: Team 23\nAway Team: Team 14\n
END:VEVENT
BEGIN:VEVENT
UID:15841387@ezleagues.ezfacility.com
DTSTAMP:20260426T034040Z
CREATED:20260426T034040Z
DTSTART:20250101T000000Z
DTEND:20250101T010000Z
LOCATION:Court 1
CONTACT:
SUMMARY:Team 27 VS. Team 14
DESCRIPTION:League Name: Fall League \nGame Type: Regular\nGame Status: Pen
 ding\nHome Team: Team 27\nAway Team: Team 14\n
END:VEVENT
BEGIN:VEVENT
UID:15841401@ezleagues.ezfacility.com
DTSTAMP:20260426T034040Z
CREATED:20260426T034040Z
DTSTART:20250108T000000Z
DTEND:20250108T010000Z
LOCATION:Field 1
CONTACT:
SUMMARY:Team 30 VS. Team 14
DESCRIPTION:League Name: Fall League \nGame Type: Regular\nGame Status: Pen
 ding\nHome Team: Team 30\nAway Team: Team 14\n
END:VEVENT
BEGIN:VEVENT
UID:15841415@ezleagues.ezfacility.com
DTSTAMP:20260426T034040Z
CREATED:20260426T034040Z
DTSTART:20250114T230000Z
DTEND:20250115T000000Z
LOCATION:Field 1
CONTACT:
SUMMARY:Team 26 VS. Team 14
DESCRIPTION:League Name: Fall League \nGame Type: Regular\nGame Status: Pen
 ding\nHome Team: Team 26\nAway Team: Team 14\n
END:VEVENT
BEGIN:VEVENT
UID:15841429@ezleagues.ezfacility.com
DTSTAMP:20260426T034040Z
CREATED:20260426T034040Z
DTSTART:20250121T230000Z
DTEND:20250122T000000Z
LOCATION:Court 1
CONTACT:
SUMMARY:Team 22 VS. Team 14
DESCRIPTION:League Name: Fall League \nGame Type: Regular\nGame Status: Pen
 ding\nHome Team: Team 22\nAway Team: Team 14\n
END:VEVENT
BEGIN:VEVENT
UID:15841443@ezleagues.ezfacility.com
DTSTAMP:20260426T034040Z
CREATED:20260426T034040Z
DTSTART:20250128T230000Z
DTEND:20250129T000000Z
LOCATION:Field 1
CONTACT:
SUMMARY:Team 18 VS. Team 14
DESCRIPTION:League Name: Fall League \nGame Type: Regular\nGame Status: Pen
 ding\nHome Team: Team 18\nAway Team: Team 14\n
END:VEVENT
BEGIN:VEVENT
UID:15841457@ezleagues.ezfacility.com
DTSTAMP:20260426T034040Z
CREATED:20260426T034040Z
DTSTART:20250205T010000Z
DTEND:20250205T020000Z
LOCATION:Court 1
CONTACT:
SUMMARY:Team 01 VS. Team 14
DESCRIPTION:League Name: Fall League \nGame Type: Regular\nGame Status: Pen
 ding\nHome Team: Team 01\nAway Team: Team 14\n
END:VEVENT
BEGIN:VEVENT
UID:15841473@ezleagues.ezfacility.com
DTSTAMP:20260426T034040Z
CREATED:20260426T034040Z
DTSTART:20250211T230000Z
DTEND:20250212T000000Z
LOCATION:Field 1
CONTACT:
SUMMARY:Team 14 VS. Team 10
DESCRIPTION:League Name: Fall League \nGame Type: Regular\nGame Status: Pen
 ding\nHome Team: Team 14\nAway Team: Team 10\n
END:VEVENT
BEGIN:VEVENT
UID:15841489@ezleagues.ezfacility.com
DTSTAMP:20260426T034040Z
CREATED:20260426T034040Z
DTSTART:20250218T230000Z
DTEND:20250219T000000Z
LOCATION:Field 1
CONTACT:
SUMMARY:Team 14 VS. Team 06
DESCRIPTION:League Name: Fall League \nGame Type: Regular\nGame Status: Pen
 ding\nHome Team: Team 14\nAway Team: Team 06\n
END:VEVENT
BEGIN:VEVENT
UID:15841505@ezleagues.ezfacility.com
DTSTAMP:20260426T034040Z
CREATED:20260426T034040Z
DTSTART:20250226T000000Z
DTEND:20250226T010000Z
LOCATION:Court 1
CONTACT:
SUMMARY:Team 14 VS. Team 02
DESCRIPTION:League Name: Fall League \nGame Type: Regular\nGame Status: Pen
 ding\nHome Team: Team 14\nAway Team: Team 02\n
END:VEVENT
BEGIN:VEVENT
UID:15841521@ezleagues.ezfacility.com
DTSTAMP:20260426T034040Z
CREATED:20260426T034040Z
DTSTART:20250305T000000Z
DTEND:20250305T010000Z
LOCATION:Court 1
CONTACT:
SUMMARY:Team 14 VS. Team 05
DESCRIPTION:League Name: Fall League \nGame Type: Regular\nGame Status: Pen
 ding\nHome Team: Team 14\nAway Team: Team 05\n
END:VEVENT
BEGIN:VEVENT
UID:15841537@ezleagues.ezfacility.com
DTSTAMP:20260426T034040Z
CREATED:20260426T034040Z
DTSTART:20250311T020000Z
DTEND:20250311T030000Z
LOCATION:Field 1
CONTACT:
SUMMARY:Team 14 VS. Team 09
DESCRIPTION:League Name: Fall League \nGame Type: Regular\nGame Status: Pen
 ding\nHome Team: Team 14\nAway Team: Team 09\n
END:VEVENT
BEGIN:VEVENT
UID:15841553@ezleagues.ezfacility.com
DTSTAMP:20260426T034040Z
CREATED:20260426T034040Z
DTSTART:20250318T010000Z
DTEND:20250318T020000Z
LOCATION:Field 1
CONTACT:
SUMMARY:Team 14 VS. Team 13
DESCRIPTION:League Name: Fall League \nGame Type: Regular\nGame Status: Pen
 ding\nHome Team: Team 14\nAway Team: Team 13\n
END:VEVENT
END:VCALENDAR
