BEGIN:VCALENDAR
VERSION:2.0
PRODID:-//EZFacility.com, Inc.//EZL 2.5.5.28621
BEGIN:VEVENT
UID:15853425@ezleagues.ezfacility.com
DTSTAMP:20260426T033739Z
CREATED:20260426T033739Z
DTSTART:20240814T012000Z
DTEND:20240814T021000Z
LOCATION:Field 3A
CONTACT:
SUMMARY:Fighting Koalas VS. Bouncy Basketball Boys
DESCRIPTION:League Name: Adult Basketball League Session 3\nGame Type: Regu
 lar\nGame Status: Complete\nHome Team: Fighting Koalas\nAway Team: Bouncy 
 Basketball Boys\nHome Score: 77\nAway Score: 72
END:VEVENT
BEGIN:VEVENT
UID:15853429@ezleagues.ezfacility.com
DTSTAMP:20260426T033739Z
CREATED:20260426T033739Z
DTSTART:20240821T011000Z
DTEND:20240821T020000Z
LOCATION:Field 3A
CONTACT:
SUMMARY:Bouncy Basketball Boys VS. Get the Belt 
DESCRIPTION:League Name: Adult Basketball League Session 3\nGame Type: Regu
 lar\nGame Status: Complete\nHome Team: Bouncy Basketball Boys\nAway Team: 
 Get the Belt \nHome Score: 63\nAway Score: 67
END:VEVENT
BEGIN:VEVENT
UID:15853433@ezleagues.ezfacility.com
DTSTAMP:20260426T033739Z
CREATED:20260426T033739Z
DTSTART:20240827T233000Z
DTEND:20240828T002000Z
LOCATION:Field 3A
CONTACT:
SUMMARY:Young Ballers VS. Bouncy Basketball Boys
DESCRIPTION:League Name: Adult Basketball League Session 3\nGame Type: Regu
 lar\nGame Status: Complete\nHome Team: Young Ballers\nAway Team: Bouncy Ba
 sketball Boys\nHome Score: 32\nAway Score: 55
END:VEVENT
BEGIN:VEVENT
UID:15853441@ezleagues.ezfacility.com
DTSTAMP:20260426T033739Z
CREATED:20260426T033739Z
DTSTART:20240911T002000Z
DTEND:20240911T011000Z
LOCATION:Field 3A
CONTACT:
SUMMARY:The Bricks VS. Bouncy Basketball Boys
DESCRIPTION:League Name: Adult Basketball League Session 3\nGame Type: Regu
 lar\nGame Status: Complete\nHome Team: The Bricks\nAway Team: Bouncy Baske
 tball Boys\nHome Score: 26\nAway Score: 68
END:VEVENT
BEGIN:VEVENT
UID:15853445@ezleagues.ezfacility.com
DTSTAMP:20260426T033739Z
CREATED:20260426T033739Z
DTSTART:20240918T002000Z
DTEND:20240918T011000Z
LOCATION:Field 3A
CONTACT:
SUMMARY:Bouncy Basketball Boys VS. Lakers
DESCRIPTION:League Name: Adult Basketball League Session 3\nGame Type: Regu
 lar\nGame Status: Complete\nHome Team: Bouncy Basketball Boys\nAway Team: 
 Lakers\nHome Score: 43\nAway Score: 45
END:VEVENT
BEGIN:VEVENT
UID:15853449@ezleagues.ezfacility.com
DTSTAMP:20260426T033739Z
CREATED:20260426T033739Z
DTSTART:20240925T011000Z
DTEND:20240925T020000Z
LOCATION:Field 3A
CONTACT:
SUMMARY:Bouncy Basketball Boys VS. Cavaliers 
DESCRIPTION:League Name: Adult Basketball League Session 3\nGame Type: Regu
 lar\nGame Status: Complete\nHome Team: Bouncy Basketball Boys\nAway Team: 
 Cavaliers \nHome Score: 82\nAway Score: 40
END:VEVENT
BEGIN:VEVENT
UID:15953033@ezleagues.ezfacility.com
DTSTAMP:20260426T033739Z
CREATED:20260426T033739Z
DTSTART:20241004T002000Z
DTEND:20241004T011000Z
LOCATION:Field 3A
CONTACT:
SUMMARY:Bouncy Basketball Boys VS. Winner of 6:30pm
DESCRIPTION:League Name: Adult Basketball League Session 3\nGame Type: Post
 season\nGame Status: Complete\nHome Team: Bouncy Basketball Boys\nAway Tea
 m: Winner of 6:30pm\nHome Score: 0\nAway Score: 0
END:VEVENT
END:VCALENDAR
