BEGIN:VCALENDAR
VERSION:2.0
PRODID:-//EZFacility.com, Inc.//EZL 2.5.5.28621
BEGIN:VEVENT
UID:15859570@ezleagues.ezfacility.com
DTSTAMP:20260424T044354Z
CREATED:20260424T044354Z
DTSTART:20240830T025000Z
DTEND:20240830T035000Z
LOCATION:Field 2
CONTACT:
SUMMARY:Misfits VS. EDCO
DESCRIPTION:League Name: Men's Softball-Fall 2024 (COPY)\nGame Type: Regula
 r\nGame Status: Complete\nHome Team: Misfits\nAway Team: EDCO\nHome Score:
  14\nAway Score: 21
END:VEVENT
BEGIN:VEVENT
UID:15859573@ezleagues.ezfacility.com
DTSTAMP:20260424T044354Z
CREATED:20260424T044354Z
DTSTART:20240906T040000Z
DTEND:20240906T050000Z
LOCATION:Field 2
CONTACT:
SUMMARY:Misfits VS. DILFS OF LRV
DESCRIPTION:League Name: Men's Softball-Fall 2024 (COPY)\nGame Type: Regula
 r\nGame Status: Complete\nHome Team: Misfits\nAway Team: DILFS OF LRV\nHom
 e Score: 15\nAway Score: 6
END:VEVENT
BEGIN:VEVENT
UID:15859582@ezleagues.ezfacility.com
DTSTAMP:20260424T044354Z
CREATED:20260424T044354Z
DTSTART:20240913T040000Z
DTEND:20240913T050000Z
LOCATION:Field 2
CONTACT:
SUMMARY:Misfits VS. Legacy
DESCRIPTION:League Name: Men's Softball-Fall 2024 (COPY)\nGame Type: Regula
 r\nGame Status: Complete\nHome Team: Misfits\nAway Team: Legacy\nHome Scor
 e: 9\nAway Score: 24
END:VEVENT
BEGIN:VEVENT
UID:15859598@ezleagues.ezfacility.com
DTSTAMP:20260424T044354Z
CREATED:20260424T044354Z
DTSTART:20240927T025000Z
DTEND:20240927T035000Z
LOCATION:Field 2
CONTACT:
SUMMARY:Misfits VS. Sluggers
DESCRIPTION:League Name: Men's Softball-Fall 2024 (COPY)\nGame Type: Regula
 r\nGame Status: Complete\nHome Team: Misfits\nAway Team: Sluggers\nHome Sc
 ore: 15\nAway Score: 22
END:VEVENT
BEGIN:VEVENT
UID:15859603@ezleagues.ezfacility.com
DTSTAMP:20260424T044354Z
CREATED:20260424T044354Z
DTSTART:20241004T014000Z
DTEND:20241004T024000Z
LOCATION:Field 2
CONTACT:
SUMMARY:MUDWORMS VS. Misfits
DESCRIPTION:League Name: Men's Softball-Fall 2024 (COPY)\nGame Type: Regula
 r\nGame Status: Complete\nHome Team: MUDWORMS\nAway Team: Misfits\nHome Sc
 ore: 17\nAway Score: 2
END:VEVENT
BEGIN:VEVENT
UID:15859612@ezleagues.ezfacility.com
DTSTAMP:20260424T044354Z
CREATED:20260424T044354Z
DTSTART:20241011T014000Z
DTEND:20241011T024000Z
LOCATION:Field 2
CONTACT:
SUMMARY:FER VS. Misfits
DESCRIPTION:League Name: Men's Softball-Fall 2024 (COPY)\nGame Type: Regula
 r\nGame Status: Complete\nHome Team: FER\nAway Team: Misfits\nHome Score: 
 7\nAway Score: 18
END:VEVENT
BEGIN:VEVENT
UID:15859618@ezleagues.ezfacility.com
DTSTAMP:20260424T044354Z
CREATED:20260424T044354Z
DTSTART:20241018T031000Z
DTEND:20241018T041000Z
LOCATION:Field 3
CONTACT:
SUMMARY:Cully Repair VS. Misfits
DESCRIPTION:League Name: Men's Softball-Fall 2024 (COPY)\nGame Type: Regula
 r\nGame Status: Complete\nHome Team: Cully Repair\nAway Team: Misfits\nHom
 e Score: 18\nAway Score: 17
END:VEVENT
BEGIN:VEVENT
UID:15859624@ezleagues.ezfacility.com
DTSTAMP:20260424T044354Z
CREATED:20260424T044354Z
DTSTART:20241025T031000Z
DTEND:20241025T041000Z
LOCATION:Field 3
CONTACT:
SUMMARY:Fallbrook Avocado Gobblers VS. Misfits
DESCRIPTION:League Name: Men's Softball-Fall 2024 (COPY)\nGame Type: Regula
 r\nGame Status: Complete\nHome Team: Fallbrook Avocado Gobblers\nAway Team
 : Misfits\nHome Score: 18\nAway Score: 17
END:VEVENT
BEGIN:VEVENT
UID:15859837@ezleagues.ezfacility.com
DTSTAMP:20260424T044354Z
CREATED:20260424T044354Z
DTSTART:20241108T024000Z
DTEND:20241108T034000Z
LOCATION:Field 2
CONTACT:
SUMMARY:DILFS OF LRV VS. Misfits
DESCRIPTION:League Name: Men's Softball-Fall 2024 (COPY)\nGame Type: Regula
 r\nGame Status: Complete\nHome Team: DILFS OF LRV\nAway Team: Misfits\nHom
 e Score: 21\nAway Score: 20
END:VEVENT
BEGIN:VEVENT
UID:15859852@ezleagues.ezfacility.com
DTSTAMP:20260424T044354Z
CREATED:20260424T044354Z
DTSTART:20241115T051000Z
DTEND:20241115T061000Z
LOCATION:Field 3
CONTACT:
SUMMARY:No Mames Gueys VS. Misfits
DESCRIPTION:League Name: Men's Softball-Fall 2024 (COPY)\nGame Type: Regula
 r\nGame Status: Complete\nHome Team: No Mames Gueys\nAway Team: Misfits\nH
 ome Score: 10\nAway Score: 16
END:VEVENT
BEGIN:VEVENT
UID:16099351@ezleagues.ezfacility.com
DTSTAMP:20260424T044354Z
CREATED:20260424T044354Z
DTSTART:20241220T050000Z
DTEND:20241220T060000Z
LOCATION:Field 2
CONTACT:
SUMMARY:DILFS OF LRV VS. Misfits
DESCRIPTION:League Name: Men's Softball-Fall 2024 (COPY)\nGame Type: Postse
 ason\nGame Status: Complete\nHome Team: DILFS OF LRV\nAway Team: Misfits\n
 Home Score: 20\nAway Score: 19
END:VEVENT
END:VCALENDAR
