BEGIN:VCALENDAR
VERSION:2.0
PRODID:-//EZFacility.com, Inc.//EZL 2.5.5.28621
BEGIN:VEVENT
UID:15861027@ezleagues.ezfacility.com
DTSTAMP:20260420T053511Z
CREATED:20260420T053511Z
DTSTART:20240827T055000Z
DTEND:20240827T065000Z
LOCATION:RCF West - Tigard
CONTACT:
SUMMARY:Bicyclist FC VS. HABIBI FC
DESCRIPTION:League Name: RCF West AL Fall 24'- Men D4 Black (M/F)\nGame Typ
 e: Regular\nGame Status: Pending\nHome Team: Bicyclist FC\nAway Team: HABI
 BI FC\n
END:VEVENT
BEGIN:VEVENT
UID:15861046@ezleagues.ezfacility.com
DTSTAMP:20260420T053511Z
CREATED:20260420T053511Z
DTSTART:20240907T051000Z
DTEND:20240907T061000Z
LOCATION:RCF West - Buenos Aires
CONTACT:
SUMMARY:Ski Bowlers VS. HABIBI FC
DESCRIPTION:League Name: RCF West AL Fall 24'- Men D4 Black (M/F)\nGame Typ
 e: Regular\nGame Status: Complete\nHome Team: Ski Bowlers\nAway Team: HABI
 BI FC\nHome Score: 6\nAway Score: 8
END:VEVENT
BEGIN:VEVENT
UID:15861065@ezleagues.ezfacility.com
DTSTAMP:20260420T053511Z
CREATED:20260420T053511Z
DTSTART:20240914T051000Z
DTEND:20240914T061000Z
LOCATION:RCF West - Buenos Aires
CONTACT:
SUMMARY:BPP VS. HABIBI FC
DESCRIPTION:League Name: RCF West AL Fall 24'- Men D4 Black (M/F)\nGame Typ
 e: Regular\nGame Status: Complete\nHome Team: BPP\nAway Team: HABIBI FC\nH
 ome Score: 6\nAway Score: 4
END:VEVENT
BEGIN:VEVENT
UID:15861083@ezleagues.ezfacility.com
DTSTAMP:20260420T053511Z
CREATED:20260420T053511Z
DTSTART:20240921T041000Z
DTEND:20240921T051000Z
LOCATION:Cancellation
CONTACT:
SUMMARY:HABIBI FC VS. POA Blues
DESCRIPTION:League Name: RCF West AL Fall 24'- Men D4 Black (M/F)\nGame Typ
 e: Regular\nGame Status: Complete\nHome Team: HABIBI FC\nAway Team: POA Bl
 ues\nHome Score: 7\nAway Score: 0
END:VEVENT
BEGIN:VEVENT
UID:15861100@ezleagues.ezfacility.com
DTSTAMP:20260420T053511Z
CREATED:20260420T053511Z
DTSTART:20240928T031000Z
DTEND:20240928T041000Z
LOCATION:RCF West - Buenos Aires
CONTACT:
SUMMARY:HABIBI FC VS. Piratas FC
DESCRIPTION:League Name: RCF West AL Fall 24'- Men D4 Black (M/F)\nGame Typ
 e: Regular\nGame Status: Complete\nHome Team: HABIBI FC\nAway Team: Pirata
 s FC\nHome Score: 4\nAway Score: 5
END:VEVENT
BEGIN:VEVENT
UID:15861117@ezleagues.ezfacility.com
DTSTAMP:20260420T053511Z
CREATED:20260420T053511Z
DTSTART:20241005T035000Z
DTEND:20241005T045000Z
LOCATION:RCF West - Tigard
CONTACT:
SUMMARY:HABIBI FC VS. Bicyclist FC
DESCRIPTION:League Name: RCF West AL Fall 24'- Men D4 Black (M/F)\nGame Typ
 e: Regular\nGame Status: Complete\nHome Team: HABIBI FC\nAway Team: Bicycl
 ist FC\nHome Score: 9\nAway Score: 8
END:VEVENT
BEGIN:VEVENT
UID:15861136@ezleagues.ezfacility.com
DTSTAMP:20260420T053511Z
CREATED:20260420T053511Z
DTSTART:20241012T041000Z
DTEND:20241012T051000Z
LOCATION:RCF West - Buenos Aires
CONTACT:
SUMMARY:HABIBI FC VS. Ski Bowlers
DESCRIPTION:League Name: RCF West AL Fall 24'- Men D4 Black (M/F)\nGame Typ
 e: Regular\nGame Status: Complete\nHome Team: HABIBI FC\nAway Team: Ski Bo
 wlers\nHome Score: 9\nAway Score: 8
END:VEVENT
BEGIN:VEVENT
UID:15861155@ezleagues.ezfacility.com
DTSTAMP:20260420T053511Z
CREATED:20260420T053511Z
DTSTART:20241019T041000Z
DTEND:20241019T051000Z
LOCATION:RCF West - Buenos Aires
CONTACT:
SUMMARY:HABIBI FC VS. BPP
DESCRIPTION:League Name: RCF West AL Fall 24'- Men D4 Black (M/F)\nGame Typ
 e: Regular\nGame Status: Complete\nHome Team: HABIBI FC\nAway Team: BPP\nH
 ome Score: 6\nAway Score: 10
END:VEVENT
BEGIN:VEVENT
UID:15861173@ezleagues.ezfacility.com
DTSTAMP:20260420T053511Z
CREATED:20260420T053511Z
DTSTART:20241026T043000Z
DTEND:20241026T053000Z
LOCATION:Cancellation
CONTACT:
SUMMARY:POA Blues VS. HABIBI FC
DESCRIPTION:League Name: RCF West AL Fall 24'- Men D4 Black (M/F)\nGame Typ
 e: Regular\nGame Status: Complete\nHome Team: POA Blues\nAway Team: HABIBI
  FC\nHome Score: 0\nAway Score: 7
END:VEVENT
BEGIN:VEVENT
UID:15861190@ezleagues.ezfacility.com
DTSTAMP:20260420T053511Z
CREATED:20260420T053511Z
DTSTART:20241102T051000Z
DTEND:20241102T061000Z
LOCATION:RCF West - Buenos Aires
CONTACT:
SUMMARY:Piratas FC VS. HABIBI FC
DESCRIPTION:League Name: RCF West AL Fall 24'- Men D4 Black (M/F)\nGame Typ
 e: Regular\nGame Status: Complete\nHome Team: Piratas FC\nAway Team: HABIB
 I FC\nHome Score: 7\nAway Score: 13
END:VEVENT
END:VCALENDAR
