BEGIN:VCALENDAR
VERSION:2.0
PRODID:-//EZFacility.com, Inc.//EZL 2.5.5.28621
BEGIN:VEVENT
UID:15956100@ezleagues.ezfacility.com
DTSTAMP:20260426T034956Z
CREATED:20260426T034956Z
DTSTART:20241010T234500Z
DTEND:20241011T003000Z
LOCATION:Soccer Field 
CONTACT:
SUMMARY:Robbys VS. Big Brown
DESCRIPTION:League Name: Thursday Coed Soccer 2024 Oct\nGame Type: Regular\
 nGame Status: Complete\nHome Team: Robbys\nAway Team: Big Brown\nHome Scor
 e: 7\nAway Score: 4
END:VEVENT
BEGIN:VEVENT
UID:15956101@ezleagues.ezfacility.com
DTSTAMP:20260426T034956Z
CREATED:20260426T034956Z
DTSTART:20241011T003000Z
DTEND:20241011T011500Z
LOCATION:Soccer Field 
CONTACT:
SUMMARY:Robbys VS. Big Green
DESCRIPTION:League Name: Thursday Coed Soccer 2024 Oct\nGame Type: Regular\
 nGame Status: Complete\nHome Team: Robbys\nAway Team: Big Green\nHome Scor
 e: 6\nAway Score: 6
END:VEVENT
BEGIN:VEVENT
UID:15956112@ezleagues.ezfacility.com
DTSTAMP:20260426T034956Z
CREATED:20260426T034956Z
DTSTART:20241024T234500Z
DTEND:20241025T003000Z
LOCATION:Soccer Field 
CONTACT:
SUMMARY:Robbys VS. Big Brown
DESCRIPTION:League Name: Thursday Coed Soccer 2024 Oct\nGame Type: Regular\
 nGame Status: Complete\nHome Team: Robbys\nAway Team: Big Brown\nHome Scor
 e: 8\nAway Score: 4
END:VEVENT
BEGIN:VEVENT
UID:15956126@ezleagues.ezfacility.com
DTSTAMP:20260426T034956Z
CREATED:20260426T034956Z
DTSTART:20241108T004500Z
DTEND:20241108T013000Z
LOCATION:Soccer Field 
CONTACT:
SUMMARY:Robbys VS. Brickhouse FC
DESCRIPTION:League Name: Thursday Coed Soccer 2024 Oct\nGame Type: Regular\
 nGame Status: Complete\nHome Team: Robbys\nAway Team: Brickhouse FC\nHome 
 Score: 8\nAway Score: 2
END:VEVENT
BEGIN:VEVENT
UID:15956133@ezleagues.ezfacility.com
DTSTAMP:20260426T034956Z
CREATED:20260426T034956Z
DTSTART:20241115T030000Z
DTEND:20241115T034500Z
LOCATION:Soccer Field 
CONTACT:
SUMMARY:Robbys VS. Bad Touch
DESCRIPTION:League Name: Thursday Coed Soccer 2024 Oct\nGame Type: Regular\
 nGame Status: Complete\nHome Team: Robbys\nAway Team: Bad Touch\nHome Scor
 e: 8\nAway Score: 1
END:VEVENT
BEGIN:VEVENT
UID:15956139@ezleagues.ezfacility.com
DTSTAMP:20260426T034956Z
CREATED:20260426T034956Z
DTSTART:20241122T021500Z
DTEND:20241122T030000Z
LOCATION:Soccer Field 
CONTACT:
SUMMARY:Robbys VS. Kicks and Giggles
DESCRIPTION:League Name: Thursday Coed Soccer 2024 Oct\nGame Type: Regular\
 nGame Status: Complete\nHome Team: Robbys\nAway Team: Kicks and Giggles\nH
 ome Score: 3\nAway Score: 3
END:VEVENT
BEGIN:VEVENT
UID:15956119@ezleagues.ezfacility.com
DTSTAMP:20260426T034956Z
CREATED:20260426T034956Z
DTSTART:20241206T013000Z
DTEND:20241206T021500Z
LOCATION:Soccer Field 
CONTACT:
SUMMARY:Pinkertons VS. Robbys
DESCRIPTION:League Name: Thursday Coed Soccer 2024 Oct\nGame Type: Regular\
 nGame Status: Complete\nHome Team: Pinkertons\nAway Team: Robbys\nHome Sco
 re: 4\nAway Score: 5
END:VEVENT
BEGIN:VEVENT
UID:15956142@ezleagues.ezfacility.com
DTSTAMP:20260426T034956Z
CREATED:20260426T034956Z
DTSTART:20241213T004500Z
DTEND:20241213T013000Z
LOCATION:Soccer Field 
CONTACT:
SUMMARY:Big Green VS. Robbys
DESCRIPTION:League Name: Thursday Coed Soccer 2024 Oct\nGame Type: Regular\
 nGame Status: Pending\nHome Team: Big Green\nAway Team: Robbys\n
END:VEVENT
END:VCALENDAR
