BEGIN:VCALENDAR
VERSION:2.0
PRODID:-//EZFacility.com, Inc.//EZL 2.5.5.28621
BEGIN:VEVENT
UID:15862972@ezleagues.ezfacility.com
DTSTAMP:20260424T090501Z
CREATED:20260424T090501Z
DTSTART:20240820T000000Z
DTEND:20240820T010000Z
LOCATION:Field 6 BLD Outdoor
CONTACT:
SUMMARY:Dptv Correcaminos VS. NC FC
DESCRIPTION:League Name: LUNES LIBRE (8/5)\nGame Type: Regular\nGame Status
 : Complete\nHome Team: Dptv Correcaminos\nAway Team: NC FC\nHome Score: 6\
 nAway Score: 5
END:VEVENT
BEGIN:VEVENT
UID:15871403@ezleagues.ezfacility.com
DTSTAMP:20260424T090501Z
CREATED:20260424T090501Z
DTSTART:20240827T010000Z
DTEND:20240827T020000Z
LOCATION:Field 1 BLD
CONTACT:
SUMMARY:NC FC VS. La Banketa
DESCRIPTION:League Name: LUNES LIBRE (8/5)\nGame Type: Regular\nGame Status
 : Complete\nHome Team: NC FC\nAway Team: La Banketa\nHome Score: 16\nAway 
 Score: 23
END:VEVENT
BEGIN:VEVENT
UID:15900528@ezleagues.ezfacility.com
DTSTAMP:20260424T090501Z
CREATED:20260424T090501Z
DTSTART:20240909T230000Z
DTEND:20240910T000000Z
LOCATION:Field 6 BLD Outdoor
CONTACT:
SUMMARY:NC FC VS. River Plate
DESCRIPTION:League Name: LUNES LIBRE (8/5)\nGame Type: Regular\nGame Status
 : Complete\nHome Team: NC FC\nAway Team: River Plate\nHome Score: 6\nAway 
 Score: 6
END:VEVENT
BEGIN:VEVENT
UID:15917004@ezleagues.ezfacility.com
DTSTAMP:20260424T090501Z
CREATED:20260424T090501Z
DTSTART:20240916T235500Z
DTEND:20240917T005500Z
LOCATION:Field 1 BLD
CONTACT:
SUMMARY:PSG VS. NC FC
DESCRIPTION:League Name: LUNES LIBRE (8/5)\nGame Type: Regular\nGame Status
 : Complete\nHome Team: PSG\nAway Team: NC FC\nHome Score: 15\nAway Score: 
 8
END:VEVENT
BEGIN:VEVENT
UID:15932084@ezleagues.ezfacility.com
DTSTAMP:20260424T090501Z
CREATED:20260424T090501Z
DTSTART:20240924T000000Z
DTEND:20240924T010000Z
LOCATION:Field 3 BLD
CONTACT:
SUMMARY:NC FC VS. Portugal
DESCRIPTION:League Name: LUNES LIBRE (8/5)\nGame Type: Regular\nGame Status
 : Complete\nHome Team: NC FC\nAway Team: Portugal\nHome Score: 8\nAway Sco
 re: 21
END:VEVENT
BEGIN:VEVENT
UID:15952666@ezleagues.ezfacility.com
DTSTAMP:20260424T090501Z
CREATED:20260424T090501Z
DTSTART:20241001T010000Z
DTEND:20241001T020000Z
LOCATION:Field 3 BLD
CONTACT:
SUMMARY:PSG VS. NC FC
DESCRIPTION:League Name: LUNES LIBRE (8/5)\nGame Type: Regular\nGame Status
 : Complete\nHome Team: PSG\nAway Team: NC FC\nHome Score: 1\nAway Score: 0
END:VEVENT
BEGIN:VEVENT
UID:15963433@ezleagues.ezfacility.com
DTSTAMP:20260424T090501Z
CREATED:20260424T090501Z
DTSTART:20241008T000000Z
DTEND:20241008T010000Z
LOCATION:Field 5 BLD
CONTACT:
SUMMARY:Takiss VS. NC FC
DESCRIPTION:League Name: LUNES LIBRE (8/5)\nGame Type: Regular\nGame Status
 : Complete\nHome Team: Takiss\nAway Team: NC FC\nHome Score: 13\nAway Scor
 e: 9
END:VEVENT
BEGIN:VEVENT
UID:15999692@ezleagues.ezfacility.com
DTSTAMP:20260424T090501Z
CREATED:20260424T090501Z
DTSTART:20241022T010000Z
DTEND:20241022T020000Z
LOCATION:Field 2 BLD
CONTACT:
SUMMARY:NC FC VS. Guanajuato
DESCRIPTION:League Name: LUNES LIBRE (8/5)\nGame Type: Regular\nGame Status
 : Complete\nHome Team: NC FC\nAway Team: Guanajuato\nHome Score: 11\nAway 
 Score: 14
END:VEVENT
BEGIN:VEVENT
UID:16014072@ezleagues.ezfacility.com
DTSTAMP:20260424T090501Z
CREATED:20260424T090501Z
DTSTART:20241029T013000Z
DTEND:20241029T023000Z
LOCATION:Field 1 BLD
CONTACT:
SUMMARY:Jrs VS. NC FC
DESCRIPTION:League Name: LUNES LIBRE (8/5)\nGame Type: Regular\nGame Status
 : Complete\nHome Team: Jrs\nAway Team: NC FC\nHome Score: 20\nAway Score: 
 9
END:VEVENT
BEGIN:VEVENT
UID:16031425@ezleagues.ezfacility.com
DTSTAMP:20260424T090501Z
CREATED:20260424T090501Z
DTSTART:20241105T020000Z
DTEND:20241105T030000Z
LOCATION:Field 1 BLD
CONTACT:
SUMMARY:Pitayo VS. NC FC
DESCRIPTION:League Name: LUNES LIBRE (8/5)\nGame Type: Regular\nGame Status
 : Complete\nHome Team: Pitayo\nAway Team: NC FC\nHome Score: 18\nAway Scor
 e: 8
END:VEVENT
BEGIN:VEVENT
UID:16054383@ezleagues.ezfacility.com
DTSTAMP:20260424T090501Z
CREATED:20260424T090501Z
DTSTART:20241112T010000Z
DTEND:20241112T020000Z
LOCATION:Field 1 BLD
CONTACT:
SUMMARY:CD Vida VS. NC FC
DESCRIPTION:League Name: LUNES LIBRE (8/5)\nGame Type: Regular\nGame Status
 : Complete\nHome Team: CD Vida\nAway Team: NC FC\nHome Score: 14\nAway Sco
 re: 24
END:VEVENT
BEGIN:VEVENT
UID:16070462@ezleagues.ezfacility.com
DTSTAMP:20260424T090501Z
CREATED:20260424T090501Z
DTSTART:20241119T030000Z
DTEND:20241119T040000Z
LOCATION:Field 2 BLD
CONTACT:
SUMMARY:NC FC VS. Manchester United
DESCRIPTION:League Name: LUNES LIBRE (8/5)\nGame Type: Regular\nGame Status
 : Cancelled\nHome Team: NC FC\nAway Team: Manchester United\n
END:VEVENT
END:VCALENDAR
