BEGIN:VCALENDAR
VERSION:2.0
PRODID:-//EZFacility.com, Inc.//EZL 2.5.5.28621
BEGIN:VEVENT
UID:15862973@ezleagues.ezfacility.com
DTSTAMP:20260424T041502Z
CREATED:20260424T041502Z
DTSTART:20240820T010000Z
DTEND:20240820T020000Z
LOCATION:Field 3 BLD
CONTACT:
SUMMARY:Portugal VS. LA FC
DESCRIPTION:League Name: LUNES LIBRE (8/5)\nGame Type: Regular\nGame Status
 : Complete\nHome Team: Portugal\nAway Team: LA FC\nHome Score: 19\nAway Sc
 ore: 7
END:VEVENT
BEGIN:VEVENT
UID:15871399@ezleagues.ezfacility.com
DTSTAMP:20260424T041502Z
CREATED:20260424T041502Z
DTSTART:20240827T000000Z
DTEND:20240827T010000Z
LOCATION:Field 5 BLD
CONTACT:
SUMMARY:Mary FC VS. LA FC
DESCRIPTION:League Name: LUNES LIBRE (8/5)\nGame Type: Regular\nGame Status
 : Complete\nHome Team: Mary FC\nAway Team: LA FC\nHome Score: 10\nAway Sco
 re: 3
END:VEVENT
BEGIN:VEVENT
UID:15900531@ezleagues.ezfacility.com
DTSTAMP:20260424T041502Z
CREATED:20260424T041502Z
DTSTART:20240910T010000Z
DTEND:20240910T020000Z
LOCATION:Field 6 BLD Outdoor
CONTACT:
SUMMARY:CD Vida VS. LA FC
DESCRIPTION:League Name: LUNES LIBRE (8/5)\nGame Type: Regular\nGame Status
 : Complete\nHome Team: CD Vida\nAway Team: LA FC\nHome Score: 6\nAway Scor
 e: 4
END:VEVENT
BEGIN:VEVENT
UID:15917006@ezleagues.ezfacility.com
DTSTAMP:20260424T041502Z
CREATED:20260424T041502Z
DTSTART:20240917T005000Z
DTEND:20240917T015000Z
LOCATION:Field 1 BLD
CONTACT:
SUMMARY:LA FC VS. Los Plebes Futboleros FC
DESCRIPTION:League Name: LUNES LIBRE (8/5)\nGame Type: Regular\nGame Status
 : Complete\nHome Team: LA FC\nAway Team: Los Plebes Futboleros FC\nHome Sc
 ore: 14\nAway Score: 11
END:VEVENT
BEGIN:VEVENT
UID:15932089@ezleagues.ezfacility.com
DTSTAMP:20260424T041502Z
CREATED:20260424T041502Z
DTSTART:20240924T000000Z
DTEND:20240924T010000Z
LOCATION:Field 1 BLD
CONTACT:
SUMMARY:La Banketa VS. LA FC
DESCRIPTION:League Name: LUNES LIBRE (8/5)\nGame Type: Regular\nGame Status
 : Complete\nHome Team: La Banketa\nAway Team: LA FC\nHome Score: 16\nAway 
 Score: 13
END:VEVENT
BEGIN:VEVENT
UID:15952660@ezleagues.ezfacility.com
DTSTAMP:20260424T041502Z
CREATED:20260424T041502Z
DTSTART:20241001T000000Z
DTEND:20241001T010000Z
LOCATION:Field 2 BLD
CONTACT:
SUMMARY:LA FC VS. Manchester United
DESCRIPTION:League Name: LUNES LIBRE (8/5)\nGame Type: Regular\nGame Status
 : Complete\nHome Team: LA FC\nAway Team: Manchester United\nHome Score: 12
 \nAway Score: 9
END:VEVENT
BEGIN:VEVENT
UID:15963436@ezleagues.ezfacility.com
DTSTAMP:20260424T041502Z
CREATED:20260424T041502Z
DTSTART:20241007T230000Z
DTEND:20241008T000000Z
LOCATION:Field 2 BLD
CONTACT:
SUMMARY:LA FC VS. River Plate
DESCRIPTION:League Name: LUNES LIBRE (8/5)\nGame Type: Regular\nGame Status
 : Complete\nHome Team: LA FC\nAway Team: River Plate\nHome Score: 12\nAway
  Score: 14
END:VEVENT
BEGIN:VEVENT
UID:15977351@ezleagues.ezfacility.com
DTSTAMP:20260424T041502Z
CREATED:20260424T041502Z
DTSTART:20241015T010000Z
DTEND:20241015T020000Z
LOCATION:Field 2 BLD
CONTACT:
SUMMARY:Guanajuato VS. LA FC
DESCRIPTION:League Name: LUNES LIBRE (8/5)\nGame Type: Regular\nGame Status
 : Complete\nHome Team: Guanajuato\nAway Team: LA FC\nHome Score: 11\nAway 
 Score: 10
END:VEVENT
BEGIN:VEVENT
UID:15999691@ezleagues.ezfacility.com
DTSTAMP:20260424T041502Z
CREATED:20260424T041502Z
DTSTART:20241022T010000Z
DTEND:20241022T020000Z
LOCATION:Field 1 BLD
CONTACT:
SUMMARY:LA FC VS. Dptv Correcaminos
DESCRIPTION:League Name: LUNES LIBRE (8/5)\nGame Type: Regular\nGame Status
 : Complete\nHome Team: LA FC\nAway Team: Dptv Correcaminos\nHome Score: 10
 \nAway Score: 11
END:VEVENT
BEGIN:VEVENT
UID:16014069@ezleagues.ezfacility.com
DTSTAMP:20260424T041502Z
CREATED:20260424T041502Z
DTSTART:20241029T000000Z
DTEND:20241029T010000Z
LOCATION:Field 2 BLD
CONTACT:
SUMMARY:LA FC VS. Los Plebes Futboleros FC
DESCRIPTION:League Name: LUNES LIBRE (8/5)\nGame Type: Regular\nGame Status
 : Complete\nHome Team: LA FC\nAway Team: Los Plebes Futboleros FC\nHome Sc
 ore: 16\nAway Score: 6
END:VEVENT
BEGIN:VEVENT
UID:16031423@ezleagues.ezfacility.com
DTSTAMP:20260424T041502Z
CREATED:20260424T041502Z
DTSTART:20241105T010000Z
DTEND:20241105T020000Z
LOCATION:Field 1 BLD
CONTACT:
SUMMARY:LA FC VS. Dptv Correcaminos
DESCRIPTION:League Name: LUNES LIBRE (8/5)\nGame Type: Regular\nGame Status
 : Complete\nHome Team: LA FC\nAway Team: Dptv Correcaminos\nHome Score: 14
 \nAway Score: 8
END:VEVENT
BEGIN:VEVENT
UID:16054387@ezleagues.ezfacility.com
DTSTAMP:20260424T041502Z
CREATED:20260424T041502Z
DTSTART:20241112T023000Z
DTEND:20241112T033000Z
LOCATION:Field 1 BLD
CONTACT:
SUMMARY:LA FC VS. Pitayo
DESCRIPTION:League Name: LUNES LIBRE (8/5)\nGame Type: Regular\nGame Status
 : Complete\nHome Team: LA FC\nAway Team: Pitayo\nHome Score: 10\nAway Scor
 e: 7
END:VEVENT
BEGIN:VEVENT
UID:16070456@ezleagues.ezfacility.com
DTSTAMP:20260424T041502Z
CREATED:20260424T041502Z
DTSTART:20241119T020000Z
DTEND:20241119T030000Z
LOCATION:Field 2 BLD
CONTACT:
SUMMARY:Jrs VS. LA FC
DESCRIPTION:League Name: LUNES LIBRE (8/5)\nGame Type: Regular\nGame Status
 : Complete\nHome Team: Jrs\nAway Team: LA FC\nHome Score: 10\nAway Score: 
 9
END:VEVENT
END:VCALENDAR
