BEGIN:VCALENDAR
VERSION:2.0
PRODID:-//EZFacility.com, Inc.//EZL 2.5.5.28621
BEGIN:VEVENT
UID:15872343@ezleagues.ezfacility.com
DTSTAMP:20260424T013251Z
CREATED:20260424T013251Z
DTSTART:20240906T231000Z
DTEND:20240907T000000Z
LOCATION:Rossford Dome FF Field 2
CONTACT:
SUMMARY:Otsego Browns  VS. Seahawks - Thomas 
DESCRIPTION:League Name: 2024 Dome NFL Boys Fall Flag Football 3/4 Grade\nG
 ame Type: Regular\nGame Status: Complete\nHome Team: Otsego Browns \nAway 
 Team: Seahawks - Thomas \nHome Score: 27\nAway Score: 13
END:VEVENT
BEGIN:VEVENT
UID:15872353@ezleagues.ezfacility.com
DTSTAMP:20260424T013251Z
CREATED:20260424T013251Z
DTSTART:20240914T185000Z
DTEND:20240914T194000Z
LOCATION:Rossford Dome FF Field 1
CONTACT:
SUMMARY:Vikings - Sattler  VS. Otsego Browns 
DESCRIPTION:League Name: 2024 Dome NFL Boys Fall Flag Football 3/4 Grade\nG
 ame Type: Regular\nGame Status: Complete\nHome Team: Vikings - Sattler \nA
 way Team: Otsego Browns \nHome Score: 0\nAway Score: 38
END:VEVENT
BEGIN:VEVENT
UID:15872363@ezleagues.ezfacility.com
DTSTAMP:20260424T013251Z
CREATED:20260424T013251Z
DTSTART:20240921T214000Z
DTEND:20240921T223000Z
LOCATION:Rossford Dome FF Field 3
CONTACT:
SUMMARY:Otsego Browns  VS. Raiders - Jackson 
DESCRIPTION:League Name: 2024 Dome NFL Boys Fall Flag Football 3/4 Grade\nG
 ame Type: Regular\nGame Status: Complete\nHome Team: Otsego Browns \nAway 
 Team: Raiders - Jackson \nHome Score: 20\nAway Score: 36
END:VEVENT
BEGIN:VEVENT
UID:15872373@ezleagues.ezfacility.com
DTSTAMP:20260424T013251Z
CREATED:20260424T013251Z
DTSTART:20240927T215000Z
DTEND:20240927T224000Z
LOCATION:Rossford Dome FF Field 2
CONTACT:
SUMMARY:Ravens - Liggons  VS. Otsego Browns 
DESCRIPTION:League Name: 2024 Dome NFL Boys Fall Flag Football 3/4 Grade\nG
 ame Type: Regular\nGame Status: Complete\nHome Team: Ravens - Liggons \nAw
 ay Team: Otsego Browns \nHome Score: 30\nAway Score: 0
END:VEVENT
BEGIN:VEVENT
UID:15872382@ezleagues.ezfacility.com
DTSTAMP:20260424T013251Z
CREATED:20260424T013251Z
DTSTART:20241005T153000Z
DTEND:20241005T163000Z
LOCATION:Mudhens Field 1
CONTACT:
SUMMARY:Lions - Bosworth  VS. Otsego Browns 
DESCRIPTION:League Name: 2024 Dome NFL Boys Fall Flag Football 3/4 Grade\nG
 ame Type: Regular\nGame Status: Complete\nHome Team: Lions - Bosworth \nAw
 ay Team: Otsego Browns \nHome Score: 0\nAway Score: 38
END:VEVENT
BEGIN:VEVENT
UID:15872390@ezleagues.ezfacility.com
DTSTAMP:20260424T013251Z
CREATED:20260424T013251Z
DTSTART:20241011T215000Z
DTEND:20241011T224000Z
LOCATION:Rossford Dome FF Field 3
CONTACT:
SUMMARY:Otsego Browns  VS. Eastwood Philadelphia Eagles 
DESCRIPTION:League Name: 2024 Dome NFL Boys Fall Flag Football 3/4 Grade\nG
 ame Type: Regular\nGame Status: Complete\nHome Team: Otsego Browns \nAway 
 Team: Eastwood Philadelphia Eagles \nHome Score: 6\nAway Score: 33
END:VEVENT
END:VCALENDAR
