BEGIN:VCALENDAR
VERSION:2.0
PRODID:-//EZFacility.com, Inc.//EZL 2.5.5.28621
BEGIN:VEVENT
UID:15881903@ezleagues.ezfacility.com
DTSTAMP:20260426T035059Z
CREATED:20260426T035059Z
DTSTART:20240905T020000Z
DTEND:20240905T030000Z
LOCATION:Field 2
CONTACT:
SUMMARY:Los Caguamos  VS. los Galacticos
DESCRIPTION:League Name:  Men's Open Wednesday\nGame Type: Regular\nGame St
 atus: Complete\nHome Team: Los Caguamos \nAway Team: los Galacticos\nHome 
 Score: 5\nAway Score: 14
END:VEVENT
BEGIN:VEVENT
UID:15881911@ezleagues.ezfacility.com
DTSTAMP:20260426T035059Z
CREATED:20260426T035059Z
DTSTART:20240912T030000Z
DTEND:20240912T040000Z
LOCATION:Field 1
CONTACT:
SUMMARY:Los Caguamos  VS. Los Amigos
DESCRIPTION:League Name:  Men's Open Wednesday\nGame Type: Regular\nGame St
 atus: Complete\nHome Team: Los Caguamos \nAway Team: Los Amigos\nHome Scor
 e: 5\nAway Score: 12
END:VEVENT
BEGIN:VEVENT
UID:15881919@ezleagues.ezfacility.com
DTSTAMP:20260426T035059Z
CREATED:20260426T035059Z
DTSTART:20240919T040000Z
DTEND:20240919T050000Z
LOCATION:Field 2
CONTACT:
SUMMARY:Los Caguamos  VS. Jaguares
DESCRIPTION:League Name:  Men's Open Wednesday\nGame Type: Regular\nGame St
 atus: Complete\nHome Team: Los Caguamos \nAway Team: Jaguares\nHome Score:
  13\nAway Score: 7
END:VEVENT
BEGIN:VEVENT
UID:15881926@ezleagues.ezfacility.com
DTSTAMP:20260426T035059Z
CREATED:20260426T035059Z
DTSTART:20240926T030000Z
DTEND:20240926T040000Z
LOCATION:Field 2
CONTACT:
SUMMARY:Los Blancos VS. Los Caguamos 
DESCRIPTION:League Name:  Men's Open Wednesday\nGame Type: Regular\nGame St
 atus: Complete\nHome Team: Los Blancos\nAway Team: Los Caguamos \nHome Sco
 re: 5\nAway Score: 7
END:VEVENT
BEGIN:VEVENT
UID:15881932@ezleagues.ezfacility.com
DTSTAMP:20260426T035059Z
CREATED:20260426T035059Z
DTSTART:20241003T040000Z
DTEND:20241003T050000Z
LOCATION:Field 1
CONTACT:
SUMMARY:Los Caguamos  VS. Soccer Club F.C.
DESCRIPTION:League Name:  Men's Open Wednesday\nGame Type: Regular\nGame St
 atus: Complete\nHome Team: Los Caguamos \nAway Team: Soccer Club F.C.\nHom
 e Score: 19\nAway Score: 2
END:VEVENT
BEGIN:VEVENT
UID:15881938@ezleagues.ezfacility.com
DTSTAMP:20260426T035059Z
CREATED:20260426T035059Z
DTSTART:20241010T020000Z
DTEND:20241010T030000Z
LOCATION:Field 1
CONTACT:
SUMMARY:Guanajuato VS. Los Caguamos 
DESCRIPTION:League Name:  Men's Open Wednesday\nGame Type: Regular\nGame St
 atus: Complete\nHome Team: Guanajuato\nAway Team: Los Caguamos \nHome Scor
 e: 8\nAway Score: 4
END:VEVENT
BEGIN:VEVENT
UID:15881944@ezleagues.ezfacility.com
DTSTAMP:20260426T035059Z
CREATED:20260426T035059Z
DTSTART:20241017T030000Z
DTEND:20241017T040000Z
LOCATION:Field 2
CONTACT:
SUMMARY:The Shop VS. Los Caguamos 
DESCRIPTION:League Name:  Men's Open Wednesday\nGame Type: Regular\nGame St
 atus: Complete\nHome Team: The Shop\nAway Team: Los Caguamos \nHome Score:
  4\nAway Score: 4
END:VEVENT
BEGIN:VEVENT
UID:15881950@ezleagues.ezfacility.com
DTSTAMP:20260426T035059Z
CREATED:20260426T035059Z
DTSTART:20241024T010000Z
DTEND:20241024T020000Z
LOCATION:Field 1
CONTACT:
SUMMARY:Deportivo Livingston VS. Los Caguamos 
DESCRIPTION:League Name:  Men's Open Wednesday\nGame Type: Regular\nGame St
 atus: Complete\nHome Team: Deportivo Livingston\nAway Team: Los Caguamos \
 nHome Score: 1\nAway Score: 12
END:VEVENT
BEGIN:VEVENT
UID:15999716@ezleagues.ezfacility.com
DTSTAMP:20260426T035059Z
CREATED:20260426T035059Z
DTSTART:20241031T020000Z
DTEND:20241031T024800Z
LOCATION:Field 1
CONTACT:
SUMMARY:Los Blancos VS. Los Caguamos 
DESCRIPTION:League Name:  Men's Open Wednesday\nGame Type: Postseason\nGame
  Status: Complete\nHome Team: Los Blancos\nAway Team: Los Caguamos \nHome 
 Score: 7\nAway Score: 4
END:VEVENT
END:VCALENDAR
