BEGIN:VCALENDAR
VERSION:2.0
PRODID:-//EZFacility.com, Inc.//EZL 2.5.5.28621
BEGIN:VEVENT
UID:15880840@ezleagues.ezfacility.com
DTSTAMP:20260422T104121Z
CREATED:20260422T104121Z
DTSTART:20240910T004500Z
DTEND:20240910T023500Z
LOCATION:Freedom Ridge Blue
CONTACT:
SUMMARY:METS VS. NATIONALS
DESCRIPTION:League Name: 2024 P360 HIGH SCHOOL FALL WOOD BAT LEAGUE (JXN)\n
 Game Type: Regular\nGame Status: Complete\nHome Team: METS\nAway Team: NAT
 IONALS\nHome Score: 5\nAway Score: 6
END:VEVENT
BEGIN:VEVENT
UID:15880847@ezleagues.ezfacility.com
DTSTAMP:20260422T104121Z
CREATED:20260422T104121Z
DTSTART:20240912T224500Z
DTEND:20240913T003500Z
LOCATION:Freedom Ridge Blue
CONTACT:
SUMMARY:NATIONALS VS. ROCKIES
DESCRIPTION:League Name: 2024 P360 HIGH SCHOOL FALL WOOD BAT LEAGUE (JXN)\n
 Game Type: Regular\nGame Status: Complete\nHome Team: NATIONALS\nAway Team
 : ROCKIES\nHome Score: 4\nAway Score: 11
END:VEVENT
BEGIN:VEVENT
UID:15880854@ezleagues.ezfacility.com
DTSTAMP:20260422T104121Z
CREATED:20260422T104121Z
DTSTART:20240918T004500Z
DTEND:20240918T023500Z
LOCATION:Freedom Ridge Red
CONTACT:
SUMMARY:NATIONALS VS. REDS
DESCRIPTION:League Name: 2024 P360 HIGH SCHOOL FALL WOOD BAT LEAGUE (JXN)\n
 Game Type: Regular\nGame Status: Complete\nHome Team: NATIONALS\nAway Team
 : REDS\nHome Score: 11\nAway Score: 1
END:VEVENT
BEGIN:VEVENT
UID:15880871@ezleagues.ezfacility.com
DTSTAMP:20260422T104121Z
CREATED:20260422T104121Z
DTSTART:20240923T224500Z
DTEND:20240924T003500Z
LOCATION:Freedom Ridge Blue
CONTACT:
SUMMARY:NATIONALS VS. BREWERS
DESCRIPTION:League Name: 2024 P360 HIGH SCHOOL FALL WOOD BAT LEAGUE (JXN)\n
 Game Type: Regular\nGame Status: Complete\nHome Team: NATIONALS\nAway Team
 : BREWERS\nHome Score: 7\nAway Score: 6
END:VEVENT
BEGIN:VEVENT
UID:15881691@ezleagues.ezfacility.com
DTSTAMP:20260422T104121Z
CREATED:20260422T104121Z
DTSTART:20240926T224500Z
DTEND:20240927T003500Z
LOCATION:Smith-Wills
CONTACT:
SUMMARY:CUBS VS. NATIONALS
DESCRIPTION:League Name: 2024 P360 HIGH SCHOOL FALL WOOD BAT LEAGUE (JXN)\n
 Game Type: Regular\nGame Status: Complete\nHome Team: CUBS\nAway Team: NAT
 IONALS\nHome Score: 7\nAway Score: 13
END:VEVENT
BEGIN:VEVENT
UID:15881696@ezleagues.ezfacility.com
DTSTAMP:20260422T104121Z
CREATED:20260422T104121Z
DTSTART:20241001T004500Z
DTEND:20241001T023500Z
LOCATION:Freedom Ridge Blue
CONTACT:
SUMMARY:NATIONALS VS. MARLINS
DESCRIPTION:League Name: 2024 P360 HIGH SCHOOL FALL WOOD BAT LEAGUE (JXN)\n
 Game Type: Regular\nGame Status: Complete\nHome Team: NATIONALS\nAway Team
 : MARLINS\nHome Score: 7\nAway Score: 4
END:VEVENT
BEGIN:VEVENT
UID:15880861@ezleagues.ezfacility.com
DTSTAMP:20260422T104121Z
CREATED:20260422T104121Z
DTSTART:20241002T233000Z
DTEND:20241003T012000Z
LOCATION:Mississippi College
CONTACT:
SUMMARY:A'S VS. NATIONALS
DESCRIPTION:League Name: 2024 P360 HIGH SCHOOL FALL WOOD BAT LEAGUE (JXN)\n
 Game Type: Regular\nGame Status: Complete\nHome Team: A'S\nAway Team: NATI
 ONALS\nHome Score: 4\nAway Score: 9
END:VEVENT
BEGIN:VEVENT
UID:15876837@ezleagues.ezfacility.com
DTSTAMP:20260422T104121Z
CREATED:20260422T104121Z
DTSTART:20241003T224500Z
DTEND:20241004T003500Z
LOCATION:Freedom Ridge Blue
CONTACT:
SUMMARY:NATIONALS VS. BLUE JAYS
DESCRIPTION:League Name: 2024 P360 HIGH SCHOOL FALL WOOD BAT LEAGUE (JXN)\n
 Game Type: Regular\nGame Status: Complete\nHome Team: NATIONALS\nAway Team
 : BLUE JAYS\nHome Score: 10\nAway Score: 11
END:VEVENT
BEGIN:VEVENT
UID:15881706@ezleagues.ezfacility.com
DTSTAMP:20260422T104121Z
CREATED:20260422T104121Z
DTSTART:20241008T004500Z
DTEND:20241008T023500Z
LOCATION:Freedom Ridge Red
CONTACT:
SUMMARY:NATIONALS VS. TIGERS
DESCRIPTION:League Name: 2024 P360 HIGH SCHOOL FALL WOOD BAT LEAGUE (JXN)\n
 Game Type: Postseason\nGame Status: Complete\nHome Team: NATIONALS\nAway T
 eam: TIGERS\nHome Score: 5\nAway Score: 8
END:VEVENT
END:VCALENDAR
