BEGIN:VCALENDAR
VERSION:2.0
PRODID:-//EZFacility.com, Inc.//EZL 2.5.5.28621
BEGIN:VEVENT
UID:15880844@ezleagues.ezfacility.com
DTSTAMP:20260426T033853Z
CREATED:20260426T033853Z
DTSTART:20240910T004500Z
DTEND:20240910T023500Z
LOCATION:Freedom Ridge Gray
CONTACT:
SUMMARY:ORIOLES VS. ROCKIES
DESCRIPTION:League Name: 2024 P360 HIGH SCHOOL FALL WOOD BAT LEAGUE (JXN)\n
 Game Type: Regular\nGame Status: Complete\nHome Team: ORIOLES\nAway Team: 
 ROCKIES\nHome Score: 7\nAway Score: 6
END:VEVENT
BEGIN:VEVENT
UID:15880847@ezleagues.ezfacility.com
DTSTAMP:20260426T033853Z
CREATED:20260426T033853Z
DTSTART:20240912T224500Z
DTEND:20240913T003500Z
LOCATION:Freedom Ridge Blue
CONTACT:
SUMMARY:NATIONALS VS. ROCKIES
DESCRIPTION:League Name: 2024 P360 HIGH SCHOOL FALL WOOD BAT LEAGUE (JXN)\n
 Game Type: Regular\nGame Status: Complete\nHome Team: NATIONALS\nAway Team
 : ROCKIES\nHome Score: 4\nAway Score: 11
END:VEVENT
BEGIN:VEVENT
UID:15880860@ezleagues.ezfacility.com
DTSTAMP:20260426T033853Z
CREATED:20260426T033853Z
DTSTART:20240918T004500Z
DTEND:20240918T023500Z
LOCATION:Freedom Ridge Gray
CONTACT:
SUMMARY:ROCKIES VS. BLUE JAYS
DESCRIPTION:League Name: 2024 P360 HIGH SCHOOL FALL WOOD BAT LEAGUE (JXN)\n
 Game Type: Regular\nGame Status: Complete\nHome Team: ROCKIES\nAway Team: 
 BLUE JAYS\nHome Score: 6\nAway Score: 5
END:VEVENT
BEGIN:VEVENT
UID:15880863@ezleagues.ezfacility.com
DTSTAMP:20260426T033853Z
CREATED:20260426T033853Z
DTSTART:20240919T224500Z
DTEND:20240920T003500Z
LOCATION:Freedom Ridge Blue
CONTACT:
SUMMARY:ROCKIES VS. ASTROS
DESCRIPTION:League Name: 2024 P360 HIGH SCHOOL FALL WOOD BAT LEAGUE (JXN)\n
 Game Type: Regular\nGame Status: Complete\nHome Team: ROCKIES\nAway Team: 
 ASTROS\nHome Score: 1\nAway Score: 12
END:VEVENT
BEGIN:VEVENT
UID:15880869@ezleagues.ezfacility.com
DTSTAMP:20260426T033853Z
CREATED:20260426T033853Z
DTSTART:20240923T224500Z
DTEND:20240924T003500Z
LOCATION:Freedom Ridge Red
CONTACT:
SUMMARY:DIAMONDBACKS VS. ROCKIES
DESCRIPTION:League Name: 2024 P360 HIGH SCHOOL FALL WOOD BAT LEAGUE (JXN)\n
 Game Type: Regular\nGame Status: Complete\nHome Team: DIAMONDBACKS\nAway T
 eam: ROCKIES\nHome Score: 9\nAway Score: 1
END:VEVENT
BEGIN:VEVENT
UID:15881690@ezleagues.ezfacility.com
DTSTAMP:20260426T033853Z
CREATED:20260426T033853Z
DTSTART:20240927T004500Z
DTEND:20240927T023500Z
LOCATION:Freedom Ridge Maroon
CONTACT:
SUMMARY:MARINERS VS. ROCKIES
DESCRIPTION:League Name: 2024 P360 HIGH SCHOOL FALL WOOD BAT LEAGUE (JXN)\n
 Game Type: Regular\nGame Status: Complete\nHome Team: MARINERS\nAway Team:
  ROCKIES\nHome Score: 8\nAway Score: 4
END:VEVENT
BEGIN:VEVENT
UID:15881698@ezleagues.ezfacility.com
DTSTAMP:20260426T033853Z
CREATED:20260426T033853Z
DTSTART:20241001T004500Z
DTEND:20241001T023500Z
LOCATION:Freedom Ridge Maroon
CONTACT:
SUMMARY:METS VS. ROCKIES
DESCRIPTION:League Name: 2024 P360 HIGH SCHOOL FALL WOOD BAT LEAGUE (JXN)\n
 Game Type: Regular\nGame Status: Complete\nHome Team: METS\nAway Team: ROC
 KIES\nHome Score: 11\nAway Score: 6
END:VEVENT
BEGIN:VEVENT
UID:15876839@ezleagues.ezfacility.com
DTSTAMP:20260426T033853Z
CREATED:20260426T033853Z
DTSTART:20241003T224500Z
DTEND:20241004T003500Z
LOCATION:Freedom Ridge Maroon
CONTACT:
SUMMARY:MARLINS VS. ROCKIES
DESCRIPTION:League Name: 2024 P360 HIGH SCHOOL FALL WOOD BAT LEAGUE (JXN)\n
 Game Type: Regular\nGame Status: Complete\nHome Team: MARLINS\nAway Team: 
 ROCKIES\nHome Score: 13\nAway Score: 9
END:VEVENT
BEGIN:VEVENT
UID:15881715@ezleagues.ezfacility.com
DTSTAMP:20260426T033853Z
CREATED:20260426T033853Z
DTSTART:20241008T004500Z
DTEND:20241008T023500Z
LOCATION:Freedom Ridge Blue
CONTACT:
SUMMARY:ORIOLES VS. ROCKIES
DESCRIPTION:League Name: 2024 P360 HIGH SCHOOL FALL WOOD BAT LEAGUE (JXN)\n
 Game Type: Regular\nGame Status: Pending\nHome Team: ORIOLES\nAway Team: R
 OCKIES\n
END:VEVENT
END:VCALENDAR
