BEGIN:VCALENDAR
VERSION:2.0
PRODID:-//EZFacility.com, Inc.//EZL 2.5.5.28621
BEGIN:VEVENT
UID:15899255@ezleagues.ezfacility.com
DTSTAMP:20260424T043949Z
CREATED:20260424T043949Z
DTSTART:20240913T010000Z
DTEND:20240913T020000Z
LOCATION:Field 2
CONTACT:
SUMMARY:Jogo Bonito VS. Aztecas
DESCRIPTION:League Name: Thursday Mens Open\nGame Type: Regular\nGame Statu
 s: Complete\nHome Team: Jogo Bonito\nAway Team: Aztecas\nHome Score: 9\nAw
 ay Score: 5
END:VEVENT
BEGIN:VEVENT
UID:15899260@ezleagues.ezfacility.com
DTSTAMP:20260424T043949Z
CREATED:20260424T043949Z
DTSTART:20240920T020000Z
DTEND:20240920T030000Z
LOCATION:Field 2
CONTACT:
SUMMARY:Aztecas VS. Cotija
DESCRIPTION:League Name: Thursday Mens Open\nGame Type: Regular\nGame Statu
 s: Complete\nHome Team: Aztecas\nAway Team: Cotija\nHome Score: 0\nAway Sc
 ore: 6
END:VEVENT
BEGIN:VEVENT
UID:15899265@ezleagues.ezfacility.com
DTSTAMP:20260424T043949Z
CREATED:20260424T043949Z
DTSTART:20240927T030000Z
DTEND:20240927T040000Z
LOCATION:Field 2
CONTACT:
SUMMARY:Aztecas VS. New Generation
DESCRIPTION:League Name: Thursday Mens Open\nGame Type: Regular\nGame Statu
 s: Complete\nHome Team: Aztecas\nAway Team: New Generation\nHome Score: 2\
 nAway Score: 4
END:VEVENT
BEGIN:VEVENT
UID:15899270@ezleagues.ezfacility.com
DTSTAMP:20260424T043949Z
CREATED:20260424T043949Z
DTSTART:20241004T030000Z
DTEND:20241004T040000Z
LOCATION:Field 2
CONTACT:
SUMMARY:Aztecas VS. Los Boys
DESCRIPTION:League Name: Thursday Mens Open\nGame Type: Regular\nGame Statu
 s: Complete\nHome Team: Aztecas\nAway Team: Los Boys\nHome Score: 12\nAway
  Score: 2
END:VEVENT
BEGIN:VEVENT
UID:15899274@ezleagues.ezfacility.com
DTSTAMP:20260424T043949Z
CREATED:20260424T043949Z
DTSTART:20241011T010000Z
DTEND:20241011T020000Z
LOCATION:Field 2
CONTACT:
SUMMARY:Artilleros VS. Aztecas
DESCRIPTION:League Name: Thursday Mens Open\nGame Type: Regular\nGame Statu
 s: Complete\nHome Team: Artilleros\nAway Team: Aztecas\nHome Score: 5\nAwa
 y Score: 4
END:VEVENT
BEGIN:VEVENT
UID:15899277@ezleagues.ezfacility.com
DTSTAMP:20260424T043949Z
CREATED:20260424T043949Z
DTSTART:20241018T040000Z
DTEND:20241018T050000Z
LOCATION:Field 2
CONTACT:
SUMMARY:Livingston FC VS. Aztecas
DESCRIPTION:League Name: Thursday Mens Open\nGame Type: Regular\nGame Statu
 s: Complete\nHome Team: Livingston FC\nAway Team: Aztecas\nHome Score: 5\n
 Away Score: 4
END:VEVENT
BEGIN:VEVENT
UID:15899280@ezleagues.ezfacility.com
DTSTAMP:20260424T043949Z
CREATED:20260424T043949Z
DTSTART:20241025T020000Z
DTEND:20241025T030000Z
LOCATION:Field 1
CONTACT:
SUMMARY:Pariah VS. Aztecas
DESCRIPTION:League Name: Thursday Mens Open\nGame Type: Regular\nGame Statu
 s: Complete\nHome Team: Pariah\nAway Team: Aztecas\nHome Score: 3\nAway Sc
 ore: 7
END:VEVENT
BEGIN:VEVENT
UID:15899283@ezleagues.ezfacility.com
DTSTAMP:20260424T043949Z
CREATED:20260424T043949Z
DTSTART:20241108T040000Z
DTEND:20241108T050000Z
LOCATION:Field 2
CONTACT:
SUMMARY:Aztecas VS. Jogo Bonito
DESCRIPTION:League Name: Thursday Mens Open\nGame Type: Regular\nGame Statu
 s: Complete\nHome Team: Aztecas\nAway Team: Jogo Bonito\nHome Score: 0\nAw
 ay Score: 5
END:VEVENT
END:VCALENDAR
