BEGIN:VCALENDAR
VERSION:2.0
PRODID:-//EZFacility.com, Inc.//EZL 2.5.5.28621
BEGIN:VEVENT
UID:15897967@ezleagues.ezfacility.com
DTSTAMP:20260424T044046Z
CREATED:20260424T044046Z
DTSTART:20240915T152000Z
DTEND:20240915T162000Z
LOCATION:Premier Sports Court 2
CONTACT:
SUMMARY:Players East 9 VS. Develup Orange Riefenstahl
DESCRIPTION:League Name: 2024 Premier Basketball Boys JV Fall League\nGame 
 Type: Regular\nGame Status: Complete\nHome Team: Players East 9\nAway Team
 : Develup Orange Riefenstahl\nHome Score: 54\nAway Score: 40
END:VEVENT
BEGIN:VEVENT
UID:15902375@ezleagues.ezfacility.com
DTSTAMP:20260424T044046Z
CREATED:20260424T044046Z
DTSTART:20240922T214000Z
DTEND:20240922T224000Z
LOCATION:Premier Sports Court 3
CONTACT:
SUMMARY:Players East 9 VS. Nassau Pride Falabella
DESCRIPTION:League Name: 2024 Premier Basketball Boys JV Fall League\nGame 
 Type: Regular\nGame Status: Complete\nHome Team: Players East 9\nAway Team
 : Nassau Pride Falabella\nHome Score: 39\nAway Score: 44
END:VEVENT
BEGIN:VEVENT
UID:15905782@ezleagues.ezfacility.com
DTSTAMP:20260424T044046Z
CREATED:20260424T044046Z
DTSTART:20240927T231500Z
DTEND:20240928T001500Z
LOCATION:Premier Sports Court 3
CONTACT:
SUMMARY:Players East 9 VS. Premier Cofield 9 Orange
DESCRIPTION:League Name: 2024 Premier Basketball Boys JV Fall League\nGame 
 Type: Regular\nGame Status: Complete\nHome Team: Players East 9\nAway Team
 : Premier Cofield 9 Orange\nHome Score: 49\nAway Score: 48
END:VEVENT
BEGIN:VEVENT
UID:15938083@ezleagues.ezfacility.com
DTSTAMP:20260424T044046Z
CREATED:20260424T044046Z
DTSTART:20241013T224500Z
DTEND:20241013T234500Z
LOCATION:Premier Sports Court 3
CONTACT:
SUMMARY:Players East 9 VS. Mt Sinai
DESCRIPTION:League Name: 2024 Premier Basketball Boys JV Fall League\nGame 
 Type: Regular\nGame Status: Complete\nHome Team: Players East 9\nAway Team
 : Mt Sinai\nHome Score: 31\nAway Score: 59
END:VEVENT
BEGIN:VEVENT
UID:15948292@ezleagues.ezfacility.com
DTSTAMP:20260424T044046Z
CREATED:20260424T044046Z
DTSTART:20241018T231500Z
DTEND:20241019T001500Z
LOCATION:Premier Sports Court 1
CONTACT:
SUMMARY:Players East 9 VS. Rare Elite 10 (Butch)
DESCRIPTION:League Name: 2024 Premier Basketball Boys JV Fall League\nGame 
 Type: Regular\nGame Status: Complete\nHome Team: Players East 9\nAway Team
 : Rare Elite 10 (Butch)\nHome Score: 48\nAway Score: 37
END:VEVENT
BEGIN:VEVENT
UID:15954146@ezleagues.ezfacility.com
DTSTAMP:20260424T044046Z
CREATED:20260424T044046Z
DTSTART:20241025T231500Z
DTEND:20241026T001500Z
LOCATION:Premier Sports Court 2
CONTACT:
SUMMARY:Players East 9 VS. Realize
DESCRIPTION:League Name: 2024 Premier Basketball Boys JV Fall League\nGame 
 Type: Regular\nGame Status: Complete\nHome Team: Players East 9\nAway Team
 : Realize\nHome Score: 34\nAway Score: 44
END:VEVENT
BEGIN:VEVENT
UID:15964977@ezleagues.ezfacility.com
DTSTAMP:20260424T044046Z
CREATED:20260424T044046Z
DTSTART:20241102T224500Z
DTEND:20241102T234500Z
LOCATION:Premier Sports Court 1
CONTACT:
SUMMARY:Players East 9 VS. Develup Blue Riefenstahl
DESCRIPTION:League Name: 2024 Premier Basketball Boys JV Fall League\nGame 
 Type: Regular\nGame Status: Complete\nHome Team: Players East 9\nAway Team
 : Develup Blue Riefenstahl\nHome Score: 38\nAway Score: 51
END:VEVENT
BEGIN:VEVENT
UID:15978425@ezleagues.ezfacility.com
DTSTAMP:20260424T044046Z
CREATED:20260424T044046Z
DTSTART:20241110T005000Z
DTEND:20241110T015000Z
LOCATION:Premier Sports Court 2
CONTACT:
SUMMARY:Players East 9 VS. Mecca Phil
DESCRIPTION:League Name: 2024 Premier Basketball Boys JV Fall League\nGame 
 Type: Regular\nGame Status: Complete\nHome Team: Players East 9\nAway Team
 : Mecca Phil\nHome Score: 38\nAway Score: 61
END:VEVENT
END:VCALENDAR
