BEGIN:VCALENDAR
VERSION:2.0
PRODID:-//EZFacility.com, Inc.//EZL 2.5.5.28621
BEGIN:VEVENT
UID:15921071@ezleagues.ezfacility.com
DTSTAMP:20260424T043206Z
CREATED:20260424T043206Z
DTSTART:20241006T203500Z
DTEND:20241006T213500Z
LOCATION:Premier Sports Court 1
CONTACT:
SUMMARY:Baldwin VS. DST
DESCRIPTION:League Name: 2024 Premier Basketball Girls JV Fall League\nGame
  Type: Regular\nGame Status: Complete\nHome Team: Baldwin\nAway Team: DST\
 nHome Score: 45\nAway Score: 21
END:VEVENT
BEGIN:VEVENT
UID:15938104@ezleagues.ezfacility.com
DTSTAMP:20260424T043206Z
CREATED:20260424T043206Z
DTSTART:20241013T130000Z
DTEND:20241013T140000Z
LOCATION:Premier Sports Court 2
CONTACT:
SUMMARY:Premier Stern VS. DST
DESCRIPTION:League Name: 2024 Premier Basketball Girls JV Fall League\nGame
  Type: Regular\nGame Status: Complete\nHome Team: Premier Stern\nAway Team
 : DST\nHome Score: 40\nAway Score: 22
END:VEVENT
BEGIN:VEVENT
UID:15951998@ezleagues.ezfacility.com
DTSTAMP:20260424T043206Z
CREATED:20260424T043206Z
DTSTART:20241020T203500Z
DTEND:20241020T213500Z
LOCATION:Premier Sports Court 3
CONTACT:
SUMMARY:Nassau Pride Toner VS. DST
DESCRIPTION:League Name: 2024 Premier Basketball Girls JV Fall League\nGame
  Type: Regular\nGame Status: Complete\nHome Team: Nassau Pride Toner\nAway
  Team: DST\nHome Score: 16\nAway Score: 29
END:VEVENT
BEGIN:VEVENT
UID:15951999@ezleagues.ezfacility.com
DTSTAMP:20260424T043206Z
CREATED:20260424T043206Z
DTSTART:20241020T224500Z
DTEND:20241020T234500Z
LOCATION:Premier Sports Court 3
CONTACT:
SUMMARY:Lightning Knice VS. DST
DESCRIPTION:League Name: 2024 Premier Basketball Girls JV Fall League\nGame
  Type: Regular\nGame Status: Complete\nHome Team: Lightning Knice\nAway Te
 am: DST\nHome Score: 37\nAway Score: 29
END:VEVENT
BEGIN:VEVENT
UID:15955540@ezleagues.ezfacility.com
DTSTAMP:20260424T043206Z
CREATED:20260424T043206Z
DTSTART:20241027T172000Z
DTEND:20241027T182000Z
LOCATION:Premier Sports Court 3
CONTACT:
SUMMARY:DST VS. Develup Silver Schenkel
DESCRIPTION:League Name: 2024 Premier Basketball Girls JV Fall League\nGame
  Type: Regular\nGame Status: Complete\nHome Team: DST\nAway Team: Develup 
 Silver Schenkel\nHome Score: 38\nAway Score: 29
END:VEVENT
BEGIN:VEVENT
UID:15955543@ezleagues.ezfacility.com
DTSTAMP:20260424T043206Z
CREATED:20260424T043206Z
DTSTART:20241027T193000Z
DTEND:20241027T203000Z
LOCATION:Premier Sports Court 3
CONTACT:
SUMMARY:DST VS. Develup Green Travers
DESCRIPTION:League Name: 2024 Premier Basketball Girls JV Fall League\nGame
  Type: Regular\nGame Status: Complete\nHome Team: DST\nAway Team: Develup 
 Green Travers\nHome Score: 43\nAway Score: 11
END:VEVENT
BEGIN:VEVENT
UID:15964989@ezleagues.ezfacility.com
DTSTAMP:20260424T043206Z
CREATED:20260424T043206Z
DTSTART:20241103T140000Z
DTEND:20241103T150000Z
LOCATION:Premier Sports Court 2
CONTACT:
SUMMARY:Cheat Code VS. DST
DESCRIPTION:League Name: 2024 Premier Basketball Girls JV Fall League\nGame
  Type: Regular\nGame Status: Complete\nHome Team: Cheat Code\nAway Team: D
 ST\nHome Score: 17\nAway Score: 37
END:VEVENT
BEGIN:VEVENT
UID:15964991@ezleagues.ezfacility.com
DTSTAMP:20260424T043206Z
CREATED:20260424T043206Z
DTSTART:20241103T161000Z
DTEND:20241103T171000Z
LOCATION:Premier Sports Court 3
CONTACT:
SUMMARY:Lightning Knice VS. DST
DESCRIPTION:League Name: 2024 Premier Basketball Girls JV Fall League\nGame
  Type: Regular\nGame Status: Complete\nHome Team: Lightning Knice\nAway Te
 am: DST\nHome Score: 23\nAway Score: 27
END:VEVENT
BEGIN:VEVENT
UID:16032629@ezleagues.ezfacility.com
DTSTAMP:20260424T043206Z
CREATED:20260424T043206Z
DTSTART:20241109T012000Z
DTEND:20241109T022000Z
LOCATION:Premier Sports Court 3
CONTACT:
SUMMARY:Premier Stern VS. DST
DESCRIPTION:League Name: 2024 Premier Basketball Girls JV Fall League\nGame
  Type: Regular\nGame Status: Complete\nHome Team: Premier Stern\nAway Team
 : DST\nHome Score: 39\nAway Score: 41
END:VEVENT
BEGIN:VEVENT
UID:16042099@ezleagues.ezfacility.com
DTSTAMP:20260424T043206Z
CREATED:20260424T043206Z
DTSTART:20241112T012000Z
DTEND:20241112T022000Z
LOCATION:Premier Sports Court 1
CONTACT:
SUMMARY:Baldwin VS. DST
DESCRIPTION:League Name: 2024 Premier Basketball Girls JV Fall League\nGame
  Type: Postseason\nGame Status: Complete\nHome Team: Baldwin\nAway Team: D
 ST\nHome Score: 53\nAway Score: 17
END:VEVENT
END:VCALENDAR
