BEGIN:VCALENDAR
VERSION:2.0
PRODID:-//EZFacility.com, Inc.//EZL 2.5.5.28621
BEGIN:VEVENT
UID:15897757@ezleagues.ezfacility.com
DTSTAMP:20260421T223527Z
CREATED:20260421T223527Z
DTSTART:20240915T194000Z
DTEND:20240915T204000Z
LOCATION:Premier Sports Court 3
CONTACT:
SUMMARY:Premier Orange VS. RTG Harrison
DESCRIPTION:League Name: 2024 Premier Basketball Boys 6th Fall League\nGame
  Type: Regular\nGame Status: Complete\nHome Team: Premier Orange\nAway Tea
 m: RTG Harrison\nHome Score: 28\nAway Score: 37
END:VEVENT
BEGIN:VEVENT
UID:15902936@ezleagues.ezfacility.com
DTSTAMP:20260421T223527Z
CREATED:20260421T223527Z
DTSTART:20240922T161500Z
DTEND:20240922T171500Z
LOCATION:Premier Sports Court 1
CONTACT:
SUMMARY:Premier Orange VS. Hi IQ 
DESCRIPTION:League Name: 2024 Premier Basketball Boys 6th Fall League\nGame
  Type: Regular\nGame Status: Complete\nHome Team: Premier Orange\nAway Tea
 m: Hi IQ \nHome Score: 37\nAway Score: 38
END:VEVENT
BEGIN:VEVENT
UID:15916944@ezleagues.ezfacility.com
DTSTAMP:20260421T223527Z
CREATED:20260421T223527Z
DTSTART:20240929T140500Z
DTEND:20240929T150500Z
LOCATION:Premier Sports Court 1
CONTACT:
SUMMARY:Mecca Black Phil VS. Premier Orange
DESCRIPTION:League Name: 2024 Premier Basketball Boys 6th Fall League\nGame
  Type: Regular\nGame Status: Complete\nHome Team: Mecca Black Phil\nAway T
 eam: Premier Orange\nHome Score: 38\nAway Score: 33
END:VEVENT
BEGIN:VEVENT
UID:15921073@ezleagues.ezfacility.com
DTSTAMP:20260421T223527Z
CREATED:20260421T223527Z
DTSTART:20241005T161500Z
DTEND:20241005T171500Z
LOCATION:Premier Sports Court 2
CONTACT:
SUMMARY:Premier Orange VS. Cheat Code Orange
DESCRIPTION:League Name: 2024 Premier Basketball Boys 6th Fall League\nGame
  Type: Regular\nGame Status: Complete\nHome Team: Premier Orange\nAway Tea
 m: Cheat Code Orange\nHome Score: 30\nAway Score: 55
END:VEVENT
BEGIN:VEVENT
UID:15938097@ezleagues.ezfacility.com
DTSTAMP:20260421T223527Z
CREATED:20260421T223527Z
DTSTART:20241012T151000Z
DTEND:20241012T161000Z
LOCATION:Premier Sports Court 3
CONTACT:
SUMMARY:Grey VS. Premier Orange
DESCRIPTION:League Name: 2024 Premier Basketball Boys 6th Fall League\nGame
  Type: Regular\nGame Status: Complete\nHome Team: Grey\nAway Team: Premier
  Orange\nHome Score: 35\nAway Score: 45
END:VEVENT
BEGIN:VEVENT
UID:15952179@ezleagues.ezfacility.com
DTSTAMP:20260421T223527Z
CREATED:20260421T223527Z
DTSTART:20241019T193000Z
DTEND:20241019T203000Z
LOCATION:Premier Sports Court 2
CONTACT:
SUMMARY:East End Hawks VS. Premier Orange
DESCRIPTION:League Name: 2024 Premier Basketball Boys 6th Fall League\nGame
  Type: Regular\nGame Status: Complete\nHome Team: East End Hawks\nAway Tea
 m: Premier Orange\nHome Score: 20\nAway Score: 49
END:VEVENT
BEGIN:VEVENT
UID:15955565@ezleagues.ezfacility.com
DTSTAMP:20260421T223527Z
CREATED:20260421T223527Z
DTSTART:20241026T130000Z
DTEND:20241026T140000Z
LOCATION:Premier Sports Court 3
CONTACT:
SUMMARY:Premier Orange VS. RTG Koerner
DESCRIPTION:League Name: 2024 Premier Basketball Boys 6th Fall League\nGame
  Type: Regular\nGame Status: Complete\nHome Team: Premier Orange\nAway Tea
 m: RTG Koerner\nHome Score: 20\nAway Score: 47
END:VEVENT
BEGIN:VEVENT
UID:15980178@ezleagues.ezfacility.com
DTSTAMP:20260421T223527Z
CREATED:20260421T223527Z
DTSTART:20241109T171500Z
DTEND:20241109T181500Z
LOCATION:Premier Sports Court 1
CONTACT:
SUMMARY:NY Titans VS. Premier Orange
DESCRIPTION:League Name: 2024 Premier Basketball Boys 6th Fall League\nGame
  Type: Regular\nGame Status: Complete\nHome Team: NY Titans\nAway Team: Pr
 emier Orange\nHome Score: 37\nAway Score: 44
END:VEVENT
END:VCALENDAR
