BEGIN:VCALENDAR
VERSION:2.0
PRODID:-//EZFacility.com, Inc.//EZL 2.5.5.28621
BEGIN:VEVENT
UID:15836183@ezleagues.ezfacility.com
DTSTAMP:20260422T104219Z
CREATED:20260422T104219Z
DTSTART:20240925T020000Z
DTEND:20240925T031000Z
LOCATION:Patriot
CONTACT:
SUMMARY:Mid Ice Crisis VS. Pirates
DESCRIPTION:League Name: C2 League Fall/Winter\nGame Type: Regular\nGame St
 atus: Pending\nHome Team: Mid Ice Crisis\nAway Team: Pirates\n
END:VEVENT
BEGIN:VEVENT
UID:15949382@ezleagues.ezfacility.com
DTSTAMP:20260422T104219Z
CREATED:20260422T104219Z
DTSTART:20241009T013000Z
DTEND:20241009T024000Z
LOCATION:Liberty
CONTACT:
SUMMARY:Blast VS. Pirates
DESCRIPTION:League Name: C2 League Fall/Winter\nGame Type: Regular\nGame St
 atus: Pending\nHome Team: Blast\nAway Team: Pirates\n
END:VEVENT
BEGIN:VEVENT
UID:15836163@ezleagues.ezfacility.com
DTSTAMP:20260422T104219Z
CREATED:20260422T104219Z
DTSTART:20241023T013000Z
DTEND:20241023T024000Z
LOCATION:Liberty
CONTACT:
SUMMARY:Crackin VS. Pirates
DESCRIPTION:League Name: C2 League Fall/Winter\nGame Type: Regular\nGame St
 atus: Pending\nHome Team: Crackin\nAway Team: Pirates\n
END:VEVENT
BEGIN:VEVENT
UID:15836190@ezleagues.ezfacility.com
DTSTAMP:20260422T104219Z
CREATED:20260422T104219Z
DTSTART:20241113T030000Z
DTEND:20241113T041000Z
LOCATION:Patriot
CONTACT:
SUMMARY:Pirates VS. Cherry Pickers
DESCRIPTION:League Name: C2 League Fall/Winter\nGame Type: Regular\nGame St
 atus: Pending\nHome Team: Pirates\nAway Team: Cherry Pickers\n
END:VEVENT
BEGIN:VEVENT
UID:15956067@ezleagues.ezfacility.com
DTSTAMP:20260422T104219Z
CREATED:20260422T104219Z
DTSTART:20241127T030000Z
DTEND:20241127T041000Z
LOCATION:Patriot
CONTACT:
SUMMARY:Pirates VS. Danbury Fire
DESCRIPTION:League Name: C2 League Fall/Winter\nGame Type: Regular\nGame St
 atus: Pending\nHome Team: Pirates\nAway Team: Danbury Fire\n
END:VEVENT
BEGIN:VEVENT
UID:15899584@ezleagues.ezfacility.com
DTSTAMP:20260422T104219Z
CREATED:20260422T104219Z
DTSTART:20241211T030000Z
DTEND:20241211T041000Z
LOCATION:Patriot
CONTACT:
SUMMARY:RE/MAX TNC VS. Pirates
DESCRIPTION:League Name: C2 League Fall/Winter\nGame Type: Regular\nGame St
 atus: Pending\nHome Team: RE/MAX TNC\nAway Team: Pirates\n
END:VEVENT
BEGIN:VEVENT
UID:15956081@ezleagues.ezfacility.com
DTSTAMP:20260422T104219Z
CREATED:20260422T104219Z
DTSTART:20241218T024500Z
DTEND:20241218T035500Z
LOCATION:Liberty
CONTACT:
SUMMARY:Pirates VS. Glacier Cats
DESCRIPTION:League Name: C2 League Fall/Winter\nGame Type: Regular\nGame St
 atus: Pending\nHome Team: Pirates\nAway Team: Glacier Cats\n
END:VEVENT
BEGIN:VEVENT
UID:15899587@ezleagues.ezfacility.com
DTSTAMP:20260422T104219Z
CREATED:20260422T104219Z
DTSTART:20250108T023000Z
DTEND:20250108T034000Z
LOCATION:Patriot
CONTACT:
SUMMARY:Mid Ice Crisis VS. Pirates
DESCRIPTION:League Name: C2 League Fall/Winter\nGame Type: Regular\nGame St
 atus: Pending\nHome Team: Mid Ice Crisis\nAway Team: Pirates\n
END:VEVENT
BEGIN:VEVENT
UID:15899592@ezleagues.ezfacility.com
DTSTAMP:20260422T104219Z
CREATED:20260422T104219Z
DTSTART:20250122T030000Z
DTEND:20250122T041000Z
LOCATION:Liberty
CONTACT:
SUMMARY:Pirates VS. Blast
DESCRIPTION:League Name: C2 League Fall/Winter\nGame Type: Regular\nGame St
 atus: Pending\nHome Team: Pirates\nAway Team: Blast\n
END:VEVENT
BEGIN:VEVENT
UID:16162940@ezleagues.ezfacility.com
DTSTAMP:20260422T104219Z
CREATED:20260422T104219Z
DTSTART:20250127T011500Z
DTEND:20250127T022500Z
LOCATION:Liberty
CONTACT:
SUMMARY:Crackin VS. Pirates
DESCRIPTION:League Name: C2 League Fall/Winter\nGame Type: Regular\nGame St
 atus: Pending\nHome Team: Crackin\nAway Team: Pirates\n
END:VEVENT
BEGIN:VEVENT
UID:15957351@ezleagues.ezfacility.com
DTSTAMP:20260422T104219Z
CREATED:20260422T104219Z
DTSTART:20250130T031000Z
DTEND:20250130T042000Z
LOCATION:Patriot
CONTACT:
SUMMARY:Crackin VS. Pirates
DESCRIPTION:League Name: C2 League Fall/Winter\nGame Type: Regular\nGame St
 atus: Pending\nHome Team: Crackin\nAway Team: Pirates\n
END:VEVENT
BEGIN:VEVENT
UID:15957420@ezleagues.ezfacility.com
DTSTAMP:20260422T104219Z
CREATED:20260422T104219Z
DTSTART:20250217T011500Z
DTEND:20250217T022500Z
LOCATION:Liberty
CONTACT:
SUMMARY:Pirates VS. Danbury Fire
DESCRIPTION:League Name: C2 League Fall/Winter\nGame Type: Regular\nGame St
 atus: Pending\nHome Team: Pirates\nAway Team: Danbury Fire\n
END:VEVENT
BEGIN:VEVENT
UID:15957425@ezleagues.ezfacility.com
DTSTAMP:20260422T104219Z
CREATED:20260422T104219Z
DTSTART:20250219T023000Z
DTEND:20250219T034000Z
LOCATION:Patriot
CONTACT:
SUMMARY:Pirates VS. RE/MAX TNC
DESCRIPTION:League Name: C2 League Fall/Winter\nGame Type: Regular\nGame St
 atus: Pending\nHome Team: Pirates\nAway Team: RE/MAX TNC\n
END:VEVENT
BEGIN:VEVENT
UID:15899601@ezleagues.ezfacility.com
DTSTAMP:20260422T104219Z
CREATED:20260422T104219Z
DTSTART:20250226T023000Z
DTEND:20250226T034000Z
LOCATION:Patriot
CONTACT:
SUMMARY:Pirates VS. Glacier Cats
DESCRIPTION:League Name: C2 League Fall/Winter\nGame Type: Regular\nGame St
 atus: Pending\nHome Team: Pirates\nAway Team: Glacier Cats\n
END:VEVENT
END:VCALENDAR
