BEGIN:VCALENDAR
VERSION:2.0
PRODID:-//EZFacility.com, Inc.//EZL 2.5.5.28621
BEGIN:VEVENT
UID:15967014@ezleagues.ezfacility.com
DTSTAMP:20260426T034102Z
CREATED:20260426T034102Z
DTSTART:20241005T004000Z
DTEND:20241005T012000Z
LOCATION:Court 2
CONTACT:
SUMMARY:PK Pythons VS. SDB Girls
DESCRIPTION:League Name: JRL U8 Summer 2024-25\nGame Type: Regular\nGame St
 atus: Complete\nHome Team: PK Pythons\nAway Team: SDB Girls\nHome Score: 3
 \nAway Score: 7
END:VEVENT
BEGIN:VEVENT
UID:15967019@ezleagues.ezfacility.com
DTSTAMP:20260426T034102Z
CREATED:20260426T034102Z
DTSTART:20241012T000000Z
DTEND:20241012T004000Z
LOCATION:Court 2
CONTACT:
SUMMARY:SDB Yellow VS. SDB Girls
DESCRIPTION:League Name: JRL U8 Summer 2024-25\nGame Type: Regular\nGame St
 atus: Complete\nHome Team: SDB Yellow\nAway Team: SDB Girls\nHome Score: 4
 \nAway Score: 3
END:VEVENT
BEGIN:VEVENT
UID:15967024@ezleagues.ezfacility.com
DTSTAMP:20260426T034102Z
CREATED:20260426T034102Z
DTSTART:20241019T004000Z
DTEND:20241019T012000Z
LOCATION:Court 1
CONTACT:
SUMMARY:The Big Dogs VS. SDB Girls
DESCRIPTION:League Name: JRL U8 Summer 2024-25\nGame Type: Regular\nGame St
 atus: Complete\nHome Team: The Big Dogs\nAway Team: SDB Girls\nHome Score:
  4\nAway Score: 3
END:VEVENT
BEGIN:VEVENT
UID:15967028@ezleagues.ezfacility.com
DTSTAMP:20260426T034102Z
CREATED:20260426T034102Z
DTSTART:20241026T000000Z
DTEND:20241026T004000Z
LOCATION:Court 1
CONTACT:
SUMMARY:SDB Girls VS. SDB Blue
DESCRIPTION:League Name: JRL U8 Summer 2024-25\nGame Type: Regular\nGame St
 atus: Complete\nHome Team: SDB Girls\nAway Team: SDB Blue\nHome Score: 2\n
 Away Score: 11
END:VEVENT
BEGIN:VEVENT
UID:15967031@ezleagues.ezfacility.com
DTSTAMP:20260426T034102Z
CREATED:20260426T034102Z
DTSTART:20241102T000000Z
DTEND:20241102T004000Z
LOCATION:Court 1
CONTACT:
SUMMARY:SDB Girls VS. Sharks U8
DESCRIPTION:League Name: JRL U8 Summer 2024-25\nGame Type: Regular\nGame St
 atus: Complete\nHome Team: SDB Girls\nAway Team: Sharks U8\nHome Score: 9\
 nAway Score: 1
END:VEVENT
BEGIN:VEVENT
UID:15967034@ezleagues.ezfacility.com
DTSTAMP:20260426T034102Z
CREATED:20260426T034102Z
DTSTART:20241109T004000Z
DTEND:20241109T012000Z
LOCATION:Court 2
CONTACT:
SUMMARY:SDB Girls VS. Foxes U8
DESCRIPTION:League Name: JRL U8 Summer 2024-25\nGame Type: Regular\nGame St
 atus: Complete\nHome Team: SDB Girls\nAway Team: Foxes U8\nHome Score: 6\n
 Away Score: 2
END:VEVENT
BEGIN:VEVENT
UID:15967037@ezleagues.ezfacility.com
DTSTAMP:20260426T034102Z
CREATED:20260426T034102Z
DTSTART:20241116T004000Z
DTEND:20241116T012000Z
LOCATION:Court 1
CONTACT:
SUMMARY:Baldivis U8 VS. SDB Girls
DESCRIPTION:League Name: JRL U8 Summer 2024-25\nGame Type: Regular\nGame St
 atus: Complete\nHome Team: Baldivis U8\nAway Team: SDB Girls\nHome Score: 
 15\nAway Score: 0
END:VEVENT
BEGIN:VEVENT
UID:15967042@ezleagues.ezfacility.com
DTSTAMP:20260426T034102Z
CREATED:20260426T034102Z
DTSTART:20241123T000000Z
DTEND:20241123T004000Z
LOCATION:Court 2
CONTACT:
SUMMARY:SDB Girls VS. PK Pythons
DESCRIPTION:League Name: JRL U8 Summer 2024-25\nGame Type: Regular\nGame St
 atus: Complete\nHome Team: SDB Girls\nAway Team: PK Pythons\nHome Score: 2
 \nAway Score: 4
END:VEVENT
BEGIN:VEVENT
UID:15967047@ezleagues.ezfacility.com
DTSTAMP:20260426T034102Z
CREATED:20260426T034102Z
DTSTART:20241130T000000Z
DTEND:20241130T004000Z
LOCATION:Court 2
CONTACT:
SUMMARY:SDB Girls VS. SDB Yellow
DESCRIPTION:League Name: JRL U8 Summer 2024-25\nGame Type: Regular\nGame St
 atus: Complete\nHome Team: SDB Girls\nAway Team: SDB Yellow\nHome Score: 5
 \nAway Score: 4
END:VEVENT
BEGIN:VEVENT
UID:15967052@ezleagues.ezfacility.com
DTSTAMP:20260426T034102Z
CREATED:20260426T034102Z
DTSTART:20241207T004000Z
DTEND:20241207T012000Z
LOCATION:Court 1
CONTACT:
SUMMARY:SDB Girls VS. The Big Dogs
DESCRIPTION:League Name: JRL U8 Summer 2024-25\nGame Type: Regular\nGame St
 atus: Complete\nHome Team: SDB Girls\nAway Team: The Big Dogs\nHome Score:
  5\nAway Score: 2
END:VEVENT
BEGIN:VEVENT
UID:15967056@ezleagues.ezfacility.com
DTSTAMP:20260426T034102Z
CREATED:20260426T034102Z
DTSTART:20241214T000000Z
DTEND:20241214T004000Z
LOCATION:Court 1
CONTACT:
SUMMARY:SDB Blue VS. SDB Girls
DESCRIPTION:League Name: JRL U8 Summer 2024-25\nGame Type: Regular\nGame St
 atus: Complete\nHome Team: SDB Blue\nAway Team: SDB Girls\nHome Score: 4\n
 Away Score: 5
END:VEVENT
BEGIN:VEVENT
UID:15967080@ezleagues.ezfacility.com
DTSTAMP:20260426T034102Z
CREATED:20260426T034102Z
DTSTART:20250125T012000Z
DTEND:20250125T020000Z
LOCATION:Court 1
CONTACT:
SUMMARY:SDB Girls VS. The Big Dogs
DESCRIPTION:League Name: JRL U8 Summer 2024-25\nGame Type: Regular\nGame St
 atus: Complete\nHome Team: SDB Girls\nAway Team: The Big Dogs\nHome Score:
  8\nAway Score: 1
END:VEVENT
BEGIN:VEVENT
UID:15967084@ezleagues.ezfacility.com
DTSTAMP:20260426T034102Z
CREATED:20260426T034102Z
DTSTART:20250201T000000Z
DTEND:20250201T004000Z
LOCATION:Court 1
CONTACT:
SUMMARY:SDB Blue VS. SDB Girls
DESCRIPTION:League Name: JRL U8 Summer 2024-25\nGame Type: Regular\nGame St
 atus: Complete\nHome Team: SDB Blue\nAway Team: SDB Girls\nHome Score: 8\n
 Away Score: 0
END:VEVENT
BEGIN:VEVENT
UID:15967087@ezleagues.ezfacility.com
DTSTAMP:20260426T034102Z
CREATED:20260426T034102Z
DTSTART:20250208T004000Z
DTEND:20250208T012000Z
LOCATION:Court 1
CONTACT:
SUMMARY:Sharks U8 VS. SDB Girls
DESCRIPTION:League Name: JRL U8 Summer 2024-25\nGame Type: Regular\nGame St
 atus: Complete\nHome Team: Sharks U8\nAway Team: SDB Girls\nHome Score: 0\
 nAway Score: 16
END:VEVENT
BEGIN:VEVENT
UID:15967090@ezleagues.ezfacility.com
DTSTAMP:20260426T034102Z
CREATED:20260426T034102Z
DTSTART:20250215T000000Z
DTEND:20250215T004000Z
LOCATION:Court 1
CONTACT:
SUMMARY:Foxes U8 VS. SDB Girls
DESCRIPTION:League Name: JRL U8 Summer 2024-25\nGame Type: Regular\nGame St
 atus: Complete\nHome Team: Foxes U8\nAway Team: SDB Girls\nHome Score: 2\n
 Away Score: 12
END:VEVENT
BEGIN:VEVENT
UID:15967093@ezleagues.ezfacility.com
DTSTAMP:20260426T034102Z
CREATED:20260426T034102Z
DTSTART:20250222T004000Z
DTEND:20250222T012000Z
LOCATION:Court 2
CONTACT:
SUMMARY:SDB Girls VS. Baldivis U8
DESCRIPTION:League Name: JRL U8 Summer 2024-25\nGame Type: Regular\nGame St
 atus: Complete\nHome Team: SDB Girls\nAway Team: Baldivis U8\nHome Score: 
 1\nAway Score: 20
END:VEVENT
BEGIN:VEVENT
UID:15967075@ezleagues.ezfacility.com
DTSTAMP:20260426T034102Z
CREATED:20260426T034102Z
DTSTART:20250301T004000Z
DTEND:20250301T012000Z
LOCATION:Court 1
CONTACT:
SUMMARY:SDB Girls VS. SDB Yellow
DESCRIPTION:League Name: JRL U8 Summer 2024-25\nGame Type: Regular\nGame St
 atus: Complete\nHome Team: SDB Girls\nAway Team: SDB Yellow\nHome Score: 2
 \nAway Score: 4
END:VEVENT
BEGIN:VEVENT
UID:15967059@ezleagues.ezfacility.com
DTSTAMP:20260426T034102Z
CREATED:20260426T034102Z
DTSTART:20250308T004000Z
DTEND:20250308T012000Z
LOCATION:Court 2
CONTACT:
SUMMARY:Sharks U8 VS. SDB Girls
DESCRIPTION:League Name: JRL U8 Summer 2024-25\nGame Type: Regular\nGame St
 atus: Complete\nHome Team: Sharks U8\nAway Team: SDB Girls\nHome Score: 1\
 nAway Score: 10
END:VEVENT
BEGIN:VEVENT
UID:15967062@ezleagues.ezfacility.com
DTSTAMP:20260426T034102Z
CREATED:20260426T034102Z
DTSTART:20250315T004000Z
DTEND:20250315T012000Z
LOCATION:Court 2
CONTACT:
SUMMARY:Foxes U8 VS. SDB Girls
DESCRIPTION:League Name: JRL U8 Summer 2024-25\nGame Type: Regular\nGame St
 atus: Complete\nHome Team: Foxes U8\nAway Team: SDB Girls\nHome Score: 2\n
 Away Score: 11
END:VEVENT
BEGIN:VEVENT
UID:15967065@ezleagues.ezfacility.com
DTSTAMP:20260426T034102Z
CREATED:20260426T034102Z
DTSTART:20250322T004000Z
DTEND:20250322T012000Z
LOCATION:Court 1
CONTACT:
SUMMARY:Baldivis U8 VS. SDB Girls
DESCRIPTION:League Name: JRL U8 Summer 2024-25\nGame Type: Regular\nGame St
 atus: Complete\nHome Team: Baldivis U8\nAway Team: SDB Girls\nHome Score: 
 5\nAway Score: 0
END:VEVENT
BEGIN:VEVENT
UID:15967070@ezleagues.ezfacility.com
DTSTAMP:20260426T034102Z
CREATED:20260426T034102Z
DTSTART:20250329T000000Z
DTEND:20250329T004000Z
LOCATION:Court 2
CONTACT:
SUMMARY:SDB Girls VS. PK Pythons
DESCRIPTION:League Name: JRL U8 Summer 2024-25\nGame Type: Regular\nGame St
 atus: Complete\nHome Team: SDB Girls\nAway Team: PK Pythons\nHome Score: 1
 \nAway Score: 3
END:VEVENT
BEGIN:VEVENT
UID:16345093@ezleagues.ezfacility.com
DTSTAMP:20260426T034102Z
CREATED:20260426T034102Z
DTSTART:20250405T004000Z
DTEND:20250405T012000Z
LOCATION:Court 2
CONTACT:
SUMMARY:SDB Girls VS. Foxes U8
DESCRIPTION:League Name: JRL U8 Summer 2024-25\nGame Type: Postseason\nGame
  Status: Complete\nHome Team: SDB Girls\nAway Team: Foxes U8\nHome Score: 
 8\nAway Score: 2
END:VEVENT
BEGIN:VEVENT
UID:16359288@ezleagues.ezfacility.com
DTSTAMP:20260426T034102Z
CREATED:20260426T034102Z
DTSTART:20250412T000000Z
DTEND:20250412T004000Z
LOCATION:Court 1
CONTACT:
SUMMARY:The Big Dogs VS. SDB Girls
DESCRIPTION:League Name: JRL U8 Summer 2024-25\nGame Type: Postseason\nGame
  Status: Pending\nHome Team: The Big Dogs\nAway Team: SDB Girls\n
END:VEVENT
END:VCALENDAR
