BEGIN:VCALENDAR
VERSION:2.0
PRODID:-//EZFacility.com, Inc.//EZL 2.5.5.28621
BEGIN:VEVENT
UID:15923570@ezleagues.ezfacility.com
DTSTAMP:20260423T215645Z
CREATED:20260423T215645Z
DTSTART:20240922T233000Z
DTEND:20240923T001500Z
LOCATION:Memorial field 2
CONTACT:
SUMMARY:MK FC VS. Turf Kings
DESCRIPTION:League Name: 2024-25-Intramural Outdoor Soccer 6v6 - Mixed SUPE
 RRec Division\nGame Type: Regular\nGame Status: Complete\nHome Team: MK FC
 \nAway Team: Turf Kings\nHome Score: 2\nAway Score: 0
END:VEVENT
BEGIN:VEVENT
UID:15923585@ezleagues.ezfacility.com
DTSTAMP:20260423T215645Z
CREATED:20260423T215645Z
DTSTART:20240924T001500Z
DTEND:20240924T010000Z
LOCATION:Memorial field 1
CONTACT:
SUMMARY:Dirty Money VS. MK FC
DESCRIPTION:League Name: 2024-25-Intramural Outdoor Soccer 6v6 - Mixed SUPE
 RRec Division\nGame Type: Regular\nGame Status: Complete\nHome Team: Dirty
  Money\nAway Team: MK FC\nHome Score: 3\nAway Score: 4
END:VEVENT
BEGIN:VEVENT
UID:15923581@ezleagues.ezfacility.com
DTSTAMP:20260423T215645Z
CREATED:20260423T215645Z
DTSTART:20241007T010000Z
DTEND:20241007T014500Z
LOCATION:Memorial field 2
CONTACT:
SUMMARY:Greening FC VS. MK FC
DESCRIPTION:League Name: 2024-25-Intramural Outdoor Soccer 6v6 - Mixed SUPE
 RRec Division\nGame Type: Regular\nGame Status: Complete\nHome Team: Green
 ing FC\nAway Team: MK FC\nHome Score: 3\nAway Score: 6
END:VEVENT
BEGIN:VEVENT
UID:15923576@ezleagues.ezfacility.com
DTSTAMP:20260423T215645Z
CREATED:20260423T215645Z
DTSTART:20241011T010000Z
DTEND:20241011T014500Z
LOCATION:Memorial field 1
CONTACT:
SUMMARY:MK FC VS. Real Madrinks
DESCRIPTION:League Name: 2024-25-Intramural Outdoor Soccer 6v6 - Mixed SUPE
 RRec Division\nGame Type: Regular\nGame Status: Complete\nHome Team: MK FC
 \nAway Team: Real Madrinks\nHome Score: 3\nAway Score: 4
END:VEVENT
BEGIN:VEVENT
UID:15957969@ezleagues.ezfacility.com
DTSTAMP:20260423T215645Z
CREATED:20260423T215645Z
DTSTART:20241022T001500Z
DTEND:20241022T010000Z
LOCATION:Memorial field 2
CONTACT:
SUMMARY:2 goals 1 cup VS. MK FC
DESCRIPTION:League Name: 2024-25-Intramural Outdoor Soccer 6v6 - Mixed SUPE
 RRec Division\nGame Type: Postseason\nGame Status: Complete\nHome Team: 2 
 goals 1 cup\nAway Team: MK FC\nHome Score: 3\nAway Score: 2
END:VEVENT
END:VCALENDAR
