BEGIN:VCALENDAR
VERSION:2.0
PRODID:-//EZFacility.com, Inc.//EZL 2.5.5.28621
BEGIN:VEVENT
UID:15938355@ezleagues.ezfacility.com
DTSTAMP:20260424T044009Z
CREATED:20260424T044009Z
DTSTART:20241005T224500Z
DTEND:20241005T234500Z
LOCATION:Premier Sports Court 2
CONTACT:
SUMMARY:RTG Perez VS. Rare Elite 9(Dan)
DESCRIPTION:League Name: 2024 Premier Basketball Boys JV Fall League\nGame 
 Type: Regular\nGame Status: Complete\nHome Team: RTG Perez\nAway Team: Rar
 e Elite 9(Dan)\nHome Score: 40\nAway Score: 63
END:VEVENT
BEGIN:VEVENT
UID:15954363@ezleagues.ezfacility.com
DTSTAMP:20260424T044009Z
CREATED:20260424T044009Z
DTSTART:20241026T193000Z
DTEND:20241026T203000Z
LOCATION:Premier Sports Court 2
CONTACT:
SUMMARY:Rare Elite 9(Dan) VS. Premier Cofield 9 Orange
DESCRIPTION:League Name: 2024 Premier Basketball Boys JV Fall League\nGame 
 Type: Regular\nGame Status: Complete\nHome Team: Rare Elite 9(Dan)\nAway T
 eam: Premier Cofield 9 Orange\nHome Score: 55\nAway Score: 34
END:VEVENT
BEGIN:VEVENT
UID:15964984@ezleagues.ezfacility.com
DTSTAMP:20260424T044009Z
CREATED:20260424T044009Z
DTSTART:20241102T235000Z
DTEND:20241103T005000Z
LOCATION:Premier Sports Court 3
CONTACT:
SUMMARY:Rare Elite 9(Dan) VS. Realize
DESCRIPTION:League Name: 2024 Premier Basketball Boys JV Fall League\nGame 
 Type: Regular\nGame Status: Complete\nHome Team: Rare Elite 9(Dan)\nAway T
 eam: Realize\nHome Score: 39\nAway Score: 38
END:VEVENT
BEGIN:VEVENT
UID:15978428@ezleagues.ezfacility.com
DTSTAMP:20260424T044009Z
CREATED:20260424T044009Z
DTSTART:20241110T203000Z
DTEND:20241110T213000Z
LOCATION:Premier Sports Court 2
CONTACT:
SUMMARY:Spartans Powell VS. Rare Elite 9(Dan)
DESCRIPTION:League Name: 2024 Premier Basketball Boys JV Fall League\nGame 
 Type: Regular\nGame Status: Complete\nHome Team: Spartans Powell\nAway Tea
 m: Rare Elite 9(Dan)\nHome Score: 45\nAway Score: 58
END:VEVENT
END:VCALENDAR
