BEGIN:VCALENDAR
VERSION:2.0
PRODID:-//EZFacility.com, Inc.//EZL 2.5.5.28621
BEGIN:VEVENT
UID:16004698@ezleagues.ezfacility.com
DTSTAMP:20260426T035058Z
CREATED:20260426T035058Z
DTSTART:20241103T200000Z
DTEND:20241103T210000Z
LOCATION:Game Field
CONTACT:Lopez
SUMMARY:Pink Panthers VS. Piranhas
DESCRIPTION:League Name: Fall Youth League U14 Girls\nGame Type: Regular\nG
 ame Status: Complete\nHome Team: Pink Panthers\nAway Team: Piranhas\nHome 
 Score: 5\nAway Score: 2
END:VEVENT
BEGIN:VEVENT
UID:16004703@ezleagues.ezfacility.com
DTSTAMP:20260426T035058Z
CREATED:20260426T035058Z
DTSTART:20241117T200000Z
DTEND:20241117T210000Z
LOCATION:Game Field
CONTACT:Campbell
SUMMARY:Tigers VS. Piranhas
DESCRIPTION:League Name: Fall Youth League U14 Girls\nGame Type: Regular\nG
 ame Status: Complete\nHome Team: Tigers\nAway Team: Piranhas\nHome Score: 
 3\nAway Score: 1
END:VEVENT
BEGIN:VEVENT
UID:16004707@ezleagues.ezfacility.com
DTSTAMP:20260426T035058Z
CREATED:20260426T035058Z
DTSTART:20241124T200000Z
DTEND:20241124T210000Z
LOCATION:Game Field
CONTACT:Campbell
SUMMARY:Piranhas VS. FRFC
DESCRIPTION:League Name: Fall Youth League U14 Girls\nGame Type: Regular\nG
 ame Status: Complete\nHome Team: Piranhas\nAway Team: FRFC\nHome Score: 3\
 nAway Score: 4
END:VEVENT
BEGIN:VEVENT
UID:16004704@ezleagues.ezfacility.com
DTSTAMP:20260426T035058Z
CREATED:20260426T035058Z
DTSTART:20241201T192000Z
DTEND:20241201T202000Z
LOCATION:Game Field
CONTACT:Lopez
SUMMARY:Tigers VS. Piranhas
DESCRIPTION:League Name: Fall Youth League U14 Girls\nGame Type: Regular\nG
 ame Status: Complete\nHome Team: Tigers\nAway Team: Piranhas\nHome Score: 
 5\nAway Score: 3
END:VEVENT
BEGIN:VEVENT
UID:16004708@ezleagues.ezfacility.com
DTSTAMP:20260426T035058Z
CREATED:20260426T035058Z
DTSTART:20241208T192000Z
DTEND:20241208T202000Z
LOCATION:Game Field
CONTACT:Campbell
SUMMARY:FRFC VS. Piranhas
DESCRIPTION:League Name: Fall Youth League U14 Girls\nGame Type: Postseason
 \nGame Status: Complete\nHome Team: FRFC\nAway Team: Piranhas\nHome Score:
  0\nAway Score: 5
END:VEVENT
BEGIN:VEVENT
UID:16007640@ezleagues.ezfacility.com
DTSTAMP:20260426T035058Z
CREATED:20260426T035058Z
DTSTART:20241215T200000Z
DTEND:20241215T210000Z
LOCATION:Game Field
CONTACT:Campbell
SUMMARY:Tigers VS. Piranhas
DESCRIPTION:League Name: Fall Youth League U14 Girls\nGame Type: Postseason
 \nGame Status: Complete\nHome Team: Tigers\nAway Team: Piranhas\nHome Scor
 e: 4\nAway Score: 2
END:VEVENT
END:VCALENDAR
