BEGIN:VCALENDAR
VERSION:2.0
PRODID:-//EZFacility.com, Inc.//EZL 2.5.5.28621
BEGIN:VEVENT
UID:16004457@ezleagues.ezfacility.com
DTSTAMP:20260425T034927Z
CREATED:20260425T034927Z
DTSTART:20241103T220000Z
DTEND:20241103T224000Z
LOCATION:Game Field
CONTACT:Lopez
SUMMARY:Dragon Hawks VS. Electric Dragons
DESCRIPTION:League Name: Fall Youth League U12 Girls\nGame Type: Regular\nG
 ame Status: Complete\nHome Team: Dragon Hawks\nAway Team: Electric Dragons
 \nHome Score: 5\nAway Score: 2
END:VEVENT
BEGIN:VEVENT
UID:16004466@ezleagues.ezfacility.com
DTSTAMP:20260425T034927Z
CREATED:20260425T034927Z
DTSTART:20241117T212000Z
DTEND:20241117T220000Z
LOCATION:Game Field
CONTACT:Campbell
SUMMARY:Dragons VS. Electric Dragons
DESCRIPTION:League Name: Fall Youth League U12 Girls\nGame Type: Regular\nG
 ame Status: Complete\nHome Team: Dragons\nAway Team: Electric Dragons\nHom
 e Score: 2\nAway Score: 5
END:VEVENT
BEGIN:VEVENT
UID:16004469@ezleagues.ezfacility.com
DTSTAMP:20260425T034927Z
CREATED:20260425T034927Z
DTSTART:20241124T220000Z
DTEND:20241124T224000Z
LOCATION:Game Field
CONTACT:Campbell
SUMMARY:The Preppies VS. Electric Dragons
DESCRIPTION:League Name: Fall Youth League U12 Girls\nGame Type: Regular\nG
 ame Status: Complete\nHome Team: The Preppies\nAway Team: Electric Dragons
 \nHome Score: 1\nAway Score: 6
END:VEVENT
BEGIN:VEVENT
UID:16004462@ezleagues.ezfacility.com
DTSTAMP:20260425T034927Z
CREATED:20260425T034927Z
DTSTART:20241201T224000Z
DTEND:20241201T232000Z
LOCATION:Game Field
CONTACT:Lopez
SUMMARY:Electric Dragons VS. Lodi Crushers
DESCRIPTION:League Name: Fall Youth League U12 Girls\nGame Type: Regular\nG
 ame Status: Complete\nHome Team: Electric Dragons\nAway Team: Lodi Crusher
 s\nHome Score: 3\nAway Score: 0
END:VEVENT
BEGIN:VEVENT
UID:16004546@ezleagues.ezfacility.com
DTSTAMP:20260425T034927Z
CREATED:20260425T034927Z
DTSTART:20241208T224000Z
DTEND:20241208T234000Z
LOCATION:Game Field
CONTACT:Campbell
SUMMARY:Electric Dragons VS. Dragons
DESCRIPTION:League Name: Fall Youth League U12 Girls\nGame Type: Postseason
 \nGame Status: Complete\nHome Team: Electric Dragons\nAway Team: Dragons\n
 Home Score: 4\nAway Score: 5
END:VEVENT
BEGIN:VEVENT
UID:16004549@ezleagues.ezfacility.com
DTSTAMP:20260425T034927Z
CREATED:20260425T034927Z
DTSTART:20241218T013000Z
DTEND:20241218T023000Z
LOCATION:Game Field
CONTACT:Flores
SUMMARY:Electric Dragons VS. Lady Dragons
DESCRIPTION:League Name: Fall Youth League U12 Girls\nGame Type: Friendly\n
 Game Status: Complete\nHome Team: Electric Dragons\nAway Team: Lady Dragon
 s\nHome Score: 3\nAway Score: 2
END:VEVENT
END:VCALENDAR
