BEGIN:VCALENDAR
VERSION:2.0
PRODID:-//EZFacility.com, Inc.//EZL 2.5.5.28621
BEGIN:VEVENT
UID:15976892@ezleagues.ezfacility.com
DTSTAMP:20260420T190151Z
CREATED:20260420T190151Z
DTSTART:20241006T210000Z
DTEND:20241006T220000Z
LOCATION:Field 3
CONTACT:
SUMMARY:PSG VS. Monarcas FC
DESCRIPTION:League Name: WS Futbol Sala Sunday Over 32' League Fall 2024\nG
 ame Type: Regular\nGame Status: Complete\nHome Team: PSG\nAway Team: Monar
 cas FC\nHome Score: 8\nAway Score: 8
END:VEVENT
BEGIN:VEVENT
UID:15976902@ezleagues.ezfacility.com
DTSTAMP:20260420T190151Z
CREATED:20260420T190151Z
DTSTART:20241020T210000Z
DTEND:20241020T220000Z
LOCATION:Field 3
CONTACT:
SUMMARY:Prohibido Rendirse VS. PSG
DESCRIPTION:League Name: WS Futbol Sala Sunday Over 32' League Fall 2024\nG
 ame Type: Regular\nGame Status: Complete\nHome Team: Prohibido Rendirse\nA
 way Team: PSG\nHome Score: 12\nAway Score: 5
END:VEVENT
BEGIN:VEVENT
UID:15976913@ezleagues.ezfacility.com
DTSTAMP:20260420T190151Z
CREATED:20260420T190151Z
DTSTART:20241103T220000Z
DTEND:20241103T230000Z
LOCATION:Field 2
CONTACT:
SUMMARY:PSG VS. America FC
DESCRIPTION:League Name: WS Futbol Sala Sunday Over 32' League Fall 2024\nG
 ame Type: Regular\nGame Status: Complete\nHome Team: PSG\nAway Team: Ameri
 ca FC\nHome Score: 7\nAway Score: 15
END:VEVENT
BEGIN:VEVENT
UID:15976909@ezleagues.ezfacility.com
DTSTAMP:20260420T190151Z
CREATED:20260420T190151Z
DTSTART:20241110T210000Z
DTEND:20241110T220000Z
LOCATION:Field 1
CONTACT:
SUMMARY:PSG VS. Barcelona
DESCRIPTION:League Name: WS Futbol Sala Sunday Over 32' League Fall 2024\nG
 ame Type: Regular\nGame Status: Complete\nHome Team: PSG\nAway Team: Barce
 lona\nHome Score: 11\nAway Score: 3
END:VEVENT
BEGIN:VEVENT
UID:15976920@ezleagues.ezfacility.com
DTSTAMP:20260420T190151Z
CREATED:20260420T190151Z
DTSTART:20241117T230000Z
DTEND:20241118T000000Z
LOCATION:Field 3
CONTACT:
SUMMARY:Zacatecas Jrs VS. PSG
DESCRIPTION:League Name: WS Futbol Sala Sunday Over 32' League Fall 2024\nG
 ame Type: Regular\nGame Status: Complete\nHome Team: Zacatecas Jrs\nAway T
 eam: PSG\nHome Score: 15\nAway Score: 14
END:VEVENT
BEGIN:VEVENT
UID:15976917@ezleagues.ezfacility.com
DTSTAMP:20260420T190151Z
CREATED:20260420T190151Z
DTSTART:20241124T220000Z
DTEND:20241124T230000Z
LOCATION:Field 3
CONTACT:
SUMMARY:PSG VS. Prohibido Rendirse
DESCRIPTION:League Name: WS Futbol Sala Sunday Over 32' League Fall 2024\nG
 ame Type: Regular\nGame Status: Complete\nHome Team: PSG\nAway Team: Prohi
 bido Rendirse\nHome Score: 11\nAway Score: 8
END:VEVENT
BEGIN:VEVENT
UID:15976905@ezleagues.ezfacility.com
DTSTAMP:20260420T190151Z
CREATED:20260420T190151Z
DTSTART:20241208T220000Z
DTEND:20241208T230000Z
LOCATION:Field 2
CONTACT:
SUMMARY:PSG VS. Zacatecas Jrs
DESCRIPTION:League Name: WS Futbol Sala Sunday Over 32' League Fall 2024\nG
 ame Type: Regular\nGame Status: Complete\nHome Team: PSG\nAway Team: Zacat
 ecas Jrs\nHome Score: 14\nAway Score: 9
END:VEVENT
BEGIN:VEVENT
UID:15976898@ezleagues.ezfacility.com
DTSTAMP:20260420T190151Z
CREATED:20260420T190151Z
DTSTART:20241215T210000Z
DTEND:20241215T220000Z
LOCATION:Field 3
CONTACT:
SUMMARY:America FC VS. PSG
DESCRIPTION:League Name: WS Futbol Sala Sunday Over 32' League Fall 2024\nG
 ame Type: Regular\nGame Status: Complete\nHome Team: America FC\nAway Team
 : PSG\nHome Score: 9\nAway Score: 13
END:VEVENT
BEGIN:VEVENT
UID:15976894@ezleagues.ezfacility.com
DTSTAMP:20260420T190151Z
CREATED:20260420T190151Z
DTSTART:20241222T220000Z
DTEND:20241222T230000Z
LOCATION:Field 3
CONTACT:
SUMMARY:Barcelona VS. PSG
DESCRIPTION:League Name: WS Futbol Sala Sunday Over 32' League Fall 2024\nG
 ame Type: Regular\nGame Status: Complete\nHome Team: Barcelona\nAway Team:
  PSG\nHome Score: 2\nAway Score: 12
END:VEVENT
BEGIN:VEVENT
UID:15976907@ezleagues.ezfacility.com
DTSTAMP:20260420T190151Z
CREATED:20260420T190151Z
DTSTART:20241229T210000Z
DTEND:20241229T220000Z
LOCATION:Field 2
CONTACT:
SUMMARY:Monarcas FC VS. PSG
DESCRIPTION:League Name: WS Futbol Sala Sunday Over 32' League Fall 2024\nG
 ame Type: Regular\nGame Status: Complete\nHome Team: Monarcas FC\nAway Tea
 m: PSG\nHome Score: 8\nAway Score: 10
END:VEVENT
BEGIN:VEVENT
UID:16217543@ezleagues.ezfacility.com
DTSTAMP:20260420T190151Z
CREATED:20260420T190151Z
DTSTART:20250202T220000Z
DTEND:20250202T230000Z
LOCATION:Field 2
CONTACT:
SUMMARY:PSG VS. America FC
DESCRIPTION:League Name: WS Futbol Sala Sunday Over 32' League Fall 2024\nG
 ame Type: Postseason\nGame Status: Complete\nHome Team: PSG\nAway Team: Am
 erica FC\nHome Score: 6\nAway Score: 10
END:VEVENT
END:VCALENDAR
