BEGIN:VCALENDAR
VERSION:2.0
PRODID:-//EZFacility.com, Inc.//EZL 2.5.5.28621
BEGIN:VEVENT
UID:15935936@ezleagues.ezfacility.com
DTSTAMP:20260422T092130Z
CREATED:20260422T092130Z
DTSTART:20241026T230000Z
DTEND:20241027T000000Z
LOCATION:Court 4.1 (Hybrid)
CONTACT:
SUMMARY:Team 2 VS. Team 5
DESCRIPTION:League Name: League Example-Division 1\nGame Type: Regular\nGam
 e Status: Pending\nHome Team: Team 2\nAway Team: Team 5\n
END:VEVENT
BEGIN:VEVENT
UID:15935940@ezleagues.ezfacility.com
DTSTAMP:20260422T092130Z
CREATED:20260422T092130Z
DTSTART:20241102T220000Z
DTEND:20241102T230000Z
LOCATION:Court 4.1 (Hybrid)
CONTACT:
SUMMARY:Team 2 VS. Team 4
DESCRIPTION:League Name: League Example-Division 1\nGame Type: Regular\nGam
 e Status: Pending\nHome Team: Team 2\nAway Team: Team 4\n
END:VEVENT
BEGIN:VEVENT
UID:15935943@ezleagues.ezfacility.com
DTSTAMP:20260422T092130Z
CREATED:20260422T092130Z
DTSTART:20241109T230000Z
DTEND:20241110T000000Z
LOCATION:Court 4.2 (Hybrid)
CONTACT:
SUMMARY:Team 3 VS. Team 2
DESCRIPTION:League Name: League Example-Division 1\nGame Type: Regular\nGam
 e Status: Pending\nHome Team: Team 3\nAway Team: Team 2\n
END:VEVENT
END:VCALENDAR
