BEGIN:VCALENDAR
VERSION:2.0
PRODID:-//EZFacility.com, Inc.//EZL 2.5.5.28621
BEGIN:VEVENT
UID:15946524@ezleagues.ezfacility.com
DTSTAMP:20260424T044342Z
CREATED:20260424T044342Z
DTSTART:20241002T012000Z
DTEND:20241002T021500Z
LOCATION:Rink 2
CONTACT:
SUMMARY:Trash Pandas VS. Sofa King HC
DESCRIPTION:League Name: Adult Fall 2024  Novice Tuesday\nGame Type: Regula
 r\nGame Status: Complete\nHome Team: Trash Pandas\nAway Team: Sofa King HC
 \nHome Score: 2\nAway Score: 7
END:VEVENT
BEGIN:VEVENT
UID:15957158@ezleagues.ezfacility.com
DTSTAMP:20260424T044342Z
CREATED:20260424T044342Z
DTSTART:20241009T021500Z
DTEND:20241009T031000Z
LOCATION:Rink 2
CONTACT:
SUMMARY:Bud Knights VS. Sofa King HC
DESCRIPTION:League Name: Adult Fall 2024  Novice Tuesday\nGame Type: Regula
 r\nGame Status: Complete\nHome Team: Bud Knights\nAway Team: Sofa King HC\
 nHome Score: 3\nAway Score: 7
END:VEVENT
BEGIN:VEVENT
UID:15957160@ezleagues.ezfacility.com
DTSTAMP:20260424T044342Z
CREATED:20260424T044342Z
DTSTART:20241009T040500Z
DTEND:20241009T050000Z
LOCATION:Rink 2
CONTACT:
SUMMARY:Sofa King HC VS. Project Mayhem
DESCRIPTION:League Name: Adult Fall 2024  Novice Tuesday\nGame Type: Regula
 r\nGame Status: Complete\nHome Team: Sofa King HC\nAway Team: Project Mayh
 em\nHome Score: 2\nAway Score: 3
END:VEVENT
BEGIN:VEVENT
UID:15973363@ezleagues.ezfacility.com
DTSTAMP:20260424T044342Z
CREATED:20260424T044342Z
DTSTART:20241016T021500Z
DTEND:20241016T031000Z
LOCATION:Rink 1
CONTACT:
SUMMARY:Oh Crap VS. Sofa King HC
DESCRIPTION:League Name: Adult Fall 2024  Novice Tuesday\nGame Type: Regula
 r\nGame Status: Complete\nHome Team: Oh Crap\nAway Team: Sofa King HC\nHom
 e Score: 3\nAway Score: 1
END:VEVENT
BEGIN:VEVENT
UID:15987832@ezleagues.ezfacility.com
DTSTAMP:20260424T044342Z
CREATED:20260424T044342Z
DTSTART:20241023T031000Z
DTEND:20241023T040500Z
LOCATION:Rink 1
CONTACT:
SUMMARY:Sofa King HC VS. Storm
DESCRIPTION:League Name: Adult Fall 2024  Novice Tuesday\nGame Type: Regula
 r\nGame Status: Complete\nHome Team: Sofa King HC\nAway Team: Storm\nHome 
 Score: 6\nAway Score: 7
END:VEVENT
BEGIN:VEVENT
UID:16001168@ezleagues.ezfacility.com
DTSTAMP:20260424T044342Z
CREATED:20260424T044342Z
DTSTART:20241030T050000Z
DTEND:20241030T055500Z
LOCATION:Rink 1
CONTACT:
SUMMARY:Fifth Liners VS. Sofa King HC
DESCRIPTION:League Name: Adult Fall 2024  Novice Tuesday\nGame Type: Regula
 r\nGame Status: Complete\nHome Team: Fifth Liners\nAway Team: Sofa King HC
 \nHome Score: 5\nAway Score: 2
END:VEVENT
BEGIN:VEVENT
UID:16013021@ezleagues.ezfacility.com
DTSTAMP:20260424T044342Z
CREATED:20260424T044342Z
DTSTART:20241113T050500Z
DTEND:20241113T060000Z
LOCATION:Rink 2
CONTACT:
SUMMARY:Sofa King HC VS. The Make Believes
DESCRIPTION:League Name: Adult Fall 2024  Novice Tuesday\nGame Type: Regula
 r\nGame Status: Complete\nHome Team: Sofa King HC\nAway Team: The Make Bel
 ieves\nHome Score: 8\nAway Score: 5
END:VEVENT
BEGIN:VEVENT
UID:16013024@ezleagues.ezfacility.com
DTSTAMP:20260424T044342Z
CREATED:20260424T044342Z
DTSTART:20241120T022000Z
DTEND:20241120T031500Z
LOCATION:Rink 1
CONTACT:
SUMMARY:Sofa King HC VS. Leatherheads
DESCRIPTION:League Name: Adult Fall 2024  Novice Tuesday\nGame Type: Regula
 r\nGame Status: Complete\nHome Team: Sofa King HC\nAway Team: Leatherheads
 \nHome Score: 5\nAway Score: 4
END:VEVENT
BEGIN:VEVENT
UID:16013033@ezleagues.ezfacility.com
DTSTAMP:20260424T044342Z
CREATED:20260424T044342Z
DTSTART:20241127T060000Z
DTEND:20241127T065500Z
LOCATION:Rink 1
CONTACT:
SUMMARY:Sofa King HC VS. Trash Pandas
DESCRIPTION:League Name: Adult Fall 2024  Novice Tuesday\nGame Type: Regula
 r\nGame Status: Complete\nHome Team: Sofa King HC\nAway Team: Trash Pandas
 \nHome Score: 3\nAway Score: 11
END:VEVENT
BEGIN:VEVENT
UID:16013041@ezleagues.ezfacility.com
DTSTAMP:20260424T044342Z
CREATED:20260424T044342Z
DTSTART:20241204T060000Z
DTEND:20241204T065500Z
LOCATION:Rink 1
CONTACT:
SUMMARY:Sofa King HC VS. Project Mayhem
DESCRIPTION:League Name: Adult Fall 2024  Novice Tuesday\nGame Type: Regula
 r\nGame Status: Complete\nHome Team: Sofa King HC\nAway Team: Project Mayh
 em\nHome Score: 1\nAway Score: 4
END:VEVENT
BEGIN:VEVENT
UID:16081737@ezleagues.ezfacility.com
DTSTAMP:20260424T044342Z
CREATED:20260424T044342Z
DTSTART:20241218T060000Z
DTEND:20241218T065500Z
LOCATION:Rink 2
CONTACT:
SUMMARY:Fifth Liners VS. Sofa King HC
DESCRIPTION:League Name: Adult Fall 2024  Novice Tuesday\nGame Type: Postse
 ason\nGame Status: Complete\nHome Team: Fifth Liners\nAway Team: Sofa King
  HC\nHome Score: 4\nAway Score: 3
END:VEVENT
END:VCALENDAR
