BEGIN:VCALENDAR
VERSION:2.0
PRODID:-//EZFacility.com, Inc.//EZL 2.5.5.28621
BEGIN:VEVENT
UID:15946527@ezleagues.ezfacility.com
DTSTAMP:20260426T033803Z
CREATED:20260426T033803Z
DTSTART:20241002T050000Z
DTEND:20241002T055500Z
LOCATION:Rink 2
CONTACT:
SUMMARY:Storm VS. Oh Crap
DESCRIPTION:League Name: Adult Fall 2024  Novice Tuesday\nGame Type: Regula
 r\nGame Status: Complete\nHome Team: Storm\nAway Team: Oh Crap\nHome Score
 : 11\nAway Score: 8
END:VEVENT
BEGIN:VEVENT
UID:15957159@ezleagues.ezfacility.com
DTSTAMP:20260426T033803Z
CREATED:20260426T033803Z
DTSTART:20241009T031000Z
DTEND:20241009T040500Z
LOCATION:Rink 2
CONTACT:
SUMMARY:Storm VS. Trash Pandas
DESCRIPTION:League Name: Adult Fall 2024  Novice Tuesday\nGame Type: Regula
 r\nGame Status: Complete\nHome Team: Storm\nAway Team: Trash Pandas\nHome 
 Score: 8\nAway Score: 2
END:VEVENT
BEGIN:VEVENT
UID:15973365@ezleagues.ezfacility.com
DTSTAMP:20260426T033803Z
CREATED:20260426T033803Z
DTSTART:20241016T040500Z
DTEND:20241016T050000Z
LOCATION:Rink 1
CONTACT:
SUMMARY:Storm VS. The Make Believes
DESCRIPTION:League Name: Adult Fall 2024  Novice Tuesday\nGame Type: Regula
 r\nGame Status: Complete\nHome Team: Storm\nAway Team: The Make Believes\n
 Home Score: 8\nAway Score: 5
END:VEVENT
BEGIN:VEVENT
UID:15987832@ezleagues.ezfacility.com
DTSTAMP:20260426T033803Z
CREATED:20260426T033803Z
DTSTART:20241023T031000Z
DTEND:20241023T040500Z
LOCATION:Rink 1
CONTACT:
SUMMARY:Sofa King HC VS. Storm
DESCRIPTION:League Name: Adult Fall 2024  Novice Tuesday\nGame Type: Regula
 r\nGame Status: Complete\nHome Team: Sofa King HC\nAway Team: Storm\nHome 
 Score: 6\nAway Score: 7
END:VEVENT
BEGIN:VEVENT
UID:16001165@ezleagues.ezfacility.com
DTSTAMP:20260426T033803Z
CREATED:20260426T033803Z
DTSTART:20241030T031000Z
DTEND:20241030T040500Z
LOCATION:Rink 2
CONTACT:
SUMMARY:Storm VS. Project Mayhem
DESCRIPTION:League Name: Adult Fall 2024  Novice Tuesday\nGame Type: Regula
 r\nGame Status: Complete\nHome Team: Storm\nAway Team: Project Mayhem\nHom
 e Score: 7\nAway Score: 6
END:VEVENT
BEGIN:VEVENT
UID:16013017@ezleagues.ezfacility.com
DTSTAMP:20260426T033803Z
CREATED:20260426T033803Z
DTSTART:20241106T031500Z
DTEND:20241106T041000Z
LOCATION:Rink 1
CONTACT:
SUMMARY:Leatherheads VS. Storm
DESCRIPTION:League Name: Adult Fall 2024  Novice Tuesday\nGame Type: Regula
 r\nGame Status: Complete\nHome Team: Leatherheads\nAway Team: Storm\nHome 
 Score: 4\nAway Score: 6
END:VEVENT
BEGIN:VEVENT
UID:16013022@ezleagues.ezfacility.com
DTSTAMP:20260426T033803Z
CREATED:20260426T033803Z
DTSTART:20241113T060000Z
DTEND:20241113T065500Z
LOCATION:Rink 2
CONTACT:
SUMMARY:Storm VS. Bud Knights
DESCRIPTION:League Name: Adult Fall 2024  Novice Tuesday\nGame Type: Regula
 r\nGame Status: Complete\nHome Team: Storm\nAway Team: Bud Knights\nHome S
 core: 11\nAway Score: 8
END:VEVENT
BEGIN:VEVENT
UID:16013025@ezleagues.ezfacility.com
DTSTAMP:20260426T033803Z
CREATED:20260426T033803Z
DTSTART:20241120T031500Z
DTEND:20241120T041000Z
LOCATION:Rink 1
CONTACT:
SUMMARY:Storm VS. Fifth Liners
DESCRIPTION:League Name: Adult Fall 2024  Novice Tuesday\nGame Type: Regula
 r\nGame Status: Complete\nHome Team: Storm\nAway Team: Fifth Liners\nHome 
 Score: 3\nAway Score: 4
END:VEVENT
BEGIN:VEVENT
UID:16013031@ezleagues.ezfacility.com
DTSTAMP:20260426T033803Z
CREATED:20260426T033803Z
DTSTART:20241127T060000Z
DTEND:20241127T065500Z
LOCATION:Rink 2
CONTACT:
SUMMARY:Project Mayhem VS. Storm
DESCRIPTION:League Name: Adult Fall 2024  Novice Tuesday\nGame Type: Regula
 r\nGame Status: Complete\nHome Team: Project Mayhem\nAway Team: Storm\nHom
 e Score: 5\nAway Score: 7
END:VEVENT
BEGIN:VEVENT
UID:16013040@ezleagues.ezfacility.com
DTSTAMP:20260426T033803Z
CREATED:20260426T033803Z
DTSTART:20241204T050500Z
DTEND:20241204T060000Z
LOCATION:Rink 2
CONTACT:
SUMMARY:Oh Crap VS. Storm
DESCRIPTION:League Name: Adult Fall 2024  Novice Tuesday\nGame Type: Regula
 r\nGame Status: Complete\nHome Team: Oh Crap\nAway Team: Storm\nHome Score
 : 1\nAway Score: 10
END:VEVENT
BEGIN:VEVENT
UID:16081733@ezleagues.ezfacility.com
DTSTAMP:20260426T033803Z
CREATED:20260426T033803Z
DTSTART:20241211T041000Z
DTEND:20241211T050500Z
LOCATION:Rink 1
CONTACT:
SUMMARY:Storm VS. Winner 4v5
DESCRIPTION:League Name: Adult Fall 2024  Novice Tuesday\nGame Type: Postse
 ason\nGame Status: Rescheduled\nHome Team: Storm\nAway Team: Winner 4v5\n
END:VEVENT
BEGIN:VEVENT
UID:16115136@ezleagues.ezfacility.com
DTSTAMP:20260426T033803Z
CREATED:20260426T033803Z
DTSTART:20241218T041000Z
DTEND:20241218T050500Z
LOCATION:Rink 1
CONTACT:
SUMMARY:Storm VS. Trash Pandas
DESCRIPTION:League Name: Adult Fall 2024  Novice Tuesday\nGame Type: Postse
 ason\nGame Status: Complete\nHome Team: Storm\nAway Team: Trash Pandas\nHo
 me Score: 8\nAway Score: 6
END:VEVENT
BEGIN:VEVENT
UID:16081735@ezleagues.ezfacility.com
DTSTAMP:20260426T033803Z
CREATED:20260426T033803Z
DTSTART:20250108T031500Z
DTEND:20250108T041000Z
LOCATION:Rink 1
CONTACT:
SUMMARY:Storm VS. Project Mayhem
DESCRIPTION:League Name: Adult Fall 2024  Novice Tuesday\nGame Type: Postse
 ason\nGame Status: Complete\nHome Team: Storm\nAway Team: Project Mayhem\n
 Home Score: 6\nAway Score: 4
END:VEVENT
END:VCALENDAR
