BEGIN:VCALENDAR
VERSION:2.0
PRODID:-//EZFacility.com, Inc.//EZL 2.5.5.28621
BEGIN:VEVENT
UID:15954802@ezleagues.ezfacility.com
DTSTAMP:20260426T035036Z
CREATED:20260426T035036Z
DTSTART:20241011T000000Z
DTEND:20241011T004500Z
LOCATION:North Court
CONTACT:
SUMMARY:Spike Protein VS. Pass and Hitties
DESCRIPTION:League Name: Volleyball North Court \nGame Type: Regular\nGame 
 Status: Complete\nHome Team: Spike Protein\nAway Team: Pass and Hitties\nH
 ome Score: 1\nAway Score: 2
END:VEVENT
BEGIN:VEVENT
UID:15954807@ezleagues.ezfacility.com
DTSTAMP:20260426T035036Z
CREATED:20260426T035036Z
DTSTART:20241017T223000Z
DTEND:20241017T231500Z
LOCATION:North Court
CONTACT:
SUMMARY:Physical Terrorists VS. Spike Protein
DESCRIPTION:League Name: Volleyball North Court \nGame Type: Regular\nGame 
 Status: Complete\nHome Team: Physical Terrorists\nAway Team: Spike Protein
 \nHome Score: 2\nAway Score: 0
END:VEVENT
BEGIN:VEVENT
UID:15954811@ezleagues.ezfacility.com
DTSTAMP:20260426T035036Z
CREATED:20260426T035036Z
DTSTART:20241024T223000Z
DTEND:20241024T231500Z
LOCATION:North Court
CONTACT:
SUMMARY:Beach Babes VS. Spike Protein
DESCRIPTION:League Name: Volleyball North Court \nGame Type: Regular\nGame 
 Status: Complete\nHome Team: Beach Babes\nAway Team: Spike Protein\nHome S
 core: 1\nAway Score: 2
END:VEVENT
BEGIN:VEVENT
UID:15954814@ezleagues.ezfacility.com
DTSTAMP:20260426T035036Z
CREATED:20260426T035036Z
DTSTART:20241031T223000Z
DTEND:20241031T231500Z
LOCATION:North Court
CONTACT:
SUMMARY:Spike Protein VS. Bump Bump Bump
DESCRIPTION:League Name: Volleyball North Court \nGame Type: Regular\nGame 
 Status: Complete\nHome Team: Spike Protein\nAway Team: Bump Bump Bump\nHom
 e Score: 0\nAway Score: 2
END:VEVENT
BEGIN:VEVENT
UID:15954825@ezleagues.ezfacility.com
DTSTAMP:20260426T035036Z
CREATED:20260426T035036Z
DTSTART:20241108T014500Z
DTEND:20241108T023000Z
LOCATION:North Court
CONTACT:
SUMMARY:Spike Protein VS. Happy Slappys
DESCRIPTION:League Name: Volleyball North Court \nGame Type: Regular\nGame 
 Status: Complete\nHome Team: Spike Protein\nAway Team: Happy Slappys\nHome
  Score: 0\nAway Score: 2
END:VEVENT
BEGIN:VEVENT
UID:15954820@ezleagues.ezfacility.com
DTSTAMP:20260426T035036Z
CREATED:20260426T035036Z
DTSTART:20241115T001500Z
DTEND:20241115T010000Z
LOCATION:North Court
CONTACT:
SUMMARY:Block Party VS. Spike Protein
DESCRIPTION:League Name: Volleyball North Court \nGame Type: Regular\nGame 
 Status: Complete\nHome Team: Block Party\nAway Team: Spike Protein\nHome S
 core: 2\nAway Score: 0
END:VEVENT
END:VCALENDAR
