BEGIN:VCALENDAR
VERSION:2.0
PRODID:-//EZFacility.com, Inc.//EZL 2.5.5.28621
BEGIN:VEVENT
UID:15955902@ezleagues.ezfacility.com
DTSTAMP:20260426T033556Z
CREATED:20260426T033556Z
DTSTART:20241006T210000Z
DTEND:20241006T220000Z
LOCATION:Field 1
CONTACT:
SUMMARY:TEAM USA VS. SAUCILLO
DESCRIPTION:League Name: COED REC\nGame Type: Regular\nGame Status: Complet
 e\nHome Team: TEAM USA\nAway Team: SAUCILLO\nHome Score: 5\nAway Score: 10
END:VEVENT
BEGIN:VEVENT
UID:15955921@ezleagues.ezfacility.com
DTSTAMP:20260426T033556Z
CREATED:20260426T033556Z
DTSTART:20241013T210000Z
DTEND:20241013T220000Z
LOCATION:Field 1
CONTACT:
SUMMARY:TEAM USA VS. Tower FC
DESCRIPTION:League Name: COED REC\nGame Type: Regular\nGame Status: Complet
 e\nHome Team: TEAM USA\nAway Team: Tower FC\nHome Score: 1\nAway Score: 6
END:VEVENT
BEGIN:VEVENT
UID:15955933@ezleagues.ezfacility.com
DTSTAMP:20260426T033556Z
CREATED:20260426T033556Z
DTSTART:20241021T010000Z
DTEND:20241021T020000Z
LOCATION:Field 1
CONTACT:
SUMMARY:TEAM USA VS. Los Memitos
DESCRIPTION:League Name: COED REC\nGame Type: Regular\nGame Status: Complet
 e\nHome Team: TEAM USA\nAway Team: Los Memitos\nHome Score: 1\nAway Score:
  9
END:VEVENT
BEGIN:VEVENT
UID:15955941@ezleagues.ezfacility.com
DTSTAMP:20260426T033556Z
CREATED:20260426T033556Z
DTSTART:20241027T220000Z
DTEND:20241027T230000Z
LOCATION:Field 2
CONTACT:
SUMMARY:TEAM USA VS. Econo Air
DESCRIPTION:League Name: COED REC\nGame Type: Regular\nGame Status: Complet
 e\nHome Team: TEAM USA\nAway Team: Econo Air\nHome Score: 1\nAway Score: 5
END:VEVENT
BEGIN:VEVENT
UID:15955965@ezleagues.ezfacility.com
DTSTAMP:20260426T033556Z
CREATED:20260426T033556Z
DTSTART:20241103T230000Z
DTEND:20241104T000000Z
LOCATION:Field 1
CONTACT:
SUMMARY:CDL Jrs. VS. TEAM USA
DESCRIPTION:League Name: COED REC\nGame Type: Regular\nGame Status: Complet
 e\nHome Team: CDL Jrs.\nAway Team: TEAM USA\nHome Score: 7\nAway Score: 1
END:VEVENT
BEGIN:VEVENT
UID:15955967@ezleagues.ezfacility.com
DTSTAMP:20260426T033556Z
CREATED:20260426T033556Z
DTSTART:20241111T020000Z
DTEND:20241111T030000Z
LOCATION:Field 2
CONTACT:
SUMMARY:Unatletico De Madrid VS. TEAM USA
DESCRIPTION:League Name: COED REC\nGame Type: Regular\nGame Status: Complet
 e\nHome Team: Unatletico De Madrid\nAway Team: TEAM USA\nHome Score: 6\nAw
 ay Score: 2
END:VEVENT
BEGIN:VEVENT
UID:15955987@ezleagues.ezfacility.com
DTSTAMP:20260426T033556Z
CREATED:20260426T033556Z
DTSTART:20241117T230000Z
DTEND:20241118T000000Z
LOCATION:Field 2
CONTACT:
SUMMARY:TEAM USA VS. CDL
DESCRIPTION:League Name: COED REC\nGame Type: Regular\nGame Status: Complet
 e\nHome Team: TEAM USA\nAway Team: CDL\nHome Score: 4\nAway Score: 4
END:VEVENT
BEGIN:VEVENT
UID:15955995@ezleagues.ezfacility.com
DTSTAMP:20260426T033556Z
CREATED:20260426T033556Z
DTSTART:20241125T020000Z
DTEND:20241125T030000Z
LOCATION:Field 2
CONTACT:
SUMMARY:XOLOS VS. TEAM USA
DESCRIPTION:League Name: COED REC\nGame Type: Regular\nGame Status: Complet
 e\nHome Team: XOLOS\nAway Team: TEAM USA\nHome Score: 1\nAway Score: 8
END:VEVENT
END:VCALENDAR
