BEGIN:VCALENDAR
VERSION:2.0
PRODID:-//EZFacility.com, Inc.//EZL 2.5.5.28621
BEGIN:VEVENT
UID:15955907@ezleagues.ezfacility.com
DTSTAMP:20260423T221742Z
CREATED:20260423T221742Z
DTSTART:20241007T020000Z
DTEND:20241007T030000Z
LOCATION:Field 1
CONTACT:
SUMMARY:FARMERS F.C. VS. Unatletico De Madrid
DESCRIPTION:League Name: COED REC\nGame Type: Regular\nGame Status: Complet
 e\nHome Team: FARMERS F.C.\nAway Team: Unatletico De Madrid\nHome Score: 3
 \nAway Score: 6
END:VEVENT
BEGIN:VEVENT
UID:15955924@ezleagues.ezfacility.com
DTSTAMP:20260423T221742Z
CREATED:20260423T221742Z
DTSTART:20241014T000000Z
DTEND:20241014T010000Z
LOCATION:Field 1
CONTACT:
SUMMARY:Unatletico De Madrid VS. Ultimo Minuto
DESCRIPTION:League Name: COED REC\nGame Type: Regular\nGame Status: Complet
 e\nHome Team: Unatletico De Madrid\nAway Team: Ultimo Minuto\nHome Score: 
 6\nAway Score: 7
END:VEVENT
BEGIN:VEVENT
UID:15955931@ezleagues.ezfacility.com
DTSTAMP:20260423T221742Z
CREATED:20260423T221742Z
DTSTART:20241020T230000Z
DTEND:20241021T000000Z
LOCATION:Field 2
CONTACT:
SUMMARY:Unatletico De Madrid VS. Huskies
DESCRIPTION:League Name: COED REC\nGame Type: Regular\nGame Status: Complet
 e\nHome Team: Unatletico De Madrid\nAway Team: Huskies\nHome Score: 5\nAwa
 y Score: 4
END:VEVENT
BEGIN:VEVENT
UID:15955943@ezleagues.ezfacility.com
DTSTAMP:20260423T221742Z
CREATED:20260423T221742Z
DTSTART:20241028T000000Z
DTEND:20241028T010000Z
LOCATION:Field 1
CONTACT:
SUMMARY:Tower FC VS. Unatletico De Madrid
DESCRIPTION:League Name: COED REC\nGame Type: Regular\nGame Status: Complet
 e\nHome Team: Tower FC\nAway Team: Unatletico De Madrid\nHome Score: 4\nAw
 ay Score: 5
END:VEVENT
BEGIN:VEVENT
UID:15955954@ezleagues.ezfacility.com
DTSTAMP:20260423T221742Z
CREATED:20260423T221742Z
DTSTART:20241104T040000Z
DTEND:20241104T050000Z
LOCATION:Field 1
CONTACT:
SUMMARY:Econo Air VS. Unatletico De Madrid
DESCRIPTION:League Name: COED REC\nGame Type: Regular\nGame Status: Complet
 e\nHome Team: Econo Air\nAway Team: Unatletico De Madrid\nHome Score: 5\nA
 way Score: 4
END:VEVENT
BEGIN:VEVENT
UID:15955967@ezleagues.ezfacility.com
DTSTAMP:20260423T221742Z
CREATED:20260423T221742Z
DTSTART:20241111T020000Z
DTEND:20241111T030000Z
LOCATION:Field 2
CONTACT:
SUMMARY:Unatletico De Madrid VS. TEAM USA
DESCRIPTION:League Name: COED REC\nGame Type: Regular\nGame Status: Complet
 e\nHome Team: Unatletico De Madrid\nAway Team: TEAM USA\nHome Score: 6\nAw
 ay Score: 2
END:VEVENT
BEGIN:VEVENT
UID:15955989@ezleagues.ezfacility.com
DTSTAMP:20260423T221742Z
CREATED:20260423T221742Z
DTSTART:20241118T000000Z
DTEND:20241118T010000Z
LOCATION:Field 2
CONTACT:
SUMMARY:Unatletico De Madrid VS. Coo Lil Team
DESCRIPTION:League Name: COED REC\nGame Type: Regular\nGame Status: Complet
 e\nHome Team: Unatletico De Madrid\nAway Team: Coo Lil Team\nHome Score: 2
 \nAway Score: 10
END:VEVENT
BEGIN:VEVENT
UID:15956000@ezleagues.ezfacility.com
DTSTAMP:20260423T221742Z
CREATED:20260423T221742Z
DTSTART:20241125T000000Z
DTEND:20241125T010000Z
LOCATION:Field 1
CONTACT:
SUMMARY:SAUCILLO VS. Unatletico De Madrid
DESCRIPTION:League Name: COED REC\nGame Type: Regular\nGame Status: Complet
 e\nHome Team: SAUCILLO\nAway Team: Unatletico De Madrid\nHome Score: 9\nAw
 ay Score: 7
END:VEVENT
END:VCALENDAR
