BEGIN:VCALENDAR
VERSION:2.0
PRODID:-//EZFacility.com, Inc.//EZL 2.5.5.28621
BEGIN:VEVENT
UID:16107734@ezleagues.ezfacility.com
DTSTAMP:20260426T033743Z
CREATED:20260426T033743Z
DTSTART:20241214T170000Z
DTEND:20241214T175500Z
LOCATION:Main Field
CONTACT:
SUMMARY:Average Joe's VS. Footie Fellas
DESCRIPTION:League Name: Boys JV (2024/2025)\nGame Type: Regular\nGame Stat
 us: Complete\nHome Team: Average Joe's\nAway Team: Footie Fellas\nHome Sco
 re: 4\nAway Score: 0
END:VEVENT
BEGIN:VEVENT
UID:16107738@ezleagues.ezfacility.com
DTSTAMP:20260426T033743Z
CREATED:20260426T033743Z
DTSTART:20241221T175500Z
DTEND:20241221T185000Z
LOCATION:Main Field
CONTACT:
SUMMARY:YMCA VS. Footie Fellas
DESCRIPTION:League Name: Boys JV (2024/2025)\nGame Type: Regular\nGame Stat
 us: Complete\nHome Team: YMCA\nAway Team: Footie Fellas\nHome Score: 0\nAw
 ay Score: 9
END:VEVENT
BEGIN:VEVENT
UID:16107745@ezleagues.ezfacility.com
DTSTAMP:20260426T033743Z
CREATED:20260426T033743Z
DTSTART:20250104T185000Z
DTEND:20250104T194500Z
LOCATION:Main Field
CONTACT:
SUMMARY:Osborne  VS. Footie Fellas
DESCRIPTION:League Name: Boys JV (2024/2025)\nGame Type: Regular\nGame Stat
 us: Complete\nHome Team: Osborne \nAway Team: Footie Fellas\nHome Score: 1
 0\nAway Score: 5
END:VEVENT
BEGIN:VEVENT
UID:16107749@ezleagues.ezfacility.com
DTSTAMP:20260426T033743Z
CREATED:20260426T033743Z
DTSTART:20250118T175500Z
DTEND:20250118T185000Z
LOCATION:Main Field
CONTACT:
SUMMARY:Footie Fellas VS. Average Joe's
DESCRIPTION:League Name: Boys JV (2024/2025)\nGame Type: Regular\nGame Stat
 us: Complete\nHome Team: Footie Fellas\nAway Team: Average Joe's\nHome Sco
 re: 7\nAway Score: 7
END:VEVENT
BEGIN:VEVENT
UID:16107747@ezleagues.ezfacility.com
DTSTAMP:20260426T033743Z
CREATED:20260426T033743Z
DTSTART:20250120T205500Z
DTEND:20250120T215000Z
LOCATION:Main Field
CONTACT:
SUMMARY:West Cobb United VS. Footie Fellas
DESCRIPTION:League Name: Boys JV (2024/2025)\nGame Type: Regular\nGame Stat
 us: Complete\nHome Team: West Cobb United\nAway Team: Footie Fellas\nHome 
 Score: 0\nAway Score: 13
END:VEVENT
BEGIN:VEVENT
UID:16107753@ezleagues.ezfacility.com
DTSTAMP:20260426T033743Z
CREATED:20260426T033743Z
DTSTART:20250125T175500Z
DTEND:20250125T185000Z
LOCATION:Main Field
CONTACT:
SUMMARY:Footie Fellas VS. YMCA
DESCRIPTION:League Name: Boys JV (2024/2025)\nGame Type: Regular\nGame Stat
 us: Complete\nHome Team: Footie Fellas\nAway Team: YMCA\nHome Score: 4\nAw
 ay Score: 0
END:VEVENT
BEGIN:VEVENT
UID:16107742@ezleagues.ezfacility.com
DTSTAMP:20260426T033743Z
CREATED:20260426T033743Z
DTSTART:20250201T185000Z
DTEND:20250201T194500Z
LOCATION:Main Field
CONTACT:
SUMMARY:Footie Fellas VS. FC Barcelona Bees
DESCRIPTION:League Name: Boys JV (2024/2025)\nGame Type: Regular\nGame Stat
 us: Complete\nHome Team: Footie Fellas\nAway Team: FC Barcelona Bees\nHome
  Score: 4\nAway Score: 0
END:VEVENT
END:VCALENDAR
