BEGIN:VCALENDAR
VERSION:2.0
PRODID:-//EZFacility.com, Inc.//EZL 2.5.5.28621
BEGIN:VEVENT
UID:16001540@ezleagues.ezfacility.com
DTSTAMP:20260420T203330Z
CREATED:20260420T203330Z
DTSTART:20241020T031000Z
DTEND:20241020T040000Z
LOCATION:Large Field
CONTACT:
SUMMARY:Galaxy VS. El Barrio
DESCRIPTION:League Name: Over 30 Co-Ed Fall 2024\nGame Type: Regular\nGame 
 Status: Complete\nHome Team: Galaxy\nAway Team: El Barrio\nHome Score: 8\n
 Away Score: 18
END:VEVENT
BEGIN:VEVENT
UID:16001543@ezleagues.ezfacility.com
DTSTAMP:20260420T203330Z
CREATED:20260420T203330Z
DTSTART:20241103T031000Z
DTEND:20241103T040000Z
LOCATION:Large Field
CONTACT:
SUMMARY:The Subs VS. El Barrio
DESCRIPTION:League Name: Over 30 Co-Ed Fall 2024\nGame Type: Regular\nGame 
 Status: Complete\nHome Team: The Subs\nAway Team: El Barrio\nHome Score: 1
 8\nAway Score: 26
END:VEVENT
BEGIN:VEVENT
UID:16001546@ezleagues.ezfacility.com
DTSTAMP:20260420T203330Z
CREATED:20260420T203330Z
DTSTART:20241110T023000Z
DTEND:20241110T032000Z
LOCATION:Large Field
CONTACT:
SUMMARY:Amigos VS. El Barrio
DESCRIPTION:League Name: Over 30 Co-Ed Fall 2024\nGame Type: Regular\nGame 
 Status: Pending\nHome Team: Amigos\nAway Team: El Barrio\n
END:VEVENT
BEGIN:VEVENT
UID:16001549@ezleagues.ezfacility.com
DTSTAMP:20260420T203330Z
CREATED:20260420T203330Z
DTSTART:20241117T032000Z
DTEND:20241117T041000Z
LOCATION:Large Field
CONTACT:
SUMMARY:El Barrio VS. Just for Kicks
DESCRIPTION:League Name: Over 30 Co-Ed Fall 2024\nGame Type: Regular\nGame 
 Status: Complete\nHome Team: El Barrio\nAway Team: Just for Kicks\nHome Sc
 ore: 23\nAway Score: 11
END:VEVENT
BEGIN:VEVENT
UID:16001554@ezleagues.ezfacility.com
DTSTAMP:20260420T203330Z
CREATED:20260420T203330Z
DTSTART:20241124T041000Z
DTEND:20241124T050000Z
LOCATION:Large Field
CONTACT:
SUMMARY:El Barrio VS. Vino Anejo FC
DESCRIPTION:League Name: Over 30 Co-Ed Fall 2024\nGame Type: Regular\nGame 
 Status: Complete\nHome Team: El Barrio\nAway Team: Vino Anejo FC\nHome Sco
 re: 25\nAway Score: 4
END:VEVENT
BEGIN:VEVENT
UID:16001559@ezleagues.ezfacility.com
DTSTAMP:20260420T203330Z
CREATED:20260420T203330Z
DTSTART:20241201T023000Z
DTEND:20241201T032000Z
LOCATION:Large Field
CONTACT:
SUMMARY:El Barrio VS. Cuervos
DESCRIPTION:League Name: Over 30 Co-Ed Fall 2024\nGame Type: Regular\nGame 
 Status: Complete\nHome Team: El Barrio\nAway Team: Cuervos\nHome Score: 15
 \nAway Score: 15
END:VEVENT
BEGIN:VEVENT
UID:16001564@ezleagues.ezfacility.com
DTSTAMP:20260420T203330Z
CREATED:20260420T203330Z
DTSTART:20241208T032000Z
DTEND:20241208T041000Z
LOCATION:Large Field
CONTACT:
SUMMARY:El Barrio VS. Rochi Fenix
DESCRIPTION:League Name: Over 30 Co-Ed Fall 2024\nGame Type: Regular\nGame 
 Status: Complete\nHome Team: El Barrio\nAway Team: Rochi Fenix\nHome Score
 : 21\nAway Score: 17
END:VEVENT
BEGIN:VEVENT
UID:16001536@ezleagues.ezfacility.com
DTSTAMP:20260420T203330Z
CREATED:20260420T203330Z
DTSTART:20241222T023000Z
DTEND:20241222T032000Z
LOCATION:Large Field
CONTACT:
SUMMARY:Rochi Fenix VS. El Barrio
DESCRIPTION:League Name: Over 30 Co-Ed Fall 2024\nGame Type: Regular\nGame 
 Status: Complete\nHome Team: Rochi Fenix\nAway Team: El Barrio\nHome Score
 : 11\nAway Score: 17
END:VEVENT
BEGIN:VEVENT
UID:16186901@ezleagues.ezfacility.com
DTSTAMP:20260420T203330Z
CREATED:20260420T203330Z
DTSTART:20250119T041000Z
DTEND:20250119T045500Z
LOCATION:Large Field
CONTACT:
SUMMARY:El Barrio VS. Cuervos
DESCRIPTION:League Name: Over 30 Co-Ed Fall 2024\nGame Type: Regular\nGame 
 Status: Complete\nHome Team: El Barrio\nAway Team: Cuervos\nHome Score: 5\
 nAway Score: 10
END:VEVENT
END:VCALENDAR
