BEGIN:VCALENDAR
VERSION:2.0
PRODID:-//EZFacility.com, Inc.//EZL 2.5.5.28621
BEGIN:VEVENT
UID:16345955@ezleagues.ezfacility.com
DTSTAMP:20260426T034930Z
CREATED:20260426T034930Z
DTSTART:20250406T002000Z
DTEND:20250406T012000Z
LOCATION:Soccer Field 2
CONTACT:
SUMMARY:Field United VS. Palatine Pumas
DESCRIPTION:League Name: Mens open Saturday Nights\nGame Type: Regular\nGam
 e Status: Complete\nHome Team: Field United\nAway Team: Palatine Pumas\nHo
 me Score: 5\nAway Score: 3
END:VEVENT
BEGIN:VEVENT
UID:16369412@ezleagues.ezfacility.com
DTSTAMP:20260426T034930Z
CREATED:20260426T034930Z
DTSTART:20250413T020000Z
DTEND:20250413T030000Z
LOCATION:Soccer Field 1
CONTACT:
SUMMARY:Field United VS. Gladiadores
DESCRIPTION:League Name: Mens open Saturday Nights\nGame Type: Regular\nGam
 e Status: Pending\nHome Team: Field United\nAway Team: Gladiadores\n
END:VEVENT
BEGIN:VEVENT
UID:16386895@ezleagues.ezfacility.com
DTSTAMP:20260426T034930Z
CREATED:20260426T034930Z
DTSTART:20250420T013000Z
DTEND:20250420T023000Z
LOCATION:Soccer Field 1
CONTACT:
SUMMARY:Red Camp FC VS. Field United
DESCRIPTION:League Name: Mens open Saturday Nights\nGame Type: Regular\nGam
 e Status: Complete\nHome Team: Red Camp FC\nAway Team: Field United\nHome 
 Score: 5\nAway Score: 8
END:VEVENT
BEGIN:VEVENT
UID:16396523@ezleagues.ezfacility.com
DTSTAMP:20260426T034930Z
CREATED:20260426T034930Z
DTSTART:20250427T023000Z
DTEND:20250427T033000Z
LOCATION:Soccer Field 2
CONTACT:
SUMMARY:Trakas FC VS. Field United
DESCRIPTION:League Name: Mens open Saturday Nights\nGame Type: Regular\nGam
 e Status: Complete\nHome Team: Trakas FC\nAway Team: Field United\nHome Sc
 ore: 1\nAway Score: 0
END:VEVENT
END:VCALENDAR
