BEGIN:VCALENDAR
VERSION:2.0
PRODID:-//EZFacility.com, Inc.//EZL 2.5.5.28621
BEGIN:VEVENT
UID:15967520@ezleagues.ezfacility.com
DTSTAMP:20260423T145934Z
CREATED:20260423T145934Z
DTSTART:20241010T181500Z
DTEND:20241010T190000Z
LOCATION:Pitch 4
CONTACT:
SUMMARY:Week Off VS. Saka Potatoes
DESCRIPTION:League Name: Thursday Premiership\nGame Type: Regular\nGame Sta
 tus: Complete\nHome Team: Week Off\nAway Team: Saka Potatoes\nHome Score: 
 10\nAway Score: 17
END:VEVENT
BEGIN:VEVENT
UID:15967523@ezleagues.ezfacility.com
DTSTAMP:20260423T145934Z
CREATED:20260423T145934Z
DTSTART:20241017T173000Z
DTEND:20241017T181500Z
LOCATION:Pitch 4
CONTACT:
SUMMARY:Crystal Phallus VS. Week Off
DESCRIPTION:League Name: Thursday Premiership\nGame Type: Regular\nGame Sta
 tus: Complete\nHome Team: Crystal Phallus\nAway Team: Week Off\nHome Score
 : 5\nAway Score: 0
END:VEVENT
BEGIN:VEVENT
UID:15967528@ezleagues.ezfacility.com
DTSTAMP:20260423T145934Z
CREATED:20260423T145934Z
DTSTART:20241024T190000Z
DTEND:20241024T194500Z
LOCATION:Pitch 4
CONTACT:
SUMMARY:No FC VS. Week Off
DESCRIPTION:League Name: Thursday Premiership\nGame Type: Regular\nGame Sta
 tus: Complete\nHome Team: No FC\nAway Team: Week Off\nHome Score: 13\nAway
  Score: 9
END:VEVENT
BEGIN:VEVENT
UID:15967533@ezleagues.ezfacility.com
DTSTAMP:20260423T145934Z
CREATED:20260423T145934Z
DTSTART:20241031T183000Z
DTEND:20241031T191500Z
LOCATION:Pitch 4
CONTACT:
SUMMARY:Real Pendle VS. Week Off
DESCRIPTION:League Name: Thursday Premiership\nGame Type: Regular\nGame Sta
 tus: Complete\nHome Team: Real Pendle\nAway Team: Week Off\nHome Score: 20
 \nAway Score: 13
END:VEVENT
BEGIN:VEVENT
UID:15967542@ezleagues.ezfacility.com
DTSTAMP:20260423T145934Z
CREATED:20260423T145934Z
DTSTART:20241107T191500Z
DTEND:20241107T200000Z
LOCATION:Pitch 4
CONTACT:
SUMMARY:Week Off VS. Impy
DESCRIPTION:League Name: Thursday Premiership\nGame Type: Regular\nGame Sta
 tus: Complete\nHome Team: Week Off\nAway Team: Impy\nHome Score: 13\nAway 
 Score: 9
END:VEVENT
BEGIN:VEVENT
UID:15967538@ezleagues.ezfacility.com
DTSTAMP:20260423T145934Z
CREATED:20260423T145934Z
DTSTART:20241114T191500Z
DTEND:20241114T200000Z
LOCATION:Pitch 4
CONTACT:
SUMMARY:Ninja Skrtels VS. Week Off
DESCRIPTION:League Name: Thursday Premiership\nGame Type: Regular\nGame Sta
 tus: Complete\nHome Team: Ninja Skrtels\nAway Team: Week Off\nHome Score: 
 15\nAway Score: 11
END:VEVENT
BEGIN:VEVENT
UID:15967545@ezleagues.ezfacility.com
DTSTAMP:20260423T145934Z
CREATED:20260423T145934Z
DTSTART:20241121T204500Z
DTEND:20241121T213000Z
LOCATION:Pitch 4
CONTACT:
SUMMARY:Week Off VS. The NAP
DESCRIPTION:League Name: Thursday Premiership\nGame Type: Regular\nGame Sta
 tus: Complete\nHome Team: Week Off\nAway Team: The NAP\nHome Score: 0\nAwa
 y Score: 5
END:VEVENT
BEGIN:VEVENT
UID:15967548@ezleagues.ezfacility.com
DTSTAMP:20260423T145934Z
CREATED:20260423T145934Z
DTSTART:20241128T204500Z
DTEND:20241128T213000Z
LOCATION:Pitch 4
CONTACT:
SUMMARY:Saka Potatoes VS. Week Off
DESCRIPTION:League Name: Thursday Premiership\nGame Type: Regular\nGame Sta
 tus: Complete\nHome Team: Saka Potatoes\nAway Team: Week Off\nHome Score: 
 5\nAway Score: 0
END:VEVENT
BEGIN:VEVENT
UID:15967551@ezleagues.ezfacility.com
DTSTAMP:20260423T145934Z
CREATED:20260423T145934Z
DTSTART:20241205T183000Z
DTEND:20241205T191500Z
LOCATION:Pitch 4
CONTACT:
SUMMARY:Week Off VS. Crystal Phallus
DESCRIPTION:League Name: Thursday Premiership\nGame Type: Regular\nGame Sta
 tus: Complete\nHome Team: Week Off\nAway Team: Crystal Phallus\nHome Score
 : 0\nAway Score: 5
END:VEVENT
BEGIN:VEVENT
UID:15967556@ezleagues.ezfacility.com
DTSTAMP:20260423T145934Z
CREATED:20260423T145934Z
DTSTART:20241212T183000Z
DTEND:20241212T191500Z
LOCATION:Pitch 4
CONTACT:
SUMMARY:Week Off VS. No FC
DESCRIPTION:League Name: Thursday Premiership\nGame Type: Regular\nGame Sta
 tus: Complete\nHome Team: Week Off\nAway Team: No FC\nHome Score: 0\nAway 
 Score: 5
END:VEVENT
BEGIN:VEVENT
UID:15967566@ezleagues.ezfacility.com
DTSTAMP:20260423T145934Z
CREATED:20260423T145934Z
DTSTART:20241219T200000Z
DTEND:20241219T204500Z
LOCATION:Pitch 4
CONTACT:
SUMMARY:Week Off VS. Ninja Skrtels
DESCRIPTION:League Name: Thursday Premiership\nGame Type: Regular\nGame Sta
 tus: Complete\nHome Team: Week Off\nAway Team: Ninja Skrtels\nHome Score: 
 0\nAway Score: 5
END:VEVENT
BEGIN:VEVENT
UID:15967570@ezleagues.ezfacility.com
DTSTAMP:20260423T145934Z
CREATED:20260423T145934Z
DTSTART:20241219T204500Z
DTEND:20241219T213000Z
LOCATION:Pitch 4
CONTACT:
SUMMARY:Impy VS. Week Off
DESCRIPTION:League Name: Thursday Premiership\nGame Type: Regular\nGame Sta
 tus: Complete\nHome Team: Impy\nAway Team: Week Off\nHome Score: 5\nAway S
 core: 0
END:VEVENT
BEGIN:VEVENT
UID:15967561@ezleagues.ezfacility.com
DTSTAMP:20260423T145934Z
CREATED:20260423T145934Z
DTSTART:20250116T200000Z
DTEND:20250116T204500Z
LOCATION:Pitch 4
CONTACT:
SUMMARY:Week Off VS. Real Pendle
DESCRIPTION:League Name: Thursday Premiership\nGame Type: Regular\nGame Sta
 tus: Complete\nHome Team: Week Off\nAway Team: Real Pendle\nHome Score: 0\
 nAway Score: 5
END:VEVENT
BEGIN:VEVENT
UID:15967573@ezleagues.ezfacility.com
DTSTAMP:20260423T145934Z
CREATED:20260423T145934Z
DTSTART:20250116T204500Z
DTEND:20250116T213000Z
LOCATION:Pitch 4
CONTACT:
SUMMARY:The NAP VS. Week Off
DESCRIPTION:League Name: Thursday Premiership\nGame Type: Regular\nGame Sta
 tus: Complete\nHome Team: The NAP\nAway Team: Week Off\nHome Score: 5\nAwa
 y Score: 0
END:VEVENT
END:VCALENDAR
