BEGIN:VCALENDAR
VERSION:2.0
PRODID:-//EZFacility.com, Inc.//EZL 2.5.5.28621
BEGIN:VEVENT
UID:15968839@ezleagues.ezfacility.com
DTSTAMP:20260426T035056Z
CREATED:20260426T035056Z
DTSTART:20240929T194500Z
DTEND:20240929T204000Z
LOCATION:PFFC Field House - A
CONTACT:
SUMMARY:Kharku FC Legends  VS. GFC Legends (Blue)
DESCRIPTION:League Name: MSL Fall 2024 - Sunday Men's Div 6 - East\nGame Ty
 pe: Regular\nGame Status: Complete\nHome Team: Kharku FC Legends \nAway Te
 am: GFC Legends (Blue)\nHome Score: 5\nAway Score: 3
END:VEVENT
BEGIN:VEVENT
UID:15968854@ezleagues.ezfacility.com
DTSTAMP:20260426T035056Z
CREATED:20260426T035056Z
DTSTART:20241006T213500Z
DTEND:20241006T223000Z
LOCATION:PFFC Field House - D
CONTACT:
SUMMARY:GFC Legends (Blue) VS. B.O.M.P (White)
DESCRIPTION:League Name: MSL Fall 2024 - Sunday Men's Div 6 - East\nGame Ty
 pe: Regular\nGame Status: Complete\nHome Team: GFC Legends (Blue)\nAway T
 eam: B.O.M.P (White)\nHome Score: 6\nAway Score: 3
END:VEVENT
BEGIN:VEVENT
UID:15968205@ezleagues.ezfacility.com
DTSTAMP:20260426T035056Z
CREATED:20260426T035056Z
DTSTART:20241021T020500Z
DTEND:20241021T030000Z
LOCATION:PFFC Field House - A
CONTACT:
SUMMARY:GFC Legends (Blue) VS. REBEL FC (Blue)
DESCRIPTION:League Name: MSL Fall 2024 - Sunday Men's Div 6 - East\nGame Ty
 pe: Regular\nGame Status: Complete\nHome Team: GFC Legends (Blue)\nAway T
 eam: REBEL FC (Blue)\nHome Score: 5\nAway Score: 4
END:VEVENT
BEGIN:VEVENT
UID:15968241@ezleagues.ezfacility.com
DTSTAMP:20260426T035056Z
CREATED:20260426T035056Z
DTSTART:20241028T030500Z
DTEND:20241028T040000Z
LOCATION:PFFC Dome - 2
CONTACT:
SUMMARY:GFC Legends (Blue) VS. Dad Bods FC 
DESCRIPTION:League Name: MSL Fall 2024 - Sunday Men's Div 6 - East\nGame Ty
 pe: Regular\nGame Status: Complete\nHome Team: GFC Legends (Blue)\nAway T
 eam: Dad Bods FC \nHome Score: 8\nAway Score: 4
END:VEVENT
BEGIN:VEVENT
UID:15968277@ezleagues.ezfacility.com
DTSTAMP:20260426T035056Z
CREATED:20260426T035056Z
DTSTART:20241104T030500Z
DTEND:20241104T040000Z
LOCATION:PFFC Field House - D
CONTACT:
SUMMARY:GFC Legends (Blue) VS. Sink United (Red)
DESCRIPTION:League Name: MSL Fall 2024 - Sunday Men's Div 6 - East\nGame Ty
 pe: Regular\nGame Status: Complete\nHome Team: GFC Legends (Blue)\nAway T
 eam: Sink United (Red)\nHome Score: 0\nAway Score: 2
END:VEVENT
BEGIN:VEVENT
UID:15968312@ezleagues.ezfacility.com
DTSTAMP:20260426T035056Z
CREATED:20260426T035056Z
DTSTART:20241110T232500Z
DTEND:20241111T002000Z
LOCATION:PFFC Field House - C
CONTACT:
SUMMARY:WestCoast FC (Green) VS. GFC Legends (Blue)
DESCRIPTION:League Name: MSL Fall 2024 - Sunday Men's Div 6 - East\nGame Ty
 pe: Regular\nGame Status: Complete\nHome Team: WestCoast FC (Green)\nAway
  Team: GFC Legends (Blue)\nHome Score: 4\nAway Score: 4
END:VEVENT
BEGIN:VEVENT
UID:15968349@ezleagues.ezfacility.com
DTSTAMP:20260426T035056Z
CREATED:20260426T035056Z
DTSTART:20241118T032000Z
DTEND:20241118T041500Z
LOCATION:PFFC Field House - B
CONTACT:
SUMMARY:GFC Legends (Blue) VS. Amigoals (Beige)
DESCRIPTION:League Name: MSL Fall 2024 - Sunday Men's Div 6 - East\nGame Ty
 pe: Regular\nGame Status: Complete\nHome Team: GFC Legends (Blue)\nAway T
 eam: Amigoals (Beige)\nHome Score: 3\nAway Score: 3
END:VEVENT
BEGIN:VEVENT
UID:15968385@ezleagues.ezfacility.com
DTSTAMP:20260426T035056Z
CREATED:20260426T035056Z
DTSTART:20241124T234000Z
DTEND:20241125T003500Z
LOCATION:PFFC Field House - A
CONTACT:
SUMMARY:Unathletico Madrid (Orange) VS. GFC Legends (Blue)
DESCRIPTION:League Name: MSL Fall 2024 - Sunday Men's Div 6 - East\nGame Ty
 pe: Regular\nGame Status: Complete\nHome Team: Unathletico Madrid (Orange
 )\nAway Team: GFC Legends (Blue)\nHome Score: 5\nAway Score: 4
END:VEVENT
BEGIN:VEVENT
UID:15968421@ezleagues.ezfacility.com
DTSTAMP:20260426T035056Z
CREATED:20260426T035056Z
DTSTART:20241202T031000Z
DTEND:20241202T040500Z
LOCATION:PFFC Dome - 3
CONTACT:
SUMMARY:The Goalfathers (Maroon/Black Stripes) VS. GFC Legends (Blue)
DESCRIPTION:League Name: MSL Fall 2024 - Sunday Men's Div 6 - East\nGame Ty
 pe: Regular\nGame Status: Complete\nHome Team: The Goalfathers (Maroon/Bla
 ck Stripes)\nAway Team: GFC Legends (Blue)\nHome Score: 4\nAway Score: 3
END:VEVENT
BEGIN:VEVENT
UID:15968457@ezleagues.ezfacility.com
DTSTAMP:20260426T035056Z
CREATED:20260426T035056Z
DTSTART:20241208T224500Z
DTEND:20241208T234000Z
LOCATION:PFFC Field House - B
CONTACT:
SUMMARY:B.O.M.P (White) VS. GFC Legends (Blue)
DESCRIPTION:League Name: MSL Fall 2024 - Sunday Men's Div 6 - East\nGame Ty
 pe: Regular\nGame Status: Complete\nHome Team: B.O.M.P (White)\nAway Team:
  GFC Legends (Blue)\nHome Score: 3\nAway Score: 5
END:VEVENT
BEGIN:VEVENT
UID:15968493@ezleagues.ezfacility.com
DTSTAMP:20260426T035056Z
CREATED:20260426T035056Z
DTSTART:20241216T041500Z
DTEND:20241216T051000Z
LOCATION:PFFC Field House - A
CONTACT:
SUMMARY:GPW FC (Grey) VS. GFC Legends (Blue)
DESCRIPTION:League Name: MSL Fall 2024 - Sunday Men's Div 6 - East\nGame Ty
 pe: Regular\nGame Status: Complete\nHome Team: GPW FC (Grey)\nAway Team: G
 FC Legends (Blue)\nHome Score: 0\nAway Score: 0
END:VEVENT
BEGIN:VEVENT
UID:15968529@ezleagues.ezfacility.com
DTSTAMP:20260426T035056Z
CREATED:20260426T035056Z
DTSTART:20241222T223000Z
DTEND:20241222T232500Z
LOCATION:PFFC Field House - D
CONTACT:
SUMMARY:GFC Legends (Blue) VS. REBEL FC (Blue)
DESCRIPTION:League Name: MSL Fall 2024 - Sunday Men's Div 6 - East\nGame Ty
 pe: Regular\nGame Status: Complete\nHome Team: GFC Legends (Blue)\nAway T
 eam: REBEL FC (Blue)\nHome Score: 5\nAway Score: 1
END:VEVENT
BEGIN:VEVENT
UID:15968169@ezleagues.ezfacility.com
DTSTAMP:20260426T035056Z
CREATED:20260426T035056Z
DTSTART:20241230T021000Z
DTEND:20241230T030500Z
LOCATION:PFFC Field House - A
CONTACT:
SUMMARY:GFC Legends (Blue) VS. GPW FC (Grey)
DESCRIPTION:League Name: MSL Fall 2024 - Sunday Men's Div 6 - East\nGame Ty
 pe: Regular\nGame Status: Complete\nHome Team: GFC Legends (Blue)\nAway T
 eam: GPW FC (Grey)\nHome Score: 2\nAway Score: 1
END:VEVENT
BEGIN:VEVENT
UID:16131814@ezleagues.ezfacility.com
DTSTAMP:20260426T035056Z
CREATED:20260426T035056Z
DTSTART:20250105T232500Z
DTEND:20250106T002000Z
LOCATION:PFFC Field House - D
CONTACT:
SUMMARY:GFC Legends (Blue) VS. Amigoals (Beige)
DESCRIPTION:League Name: MSL Fall 2024 - Sunday Men's Div 6 - East\nGame Ty
 pe: Postseason\nGame Status: Complete\nHome Team: GFC Legends (Blue)\nAwa
 y Team: Amigoals (Beige)\nHome Score: 2\nAway Score: 0
END:VEVENT
BEGIN:VEVENT
UID:16131823@ezleagues.ezfacility.com
DTSTAMP:20260426T035056Z
CREATED:20260426T035056Z
DTSTART:20250112T234000Z
DTEND:20250113T003500Z
LOCATION:PFFC Field House - A
CONTACT:
SUMMARY:Dad Bods FC  VS. GFC Legends (Blue)
DESCRIPTION:League Name: MSL Fall 2024 - Sunday Men's Div 6 - East\nGame Ty
 pe: Postseason\nGame Status: Complete\nHome Team: Dad Bods FC \nAway Team
 : GFC Legends (Blue)\nHome Score: 2\nAway Score: 1
END:VEVENT
END:VCALENDAR
