BEGIN:VCALENDAR
VERSION:2.0
PRODID:-//EZFacility.com, Inc.//EZL 2.5.5.28621
BEGIN:VEVENT
UID:15970869@ezleagues.ezfacility.com
DTSTAMP:20260424T232338Z
CREATED:20260424T232338Z
DTSTART:20241029T020000Z
DTEND:20241029T024500Z
LOCATION:StFX Stadium Turf 1
CONTACT:
SUMMARY:Currie Cannons VS. Rippin' Tuddies
DESCRIPTION:League Name: 2024-25-Intramural Flag Football-Men's Division\nG
 ame Type: Regular\nGame Status: Complete\nHome Team: Currie Cannons\nAway 
 Team: Rippin' Tuddies\nHome Score: 21\nAway Score: 12
END:VEVENT
BEGIN:VEVENT
UID:15970880@ezleagues.ezfacility.com
DTSTAMP:20260424T232338Z
CREATED:20260424T232338Z
DTSTART:20241104T013000Z
DTEND:20241104T021500Z
LOCATION:StFX Stadium Turf 1
CONTACT:
SUMMARY:Team Tapp VS. Currie Cannons
DESCRIPTION:League Name: 2024-25-Intramural Flag Football-Men's Division\nG
 ame Type: Regular\nGame Status: Complete\nHome Team: Team Tapp\nAway Team:
  Currie Cannons\nHome Score: 28\nAway Score: 6
END:VEVENT
BEGIN:VEVENT
UID:15970891@ezleagues.ezfacility.com
DTSTAMP:20260424T232338Z
CREATED:20260424T232338Z
DTSTART:20241108T011500Z
DTEND:20241108T020000Z
LOCATION:StFX Stadium Turf 3
CONTACT:
SUMMARY:Currie Cannons VS. Waymo Deep
DESCRIPTION:League Name: 2024-25-Intramural Flag Football-Men's Division\nG
 ame Type: Regular\nGame Status: Complete\nHome Team: Currie Cannons\nAway 
 Team: Waymo Deep\nHome Score: 28\nAway Score: 33
END:VEVENT
BEGIN:VEVENT
UID:15970902@ezleagues.ezfacility.com
DTSTAMP:20260424T232338Z
CREATED:20260424T232338Z
DTSTART:20241115T020000Z
DTEND:20241115T024500Z
LOCATION:StFX Stadium Turf 1
CONTACT:
SUMMARY:Bills Mafia VS. Currie Cannons
DESCRIPTION:League Name: 2024-25-Intramural Flag Football-Men's Division\nG
 ame Type: Regular\nGame Status: Complete\nHome Team: Bills Mafia\nAway Tea
 m: Currie Cannons\nHome Score: 39\nAway Score: 18
END:VEVENT
END:VCALENDAR
