BEGIN:VCALENDAR
VERSION:2.0
PRODID:-//EZFacility.com, Inc.//EZL 2.5.5.28621
BEGIN:VEVENT
UID:15970930@ezleagues.ezfacility.com
DTSTAMP:20260425T124951Z
CREATED:20260425T124951Z
DTSTART:20241029T020000Z
DTEND:20241029T024500Z
LOCATION:StFX Stadium Turf 3
CONTACT:
SUMMARY:Mob City VS. Team Baltussen
DESCRIPTION:League Name: 2024-25-Intramural Flag Football-Men's Division\nG
 ame Type: Regular\nGame Status: Complete\nHome Team: Mob City\nAway Team: 
 Team Baltussen\nHome Score: 32\nAway Score: 20
END:VEVENT
BEGIN:VEVENT
UID:15970872@ezleagues.ezfacility.com
DTSTAMP:20260425T124951Z
CREATED:20260425T124951Z
DTSTART:20241106T021500Z
DTEND:20241106T030000Z
LOCATION:StFX Stadium Turf 3
CONTACT:
SUMMARY:Team Baltussen VS. The tush pushers
DESCRIPTION:League Name: 2024-25-Intramural Flag Football-Men's Division\nG
 ame Type: Regular\nGame Status: Complete\nHome Team: Team Baltussen\nAway 
 Team: The tush pushers\nHome Score: 18\nAway Score: 19
END:VEVENT
BEGIN:VEVENT
UID:15970894@ezleagues.ezfacility.com
DTSTAMP:20260425T124951Z
CREATED:20260425T124951Z
DTSTART:20241108T020000Z
DTEND:20241108T024500Z
LOCATION:StFX Stadium Turf 3
CONTACT:
SUMMARY:Team Baltussen VS. The Lads
DESCRIPTION:League Name: 2024-25-Intramural Flag Football-Men's Division\nG
 ame Type: Regular\nGame Status: Complete\nHome Team: Team Baltussen\nAway 
 Team: The Lads\nHome Score: 34\nAway Score: 20
END:VEVENT
BEGIN:VEVENT
UID:15970904@ezleagues.ezfacility.com
DTSTAMP:20260425T124951Z
CREATED:20260425T124951Z
DTSTART:20241115T024500Z
DTEND:20241115T033000Z
LOCATION:StFX Stadium Turf 3
CONTACT:
SUMMARY:Team Baltussen VS. Show us your TD's
DESCRIPTION:League Name: 2024-25-Intramural Flag Football-Men's Division\nG
 ame Type: Regular\nGame Status: Complete\nHome Team: Team Baltussen\nAway 
 Team: Show us your TD's\nHome Score: 0\nAway Score: 14
END:VEVENT
END:VCALENDAR
