BEGIN:VCALENDAR
VERSION:2.0
PRODID:-//EZFacility.com, Inc.//EZL 2.5.5.28621
BEGIN:VEVENT
UID:15981676@ezleagues.ezfacility.com
DTSTAMP:20260426T034809Z
CREATED:20260426T034809Z
DTSTART:20241103T193000Z
DTEND:20241103T203000Z
LOCATION:RCF East - Rio
CONTACT:
SUMMARY:The Wizards VS. Raging Chickens
DESCRIPTION:League Name: Youth League 2024-2025-Winter I 5v5-Boys U9 D2\nGa
 me Type: Regular\nGame Status: Complete\nHome Team: The Wizards\nAway Team
 : Raging Chickens\nHome Score: 4\nAway Score: 3
END:VEVENT
BEGIN:VEVENT
UID:15981687@ezleagues.ezfacility.com
DTSTAMP:20260426T034809Z
CREATED:20260426T034809Z
DTSTART:20241110T185000Z
DTEND:20241110T195000Z
LOCATION:RCF East - Barcelona
CONTACT:
SUMMARY:Real Hillside VS. Raging Chickens
DESCRIPTION:League Name: Youth League 2024-2025-Winter I 5v5-Boys U9 D2\nGa
 me Type: Regular\nGame Status: Complete\nHome Team: Real Hillside\nAway Te
 am: Raging Chickens\nHome Score: 8\nAway Score: 1
END:VEVENT
BEGIN:VEVENT
UID:15981697@ezleagues.ezfacility.com
DTSTAMP:20260426T034809Z
CREATED:20260426T034809Z
DTSTART:20241116T215000Z
DTEND:20241116T225000Z
LOCATION:RCF West - Tigard
CONTACT:
SUMMARY:Raging Chickens VS. RCYFC
DESCRIPTION:League Name: Youth League 2024-2025-Winter I 5v5-Boys U9 D2\nGa
 me Type: Regular\nGame Status: Complete\nHome Team: Raging Chickens\nAway 
 Team: RCYFC\nHome Score: 4\nAway Score: 6
END:VEVENT
BEGIN:VEVENT
UID:15981706@ezleagues.ezfacility.com
DTSTAMP:20260426T034809Z
CREATED:20260426T034809Z
DTSTART:20241124T165000Z
DTEND:20241124T175000Z
LOCATION:RCF East - Barcelona
CONTACT:
SUMMARY:Vancouver VS. Raging Chickens
DESCRIPTION:League Name: Youth League 2024-2025-Winter I 5v5-Boys U9 D2\nGa
 me Type: Regular\nGame Status: Complete\nHome Team: Vancouver\nAway Team: 
 Raging Chickens\nHome Score: 5\nAway Score: 7
END:VEVENT
BEGIN:VEVENT
UID:15981726@ezleagues.ezfacility.com
DTSTAMP:20260426T034809Z
CREATED:20260426T034809Z
DTSTART:20241207T183000Z
DTEND:20241207T193000Z
LOCATION:RCF West - Montevideo
CONTACT:
SUMMARY:Raging Chickens VS. The Wizards
DESCRIPTION:League Name: Youth League 2024-2025-Winter I 5v5-Boys U9 D2\nGa
 me Type: Regular\nGame Status: Complete\nHome Team: Raging Chickens\nAway 
 Team: The Wizards\nHome Score: 5\nAway Score: 4
END:VEVENT
BEGIN:VEVENT
UID:15981747@ezleagues.ezfacility.com
DTSTAMP:20260426T034809Z
CREATED:20260426T034809Z
DTSTART:20241221T193000Z
DTEND:20241221T203000Z
LOCATION:RCF West - Montevideo
CONTACT:
SUMMARY:RCYFC VS. Raging Chickens
DESCRIPTION:League Name: Youth League 2024-2025-Winter I 5v5-Boys U9 D2\nGa
 me Type: Regular\nGame Status: Complete\nHome Team: RCYFC\nAway Team: Ragi
 ng Chickens\nHome Score: 5\nAway Score: 5
END:VEVENT
BEGIN:VEVENT
UID:15981715@ezleagues.ezfacility.com
DTSTAMP:20260426T034809Z
CREATED:20260426T034809Z
DTSTART:20250105T175000Z
DTEND:20250105T185000Z
LOCATION:RCF East - Barcelona
CONTACT:
SUMMARY:Raging Chickens VS. Jet Dragons
DESCRIPTION:League Name: Youth League 2024-2025-Winter I 5v5-Boys U9 D2\nGa
 me Type: Regular\nGame Status: Complete\nHome Team: Raging Chickens\nAway 
 Team: Jet Dragons\nHome Score: 11\nAway Score: 6
END:VEVENT
BEGIN:VEVENT
UID:15981755@ezleagues.ezfacility.com
DTSTAMP:20260426T034809Z
CREATED:20260426T034809Z
DTSTART:20250111T193000Z
DTEND:20250111T203000Z
LOCATION:RCF East - Rio
CONTACT:
SUMMARY:Vancouver VS. Raging Chickens
DESCRIPTION:League Name: Youth League 2024-2025-Winter I 5v5-Boys U9 D2\nGa
 me Type: Regular\nGame Status: Complete\nHome Team: Vancouver\nAway Team: 
 Raging Chickens\nHome Score: 8\nAway Score: 3
END:VEVENT
END:VCALENDAR
