BEGIN:VCALENDAR
VERSION:2.0
PRODID:-//EZFacility.com, Inc.//EZL 2.5.5.28621
BEGIN:VEVENT
UID:15997594@ezleagues.ezfacility.com
DTSTAMP:20260421T000202Z
CREATED:20260421T000202Z
DTSTART:20241108T234500Z
DTEND:20241109T004500Z
LOCATION:Court 2 
CONTACT:
SUMMARY:Coach Katelyn VS. Coach Reggie
DESCRIPTION:League Name: Fall 2 Youth League -Power\nGame Type: Regular\nGa
 me Status: Complete\nHome Team: Coach Katelyn\nAway Team: Coach Reggie\nHo
 me Score: 0\nAway Score: 2
END:VEVENT
BEGIN:VEVENT
UID:15997596@ezleagues.ezfacility.com
DTSTAMP:20260421T000202Z
CREATED:20260421T000202Z
DTSTART:20241115T234500Z
DTEND:20241116T004500Z
LOCATION:Court 2 
CONTACT:
SUMMARY:Coach Katelyn VS. Coach Robb
DESCRIPTION:League Name: Fall 2 Youth League -Power\nGame Type: Regular\nGa
 me Status: Complete\nHome Team: Coach Katelyn\nAway Team: Coach Robb\nHome
  Score: 0\nAway Score: 2
END:VEVENT
BEGIN:VEVENT
UID:15997598@ezleagues.ezfacility.com
DTSTAMP:20260421T000202Z
CREATED:20260421T000202Z
DTSTART:20241122T234500Z
DTEND:20241123T004500Z
LOCATION:Court 2 
CONTACT:
SUMMARY:Coach Katelyn VS. Coach Mel
DESCRIPTION:League Name: Fall 2 Youth League -Power\nGame Type: Regular\nGa
 me Status: Complete\nHome Team: Coach Katelyn\nAway Team: Coach Mel\nHome 
 Score: 0\nAway Score: 2
END:VEVENT
BEGIN:VEVENT
UID:15997602@ezleagues.ezfacility.com
DTSTAMP:20260421T000202Z
CREATED:20260421T000202Z
DTSTART:20241206T234500Z
DTEND:20241207T004500Z
LOCATION:Court 7
CONTACT:
SUMMARY:Coach Robb VS. Coach Katelyn
DESCRIPTION:League Name: Fall 2 Youth League -Power\nGame Type: Regular\nGa
 me Status: Complete\nHome Team: Coach Robb\nAway Team: Coach Katelyn\nHome
  Score: 2\nAway Score: 0
END:VEVENT
BEGIN:VEVENT
UID:15997604@ezleagues.ezfacility.com
DTSTAMP:20260421T000202Z
CREATED:20260421T000202Z
DTSTART:20241213T234500Z
DTEND:20241214T004500Z
LOCATION:Court 7
CONTACT:
SUMMARY:Coach Mel VS. Coach Katelyn
DESCRIPTION:League Name: Fall 2 Youth League -Power\nGame Type: Regular\nGa
 me Status: Complete\nHome Team: Coach Mel\nAway Team: Coach Katelyn\nHome 
 Score: 2\nAway Score: 0
END:VEVENT
END:VCALENDAR
